{"text_format":"1","workbook":"xlsx","n_sheets":9,"sheets":["CST_Urbano","CST_Estrada","FCT_Urbano_Dados","Emissões 6.2.2.1 Urbano","Emissões 6.2.2.2 Urbano","FCT_Estrada_Dados","Emissões 6.2.2.1 Estrada","Emissões 6.2.2.2 Estrada","Sumário & Médias"],"not_rendered":{"charts":0,"images":1,"macros":1,"external_links":0,"defined_names":3,"comments":0,"pivot_tables":0},"unopened":[],"bounds":{"document_bytes":16777216,"sheet_cells":100000,"rows_first":2000,"rows_last":500,"rows_between":2000,"halvings":0,"cell_chars":16384,"cell_head_chars":4096},"cells_cut":0,"cells_raw":0,"read":"whole","date_system":"1900"}

{"sheet":"CST_Urbano","index":0,"n_rows":29,"n_cols":14,"rows_kept":29,"cut":false,"hidden":false,"merged":[[6,6,6,7],[0,1,0,13],[1,1,1,13],[2,1,2,13],[8,1,8,13],[21,0,21,2],[14,1,14,10],[19,0,19,1],[3,0,3,13],[4,0,4,1],[5,0,5,1],[4,2,4,3],[5,2,5,3],[6,2,6,3],[6,0,6,1],[4,4,4,5],[5,4,5,5],[6,4,6,5],[4,6,4,7],[5,6,5,7]]}
[null,"Cálculos de veículos híbridos"]
[null,"Ensaio em carga sustentada no ciclo urbano"]
[null,"    Versão 8"]
["Dados do veículo e do ensaio"]
["id do veículo",null,null,null,"Capacidade do RESS",null,null,null,"Ah"]
["nº do processo",null,null,null,"Vsist1",null,null,null,"V"]
["Combustível do ensaio",null,null,null,"Vsist2",null,null,null,"V"]
[]
[null,"Emissões mássicas e informações dos ciclos"]
[null,"Y(g/ciclo)","Y(g/ciclo)","Y(g/ciclo)","Y(g/ciclo)","Y(g/ciclo)","Y(g/ciclo)","Y(g/ciclo)","Y(g/ciclo)","Y(g/ciclo)","Consumo","D","ΔSOC1","ΔSOC2"]
[null,"CO","HC","NOx","CO2","CH4","NMHC","NMOG","Aldeídos","M.P.","(l/100km)","(km)","(Ah)","(Ah)"]
["CCU1",null,null,null,null,null,null,null,null,null,{"$f":"IFERROR(IF($C$7=\"Diesel\",((0.8656*C12/L12)+(0.4288*B12/L12)+(0.2729*E12/L12))*(0.1155/0.83),((0.8656*C12/L12)+(0.4288*B12/L12)+(0.2729*E12/L12))*(100/((6.4487*VLOOKUP($C$7,Combustíveis,4,FALSE))+(4.1102*VLOOKUP($C$7,Combustíveis,3,FALSE))))),\"\")","v":""}]
["CCU2",null,null,null,null,null,null,null,null,null,{"$f":"IFERROR(IF($C$7=\"Diesel\",((0.8656*C13/L13)+(0.4288*B13/L13)+(0.2729*E13/L13))*(0.1155/0.83),((0.8656*C13/L13)+(0.4288*B13/L13)+(0.2729*E13/L13))*(100/((6.4487*VLOOKUP($C$7,Combustíveis,4,FALSE))+(4.1102*VLOOKUP($C$7,Combustíveis,3,FALSE))))),\"\")","v":""}]
[]
[null,"Resultado das emissões"]
[null,"CO","HC","NOx","CO2","CH4","NMHC","NMOG","Aldeídos","M.P.","Consumo"]
[null,"(g/km)","(g/km)","(g/km)","(g/km)","(g/km)","(g/km)","(g/km)","(g/km)","(g/km)","(l/100km)"]
["YCST",{"$f":"IFERROR(0.43*(B12/$L$12)+0.57*(B13/$L$13),\"\")","v":""},{"$f":"IFERROR(0.43*(C12/$L$12)+0.57*(C13/$L$13),\"\")","v":""},"","","","","","","",{"$f":"IFERROR(0.43*K12+0.57*K13,\"\")","v":""}]
[]
["Auton. Urbana(km/l)",null,{"$f":"IFERROR(POWER(K18,-1)*100,\"\")","v":""}]
[]
["Verificação do NEC",null,null,null,"Item 3.1.1 b)",{"$f":"IF(ISNUMBER(B28),(G5*G6*3600)/B28,\"\")","v":""},"> 2%"]
["ΔSOC1",{"$f":"IF(OR(ISNUMBER(M12),ISNUMBER(M13)),M12+M13,\"\")","v":""},"Ah"]
["ΔSOC2",{"$f":"IF(OR(ISNUMBER(N12),ISNUMBER(N13)),N12+N13,\"\")","v":""},"Ah"]
["Δenergia",{"$f":"ABS(IF(AND(ISNUMBER(B23),ISNUMBER(G6)),B23*G6*3600,0)+IF(AND(ISNUMBER(B24),ISNUMBER(G7)),B24*G7*3600,0))","v":0},"J"]
["NHVcomb.",{"$f":"IFERROR(VLOOKUP(C7,Combustíveis,5,FALSE)*1000000,\"\")","v":""},"J/kg"]
["mcomb.",{"$f":"IFERROR((K18*(L12+L13)*VLOOKUP(C7,Combustíveis,6,FALSE))/100,\"\")","v":""},"kg"]
["Etc",{"$f":"IFERROR(B26*B27,\"\")","v":""},"J"]
["NEC",{"$f":"IFERROR(IF(B25/B28<0.01,\"OK\",\"NOK\"),\"\")","v":""},"OK/NOK"]

{"sheet":"CST_Estrada","index":1,"n_rows":29,"n_cols":11,"rows_kept":29,"cut":false,"hidden":false,"merged":[[21,0,21,2],[6,4,6,5],[6,6,6,7],[13,1,13,6],[8,1,8,10],[18,0,18,1],[19,0,19,1],[0,1,0,13],[1,1,1,13],[2,1,2,13],[3,0,3,13],[4,0,4,1],[4,2,4,3],[4,4,4,5],[4,6,4,7],[5,0,5,1],[5,2,5,3],[5,4,5,5],[5,6,5,7],[6,0,6,1],[6,2,6,3]]}
[null,"Cálculos de veículos híbridos"]
[null,"Ensaio em carga sustentada no ciclo estrada"]
[null,"    Versão 8"]
["Dados do veículo e do ensaio"]
["id do veículo",null,{"$f":"IF(ISBLANK(CST_Urbano!C5),\"\",CST_Urbano!C5)","v":""},null,"Capacidade do RESS",null,{"$f":"IF(ISBLANK(CST_Urbano!G5),\"\",CST_Urbano!G5)","v":""},null,"Ah"]
["nº do processo",null,{"$f":"IF(ISBLANK(CST_Urbano!C6),\"\",CST_Urbano!C6)","v":""},null,"Vsist1",null,{"$f":"IF(ISBLANK(CST_Urbano!G6),\"\",CST_Urbano!G6)","v":""},null,"V"]
["Combustível do ensaio",null,{"$f":"IF(ISBLANK(CST_Urbano!C7),\"\",CST_Urbano!C7)","v":""},null,"Vsist2",null,{"$f":"IF(ISBLANK(CST_Urbano!G7),\"\",CST_Urbano!G7)","v":""},null,"V"]
[]
[null,"Emissões mássicas e informações do ciclo"]
[null,"Y(g/ciclo)","Y(g/ciclo)","Y(g/ciclo)","Y(g/ciclo)","Y(g/ciclo)","Y(g/ciclo)","D","Consumo","ΔSOC1","ΔSOC2"]
[null,"CO","HC","NOx","CO2","CH4","NMHC","(km)","(l/100km)","(Ah)","(Ah)"]
["CCE2",null,null,null,null,null,null,null,{"$f":"IFERROR(IF($C$7=\"Diesel\",((0.8656*$C$12/H12)+(0.4288*$B$12/H12)+(0.2729*$E$12/H12))*(0.1155/0.83),((0.8656*$C$12/H12)+(0.4288*$B$12/H12)+(0.2729*$E$12/H12))*(100/((6.4487*VLOOKUP($C$7,Combustíveis,4,FALSE))+(4.1102*VLOOKUP($C$7,Combustíveis,3,FALSE))))),\"\")","v":""}]
[]
[null,"Resultado das emissões"]
[null,"CO","HC","NOx","CO2","CH4","NMHC"]
[null,"(g/km)","(g/km)","(g/km)","(g/km)","(g/km)","(g/km)"]
["YCST",{"$f":"IFERROR(B12/$H$12,\"\")","v":""},{"$f":"IFERROR(C12/$H$12,\"\")","v":""},"","","",""]
[]
["Auton. Estrada(km/l)",null,{"$f":"IFERROR(POWER(I12,-1)*100,\"\")","v":""}]
["Auton. Comb.(km/l)",null,{"$f":"IFERROR(1/((0.55/CST_Urbano!C20)+(0.45/CST_Estrada!C19)),\"\")","v":""}]
[]
["Verificação do NEC",null,null,null,"Item 3.1.1 b)",{"$f":"IF(ISNUMBER(B28),(CST_Urbano!G5*CST_Urbano!G6*3600)/B28,\"\")","v":""},"> 2%"]
["ΔSOC1",{"$f":"IF(ISNUMBER(J12),J12,\"\")","v":""},"Ah"]
["ΔSOC2",{"$f":"IF(ISNUMBER(K12),K12,\"\")","v":""},"Ah"]
["Δenergia",{"$f":"ABS(IF(AND(ISNUMBER(B23),ISNUMBER(CST_Urbano!G6)),(B23*CST_Urbano!G6*3600),0)+IF(AND(ISNUMBER(B24),ISNUMBER(CST_Urbano!G7)),(B24*CST_Urbano!G7*3600),0))","v":0},"J"]
["NHVcomb.",{"$f":"IFERROR(VLOOKUP($C$7,Combustíveis,5,FALSE)*1000000,\"\")","v":""},"J/kg"]
["mcomb.",{"$f":"IFERROR((H12*I12*VLOOKUP(C7,Combustíveis,6,FALSE))/100,\"\")","v":""},"kg"]
["Etc",{"$f":"IFERROR(B26*B27,\"\")","v":""},"J"]
["NEC",{"$f":"IFERROR(IF(B25/B28<0.01,\"OK\",\"NOK\"),\"\")","v":""},"OK/NOK"]

{"sheet":"FCT_Urbano_Dados","index":2,"n_rows":71,"n_cols":19,"rows_kept":71,"cut":false,"hidden":false,"merged":[[0,1,0,18],[1,1,1,18],[8,0,8,13],[9,0,9,1],[9,9,9,10],[9,6,9,7],[9,11,9,12],[9,2,9,4],[4,0,4,1],[4,2,4,3],[4,4,4,5],[4,6,4,7],[6,0,6,1],[6,2,6,3],[6,4,6,5],[6,6,6,7],[14,14,14,18],[12,4,12,5],[12,9,12,10],[12,6,12,7],[12,11,12,12],[12,14,12,18],[14,0,14,13],[11,0,11,18],[2,1,2,13],[2,14,2,18],[5,0,5,1],[5,2,5,3],[5,4,5,5],[5,6,5,7],[3,0,3,18]]}
[null,"Cálculos de veículos híbridos"]
[null,"Dados dos ensaios em redução de carga no ciclo urbano"]
[null,"    Versão 8"]
["Dados do veículo e do ensaio"]
["id do veículo",null,{"$f":"IF(ISBLANK(CST_Urbano!C5),\"\",CST_Urbano!C5)","v":""},null,"Capacidade do RESS",null,{"$f":"IF(ISBLANK(CST_Urbano!G5),\"\",CST_Urbano!G5)","v":""},null,"Ah"]
["nº do processo",null,{"$f":"IF(ISBLANK(CST_Urbano!C6),\"\",CST_Urbano!C6)","v":""},null,"Vsist1",null,{"$f":"IF(ISBLANK(CST_Urbano!G6),\"\",CST_Urbano!G6)","v":""},null,"V"]
["Combustível do ensaio",null,{"$f":"IF(ISBLANK(CST_Urbano!C7),\"\",CST_Urbano!C7)","v":""},null,"Vsist2",null,{"$f":"IF(ISBLANK(CST_Urbano!G7),\"\",CST_Urbano!G7)","v":""},null,"V"]
[]
["Dados Complementares do FCT"]
["Critério EOT",null,null,null,null,"EAC total",null,null,"Wh","AER",null,null,null,"km"]
[]
["Cálculos intermediários no regime de redução de carga"]
["n",{"$f":"SUMIF(S18:S71,\"n\",A18:A71)","v":0},"Zn",null,"RCDC:",null,null,null,"km","RCDA:",null,null,null,"km"]
[]
["Dados de emissão mássica, distâncias e balanço de carga do FCT urbano",null,null,null,null,null,null,null,null,null,null,null,null,null,"Verificação de EOT"]
["Nº Ciclo","Y(g/ciclo)","Y(g/ciclo)","Y(g/ciclo)","Y(g/ciclo)","Y(g/ciclo)","Y(g/ciclo)","D","Vinicial","Vfinal","ΔSOC","SOCinicial","SOCfinal","SOCfinal","EDCi","Consumo","Etc","NEC","Tipo de"]
[null,"CO","HC","NOx","CO2","CH4","NMHC","(km)","(V)","(V)","(Ah)","(Ah)","(Ah)","(%)","(Wh)","(l/100km)","(J)","(J)","ciclo"]
[{"$f":"IF(OR(ISBLANK(B18),ISBLANK(C18),ISBLANK(D18),ISBLANK(E18),ISBLANK(F18),ISBLANK(G18),ISBLANK(H18),ISBLANK(I18),ISBLANK(J18),ISBLANK(K18),ISBLANK(G5)),\"\",1)","v":""},null,null,null,null,null,null,null,null,null,null,{"$f":"IF(ISBLANK(G5),\"\",IF(ISNUMBER(A18),G5,\"\"))","v":""},{"$f":"IF(ISBLANK(K18),\"\",IFERROR(L18+K18,\"\"))","v":""},{"$f":"IF(ISNUMBER(A18),IFERROR((M18*100)/$G$5,\"\"),\"\")","v":""},{"$f":"IFERROR(K18*AVERAGE(I18:J18),\"\")","v":""},{"$f":"IFERROR(IF($C$7=\"Diesel\",((0.8656*C18/H18)+(0.4288*B18/H18)+(0.2729*E18/H18))*(0.1155/0.83),((0.8656*C18/H18)+(0.4288*B18/H18)+(0.2729*E18/H18))*(100/((6.4487*VLOOKUP($C$7,Combustíveis,4,FALSE))+(4.1102*VLOOKUP($C$7,Combustíveis,3,FALSE))))),\"\")","v":""},{"$f":"IFERROR(((H18*P18*VLOOKUP($C$7,Combustíveis,6,FALSE))/100)*(VLOOKUP($C$7,Combustíveis,5,FALSE)*1000000),\"\")","v":""},{"$f":"IF(ISNUMBER(A18),0,\"\")","v":""}]
[{"$f":"IF(OR(ISBLANK(B19),ISBLANK(C19),ISBLANK(D19),ISBLANK(E19),ISBLANK(F19),ISBLANK(G19),ISBLANK(H19),ISBLANK(I19),ISBLANK(J19),ISBLANK(K19)),\"\",IFERROR(A18+1,\"\"))","v":""},null,null,null,null,null,null,null,null,null,null,{"$f":"IF(OR(ISBLANK(M18),ISBLANK(K19)),\"\",IFERROR(M18,\"\"))","v":""},{"$f":"IF(ISBLANK(K19),\"\",IFERROR(L19+K19,\"\"))","v":""},{"$f":"IF(ISNUMBER(A19),IFERROR((M19*100)/$G$5,\"\"),\"\")","v":""},"","","",{"$f":"IF(ISNUMBER(A19),IFERROR(IF($C$10=\"Consumo de Combustível\",0.01*Q19,IF($C$10=\"Consumo de Combustível no CST\",0.005*CST_Urbano!$B$28,IF($C$10=\"Base ΔSOC\",ABS(SUM($K$18:K19))*0.02*3600*$G$6,\"\"))),\"\"),\"\")","v":""}]
[{"$f":"IF(OR(ISBLANK(B20),ISBLANK(C20),ISBLANK(D20),ISBLANK(E20),ISBLANK(F20),ISBLANK(G20),ISBLANK(H20),ISBLANK(I20),ISBLANK(J20),ISBLANK(K20)),\"\",IFERROR(A19+1,\"\"))","v":""},null,null,null,null,null,null,null,null,null,null,{"$f":"IF(OR(ISBLANK(M19),ISBLANK(K20)),\"\",IFERROR(M19,\"\"))","v":""},{"$f":"IF(ISBLANK(K20),\"\",IFERROR(L20+K20,\"\"))","v":""},"","","","",{"$f":"IF(ISNUMBER(A20),IFERROR(IF($C$10=\"Consumo de Combustível\",0.01*Q20,IF($C$10=\"Consumo de Combustível no CST\",0.005*CST_Urbano!$B$28,IF($C$10=\"Base ΔSOC\",ABS(SUM($K$18:K20))*0.02*3600*$G$6,\"\"))),\"\"),\"\")","v":""}]
["",null,null,null,null,null,null,null,null,null,null,"","","","","","",{"$f":"IF(ISNUMBER(A21),IFERROR(IF($C$10=\"Consumo de Combustível\",0.01*Q21,IF($C$10=\"Consumo de Combustível no CST\",0.005*CST_Urbano!$B$28,IF($C$10=\"Base ΔSOC\",ABS(SUM($K$18:K21))*0.02*3600*$G$6,\"\"))),\"\"),\"\")","v":""}]
["",null,null,null,null,null,null,null,null,null,null,"","","","","","",{"$f":"IF(ISNUMBER(A22),IFERROR(IF($C$10=\"Consumo de Combustível\",0.01*Q22,IF($C$10=\"Consumo de Combustível no CST\",0.005*CST_Urbano!$B$28,IF($C$10=\"Base ΔSOC\",ABS(SUM($K$18:K22))*0.02*3600*$G$6,\"\"))),\"\"),\"\")","v":""}]
["",null,null,null,null,null,null,null,null,null,null,"","","","","","",{"$f":"IF(ISNUMBER(A23),IFERROR(IF($C$10=\"Consumo de Combustível\",0.01*Q23,IF($C$10=\"Consumo de Combustível no CST\",0.005*CST_Urbano!$B$28,IF($C$10=\"Base ΔSOC\",ABS(SUM($K$18:K23))*0.02*3600*$G$6,\"\"))),\"\"),\"\")","v":""}]
["",null,null,null,null,null,null,null,null,null,null,"","","","","","",{"$f":"IF(ISNUMBER(A24),IFERROR(IF($C$10=\"Consumo de Combustível\",0.01*Q24,IF($C$10=\"Consumo de Combustível no CST\",0.005*CST_Urbano!$B$28,IF($C$10=\"Base ΔSOC\",ABS(SUM($K$18:K24))*0.02*3600*$G$6,\"\"))),\"\"),\"\")","v":""}]
["",null,null,null,null,null,null,null,null,null,null,"","","","","","",{"$f":"IF(ISNUMBER(A25),IFERROR(IF($C$10=\"Consumo de Combustível\",0.01*Q25,IF($C$10=\"Consumo de Combustível no CST\",0.005*CST_Urbano!$B$28,IF($C$10=\"Base ΔSOC\",ABS(SUM($K$18:K25))*0.02*3600*$G$6,\"\"))),\"\"),\"\")","v":""}]
["",null,null,null,null,null,null,null,null,null,null,"","","","","","",{"$f":"IF(ISNUMBER(A26),IFERROR(IF($C$10=\"Consumo de Combustível\",0.01*Q26,IF($C$10=\"Consumo de Combustível no CST\",0.005*CST_Urbano!$B$28,IF($C$10=\"Base ΔSOC\",ABS(SUM($K$18:K26))*0.02*3600*$G$6,\"\"))),\"\"),\"\")","v":""}]
["",null,null,null,null,null,null,null,null,null,null,"","","","","","",{"$f":"IF(ISNUMBER(A27),IFERROR(IF($C$10=\"Consumo de Combustível\",0.01*Q27,IF($C$10=\"Consumo de Combustível no CST\",0.005*CST_Urbano!$B$28,IF($C$10=\"Base ΔSOC\",ABS(SUM($K$18:K27))*0.02*3600*$G$6,\"\"))),\"\"),\"\")","v":""}]
["",null,null,null,null,null,null,null,null,null,null,"","","","","","",{"$f":"IF(ISNUMBER(A28),IFERROR(IF($C$10=\"Consumo de Combustível\",0.01*Q28,IF($C$10=\"Consumo de Combustível no CST\",0.005*CST_Urbano!$B$28,IF($C$10=\"Base ΔSOC\",ABS(SUM($K$18:K28))*0.02*3600*$G$6,\"\"))),\"\"),\"\")","v":""}]
["",null,null,null,null,null,null,null,null,null,null,"","","","","","",{"$f":"IF(ISNUMBER(A29),IFERROR(IF($C$10=\"Consumo de Combustível\",0.01*Q29,IF($C$10=\"Consumo de Combustível no CST\",0.005*CST_Urbano!$B$28,IF($C$10=\"Base ΔSOC\",ABS(SUM($K$18:K29))*0.02*3600*$G$6,\"\"))),\"\"),\"\")","v":""}]
["",null,null,null,null,null,null,null,null,null,null,"","","","","","",{"$f":"IF(ISNUMBER(A30),IFERROR(IF($C$10=\"Consumo de Combustível\",0.01*Q30,IF($C$10=\"Consumo de Combustível no CST\",0.005*CST_Urbano!$B$28,IF($C$10=\"Base ΔSOC\",ABS(SUM($K$18:K30))*0.02*3600*$G$6,\"\"))),\"\"),\"\")","v":""}]
["",null,null,null,null,null,null,null,null,null,null,"","","","","","",{"$f":"IF(ISNUMBER(A31),IFERROR(IF($C$10=\"Consumo de Combustível\",0.01*Q31,IF($C$10=\"Consumo de Combustível no CST\",0.005*CST_Urbano!$B$28,IF($C$10=\"Base ΔSOC\",ABS(SUM($K$18:K31))*0.02*3600*$G$6,\"\"))),\"\"),\"\")","v":""}]
["",null,null,null,null,null,null,null,null,null,null,"","","","","","",{"$f":"IF(ISNUMBER(A32),IFERROR(IF($C$10=\"Consumo de Combustível\",0.01*Q32,IF($C$10=\"Consumo de Combustível no CST\",0.005*CST_Urbano!$B$28,IF($C$10=\"Base ΔSOC\",ABS(SUM($K$18:K32))*0.02*3600*$G$6,\"\"))),\"\"),\"\")","v":""}]
["",null,null,null,null,null,null,null,null,null,null,"","","","","","",{"$f":"IF(ISNUMBER(A33),IFERROR(IF($C$10=\"Consumo de Combustível\",0.01*Q33,IF($C$10=\"Consumo de Combustível no CST\",0.005*CST_Urbano!$B$28,IF($C$10=\"Base ΔSOC\",ABS(SUM($K$18:K33))*0.02*3600*$G$6,\"\"))),\"\"),\"\")","v":""}]
["",null,null,null,null,null,null,null,null,null,null,"","","","","","",{"$f":"IF(ISNUMBER(A34),IFERROR(IF($C$10=\"Consumo de Combustível\",0.01*Q34,IF($C$10=\"Consumo de Combustível no CST\",0.005*CST_Urbano!$B$28,IF($C$10=\"Base ΔSOC\",ABS(SUM($K$18:K34))*0.02*3600*$G$6,\"\"))),\"\"),\"\")","v":""}]
["",null,null,null,null,null,null,null,null,null,null,"","","","","","",{"$f":"IF(ISNUMBER(A35),IFERROR(IF($C$10=\"Consumo de Combustível\",0.01*Q35,IF($C$10=\"Consumo de Combustível no CST\",0.005*CST_Urbano!$B$28,IF($C$10=\"Base ΔSOC\",ABS(SUM($K$18:K35))*0.02*3600*$G$6,\"\"))),\"\"),\"\")","v":""}]
["",null,null,null,null,null,null,null,null,null,null,"","","","","","",{"$f":"IF(ISNUMBER(A36),IFERROR(IF($C$10=\"Consumo de Combustível\",0.01*Q36,IF($C$10=\"Consumo de Combustível no CST\",0.005*CST_Urbano!$B$28,IF($C$10=\"Base ΔSOC\",ABS(SUM($K$18:K36))*0.02*3600*$G$6,\"\"))),\"\"),\"\")","v":""}]
["",null,null,null,null,null,null,null,null,null,null,"","","","","","",{"$f":"IF(ISNUMBER(A37),IFERROR(IF($C$10=\"Consumo de Combustível\",0.01*Q37,IF($C$10=\"Consumo de Combustível no CST\",0.005*CST_Urbano!$B$28,IF($C$10=\"Base ΔSOC\",ABS(SUM($K$18:K37))*0.02*3600*$G$6,\"\"))),\"\"),\"\")","v":""}]
["",null,null,null,null,null,null,null,null,null,null,"","","","","","",{"$f":"IF(ISNUMBER(A38),IFERROR(IF($C$10=\"Consumo de Combustível\",0.01*Q38,IF($C$10=\"Consumo de Combustível no CST\",0.005*CST_Urbano!$B$28,IF($C$10=\"Base ΔSOC\",ABS(SUM($K$18:K38))*0.02*3600*$G$6,\"\"))),\"\"),\"\")","v":""}]
["",null,null,null,null,null,null,null,null,null,null,"","","","","","",{"$f":"IF(ISNUMBER(A39),IFERROR(IF($C$10=\"Consumo de Combustível\",0.01*Q39,IF($C$10=\"Consumo de Combustível no CST\",0.005*CST_Urbano!$B$28,IF($C$10=\"Base ΔSOC\",ABS(SUM($K$18:K39))*0.02*3600*$G$6,\"\"))),\"\"),\"\")","v":""}]
["",null,null,null,null,null,null,null,null,null,null,"","","","","","",{"$f":"IF(ISNUMBER(A40),IFERROR(IF($C$10=\"Consumo de Combustível\",0.01*Q40,IF($C$10=\"Consumo de Combustível no CST\",0.005*CST_Urbano!$B$28,IF($C$10=\"Base ΔSOC\",ABS(SUM($K$18:K40))*0.02*3600*$G$6,\"\"))),\"\"),\"\")","v":""}]
["",null,null,null,null,null,null,null,null,null,null,"","","","","","",{"$f":"IF(ISNUMBER(A41),IFERROR(IF($C$10=\"Consumo de Combustível\",0.01*Q41,IF($C$10=\"Consumo de Combustível no CST\",0.005*CST_Urbano!$B$28,IF($C$10=\"Base ΔSOC\",ABS(SUM($K$18:K41))*0.02*3600*$G$6,\"\"))),\"\"),\"\")","v":""}]
["",null,null,null,null,null,null,null,null,null,null,"","","","","","",{"$f":"IF(ISNUMBER(A42),IFERROR(IF($C$10=\"Consumo de Combustível\",0.01*Q42,IF($C$10=\"Consumo de Combustível no CST\",0.005*CST_Urbano!$B$28,IF($C$10=\"Base ΔSOC\",ABS(SUM($K$18:K42))*0.02*3600*$G$6,\"\"))),\"\"),\"\")","v":""}]
["",null,null,null,null,null,null,null,null,null,null,"","","","","","",{"$f":"IF(ISNUMBER(A43),IFERROR(IF($C$10=\"Consumo de Combustível\",0.01*Q43,IF($C$10=\"Consumo de Combustível no CST\",0.005*CST_Urbano!$B$28,IF($C$10=\"Base ΔSOC\",ABS(SUM($K$18:K43))*0.02*3600*$G$6,\"\"))),\"\"),\"\")","v":""}]
["",null,null,null,null,null,null,null,null,null,null,"","","","","","",{"$f":"IF(ISNUMBER(A44),IFERROR(IF($C$10=\"Consumo de Combustível\",0.01*Q44,IF($C$10=\"Consumo de Combustível no CST\",0.005*CST_Urbano!$B$28,IF($C$10=\"Base ΔSOC\",ABS(SUM($K$18:K44))*0.02*3600*$G$6,\"\"))),\"\"),\"\")","v":""}]
["",null,null,null,null,null,null,null,null,null,null,"","","","","","",{"$f":"IF(ISNUMBER(A45),IFERROR(IF($C$10=\"Consumo de Combustível\",0.01*Q45,IF($C$10=\"Consumo de Combustível no CST\",0.005*CST_Urbano!$B$28,IF($C$10=\"Base ΔSOC\",ABS(SUM($K$18:K45))*0.02*3600*$G$6,\"\"))),\"\"),\"\")","v":""}]
["",null,null,null,null,null,null,null,null,null,null,"","","","","","",{"$f":"IF(ISNUMBER(A46),IFERROR(IF($C$10=\"Consumo de Combustível\",0.01*Q46,IF($C$10=\"Consumo de Combustível no CST\",0.005*CST_Urbano!$B$28,IF($C$10=\"Base ΔSOC\",ABS(SUM($K$18:K46))*0.02*3600*$G$6,\"\"))),\"\"),\"\")","v":""}]
["",null,null,null,null,null,null,null,null,null,null,"","","","","","",{"$f":"IF(ISNUMBER(A47),IFERROR(IF($C$10=\"Consumo de Combustível\",0.01*Q47,IF($C$10=\"Consumo de Combustível no CST\",0.005*CST_Urbano!$B$28,IF($C$10=\"Base ΔSOC\",ABS(SUM($K$18:K47))*0.02*3600*$G$6,\"\"))),\"\"),\"\")","v":""}]
["",null,null,null,null,null,null,null,null,null,null,"","","","","","",{"$f":"IF(ISNUMBER(A48),IFERROR(IF($C$10=\"Consumo de Combustível\",0.01*Q48,IF($C$10=\"Consumo de Combustível no CST\",0.005*CST_Urbano!$B$28,IF($C$10=\"Base ΔSOC\",ABS(SUM($K$18:K48))*0.02*3600*$G$6,\"\"))),\"\"),\"\")","v":""}]
["",null,null,null,null,null,null,null,null,null,null,"","","","","","",{"$f":"IF(ISNUMBER(A49),IFERROR(IF($C$10=\"Consumo de Combustível\",0.01*Q49,IF($C$10=\"Consumo de Combustível no CST\",0.005*CST_Urbano!$B$28,IF($C$10=\"Base ΔSOC\",ABS(SUM($K$18:K49))*0.02*3600*$G$6,\"\"))),\"\"),\"\")","v":""}]
["",null,null,null,null,null,null,null,null,null,null,"","","",{"$f":"IFERROR(K50*AVERAGE(I50:J50),\"\")","v":""},{"$f":"IFERROR(IF($C$7=\"Diesel\",((0.8656*C50/H50)+(0.4288*B50/H50)+(0.2729*E50/H50))*(0.1155/0.83),((0.8656*C50/H50)+(0.4288*B50/H50)+(0.2729*E50/H50))*(100/((6.4487*VLOOKUP($C$7,Combustíveis,4,FALSE))+(4.1102*VLOOKUP($C$7,Combustíveis,3,FALSE))))),\"\")","v":""},{"$f":"IFERROR(((H50*P50*VLOOKUP($C$7,Combustíveis,6,FALSE))/100)*(VLOOKUP($C$7,Combustíveis,5,FALSE)*1000000),\"\")","v":""},{"$f":"IF(ISNUMBER(A50),IFERROR(IF($C$10=\"Consumo de Combustível\",0.01*Q50,IF($C$10=\"Consumo de Combustível no CST\",0.005*CST_Urbano!$B$28,IF($C$10=\"Base ΔSOC\",ABS(SUM($K$18:K50))*0.02*3600*$G$6,\"\"))),\"\"),\"\")","v":""}]
["",null,null,null,null,null,null,null,null,null,null,"","","","","","",{"$f":"IF(ISNUMBER(A51),IFERROR(IF($C$10=\"Consumo de Combustível\",0.01*Q51,IF($C$10=\"Consumo de Combustível no CST\",0.005*CST_Urbano!$B$28,IF($C$10=\"Base ΔSOC\",ABS(SUM($K$18:K51))*0.02*3600*$G$6,\"\"))),\"\"),\"\")","v":""}]
["",null,null,null,null,null,null,null,null,null,null,"","","","","","",{"$f":"IF(ISNUMBER(A52),IFERROR(IF($C$10=\"Consumo de Combustível\",0.01*Q52,IF($C$10=\"Consumo de Combustível no CST\",0.005*CST_Urbano!$B$28,IF($C$10=\"Base ΔSOC\",ABS(SUM($K$18:K52))*0.02*3600*$G$6,\"\"))),\"\"),\"\")","v":""}]
["",null,null,null,null,null,null,null,null,null,null,"","","","","","",{"$f":"IF(ISNUMBER(A53),IFERROR(IF($C$10=\"Consumo de Combustível\",0.01*Q53,IF($C$10=\"Consumo de Combustível no CST\",0.005*CST_Urbano!$B$28,IF($C$10=\"Base ΔSOC\",ABS(SUM($K$18:K53))*0.02*3600*$G$6,\"\"))),\"\"),\"\")","v":""}]
["",null,null,null,null,null,null,null,null,null,null,"","","","","","",{"$f":"IF(ISNUMBER(A54),IFERROR(IF($C$10=\"Consumo de Combustível\",0.01*Q54,IF($C$10=\"Consumo de Combustível no CST\",0.005*CST_Urbano!$B$28,IF($C$10=\"Base ΔSOC\",ABS(SUM($K$18:K54))*0.02*3600*$G$6,\"\"))),\"\"),\"\")","v":""}]
["",null,null,null,null,null,null,null,null,null,null,"","","","","","",{"$f":"IF(ISNUMBER(A55),IFERROR(IF($C$10=\"Consumo de Combustível\",0.01*Q55,IF($C$10=\"Consumo de Combustível no CST\",0.005*CST_Urbano!$B$28,IF($C$10=\"Base ΔSOC\",ABS(SUM($K$18:K55))*0.02*3600*$G$6,\"\"))),\"\"),\"\")","v":""}]
["",null,null,null,null,null,null,null,null,null,null,"","","","","","",{"$f":"IF(ISNUMBER(A56),IFERROR(IF($C$10=\"Consumo de Combustível\",0.01*Q56,IF($C$10=\"Consumo de Combustível no CST\",0.005*CST_Urbano!$B$28,IF($C$10=\"Base ΔSOC\",ABS(SUM($K$18:K56))*0.02*3600*$G$6,\"\"))),\"\"),\"\")","v":""}]
["",null,null,null,null,null,null,null,null,null,null,"","","","","","",{"$f":"IF(ISNUMBER(A57),IFERROR(IF($C$10=\"Consumo de Combustível\",0.01*Q57,IF($C$10=\"Consumo de Combustível no CST\",0.005*CST_Urbano!$B$28,IF($C$10=\"Base ΔSOC\",ABS(SUM($K$18:K57))*0.02*3600*$G$6,\"\"))),\"\"),\"\")","v":""}]
["",null,null,null,null,null,null,null,null,null,null,"","","","","","",{"$f":"IF(ISNUMBER(A58),IFERROR(IF($C$10=\"Consumo de Combustível\",0.01*Q58,IF($C$10=\"Consumo de Combustível no CST\",0.005*CST_Urbano!$B$28,IF($C$10=\"Base ΔSOC\",ABS(SUM($K$18:K58))*0.02*3600*$G$6,\"\"))),\"\"),\"\")","v":""}]
["",null,null,null,null,null,null,null,null,null,null,"","","","","","",{"$f":"IF(ISNUMBER(A59),IFERROR(IF($C$10=\"Consumo de Combustível\",0.01*Q59,IF($C$10=\"Consumo de Combustível no CST\",0.005*CST_Urbano!$B$28,IF($C$10=\"Base ΔSOC\",ABS(SUM($K$18:K59))*0.02*3600*$G$6,\"\"))),\"\"),\"\")","v":""}]
["",null,null,null,null,null,null,null,null,null,null,"","","","","","",{"$f":"IF(ISNUMBER(A60),IFERROR(IF($C$10=\"Consumo de Combustível\",0.01*Q60,IF($C$10=\"Consumo de Combustível no CST\",0.005*CST_Urbano!$B$28,IF($C$10=\"Base ΔSOC\",ABS(SUM($K$18:K60))*0.02*3600*$G$6,\"\"))),\"\"),\"\")","v":""}]
["",null,null,null,null,null,null,null,null,null,null,"","","","","","",{"$f":"IF(ISNUMBER(A61),IFERROR(IF($C$10=\"Consumo de Combustível\",0.01*Q61,IF($C$10=\"Consumo de Combustível no CST\",0.005*CST_Urbano!$B$28,IF($C$10=\"Base ΔSOC\",ABS(SUM($K$18:K61))*0.02*3600*$G$6,\"\"))),\"\"),\"\")","v":""}]
["",null,null,null,null,null,null,null,null,null,null,"","","","","","",{"$f":"IF(ISNUMBER(A62),IFERROR(IF($C$10=\"Consumo de Combustível\",0.01*Q62,IF($C$10=\"Consumo de Combustível no CST\",0.005*CST_Urbano!$B$28,IF($C$10=\"Base ΔSOC\",ABS(SUM($K$18:K62))*0.02*3600*$G$6,\"\"))),\"\"),\"\")","v":""}]
["",null,null,null,null,null,null,null,null,null,null,"","","","","","",{"$f":"IF(ISNUMBER(A63),IFERROR(IF($C$10=\"Consumo de Combustível\",0.01*Q63,IF($C$10=\"Consumo de Combustível no CST\",0.005*CST_Urbano!$B$28,IF($C$10=\"Base ΔSOC\",ABS(SUM($K$18:K63))*0.02*3600*$G$6,\"\"))),\"\"),\"\")","v":""}]
["",null,null,null,null,null,null,null,null,null,null,"","","","","","",{"$f":"IF(ISNUMBER(A64),IFERROR(IF($C$10=\"Consumo de Combustível\",0.01*Q64,IF($C$10=\"Consumo de Combustível no CST\",0.005*CST_Urbano!$B$28,IF($C$10=\"Base ΔSOC\",ABS(SUM($K$18:K64))*0.02*3600*$G$6,\"\"))),\"\"),\"\")","v":""}]
["",null,null,null,null,null,null,null,null,null,null,"","","","","","",{"$f":"IF(ISNUMBER(A65),IFERROR(IF($C$10=\"Consumo de Combustível\",0.01*Q65,IF($C$10=\"Consumo de Combustível no CST\",0.005*CST_Urbano!$B$28,IF($C$10=\"Base ΔSOC\",ABS(SUM($K$18:K65))*0.02*3600*$G$6,\"\"))),\"\"),\"\")","v":""}]
["",null,null,null,null,null,null,null,null,null,null,"","","","","","",{"$f":"IF(ISNUMBER(A66),IFERROR(IF($C$10=\"Consumo de Combustível\",0.01*Q66,IF($C$10=\"Consumo de Combustível no CST\",0.005*CST_Urbano!$B$28,IF($C$10=\"Base ΔSOC\",ABS(SUM($K$18:K66))*0.02*3600*$G$6,\"\"))),\"\"),\"\")","v":""}]
["",null,null,null,null,null,null,null,null,null,null,"","","","","","",{"$f":"IF(ISNUMBER(A67),IFERROR(IF($C$10=\"Consumo de Combustível\",0.01*Q67,IF($C$10=\"Consumo de Combustível no CST\",0.005*CST_Urbano!$B$28,IF($C$10=\"Base ΔSOC\",ABS(SUM($K$18:K67))*0.02*3600*$G$6,\"\"))),\"\"),\"\")","v":""}]
["",null,null,null,null,null,null,null,null,null,null,"","","","","","",{"$f":"IF(ISNUMBER(A68),IFERROR(IF($C$10=\"Consumo de Combustível\",0.01*Q68,IF($C$10=\"Consumo de Combustível no CST\",0.005*CST_Urbano!$B$28,IF($C$10=\"Base ΔSOC\",ABS(SUM($K$18:K68))*0.02*3600*$G$6,\"\"))),\"\"),\"\")","v":""}]
["",null,null,null,null,null,null,null,null,null,null,"","","","","","",{"$f":"IF(ISNUMBER(A69),IFERROR(IF($C$10=\"Consumo de Combustível\",0.01*Q69,IF($C$10=\"Consumo de Combustível no CST\",0.005*CST_Urbano!$B$28,IF($C$10=\"Base ΔSOC\",ABS(SUM($K$18:K69))*0.02*3600*$G$6,\"\"))),\"\"),\"\")","v":""}]
["",null,null,null,null,null,null,null,null,null,null,"","","","","","",{"$f":"IF(ISNUMBER(A70),IFERROR(IF($C$10=\"Consumo de Combustível\",0.01*Q70,IF($C$10=\"Consumo de Combustível no CST\",0.005*CST_Urbano!$B$28,IF($C$10=\"Base ΔSOC\",ABS(SUM($K$18:K70))*0.02*3600*$G$6,\"\"))),\"\"),\"\")","v":""}]
["",null,null,null,null,null,null,null,null,null,null,"","","","","","",{"$f":"IF(ISNUMBER(A71),IFERROR(IF($C$10=\"Consumo de Combustível\",0.01*Q71,IF($C$10=\"Consumo de Combustível no CST\",0.005*CST_Urbano!$B$28,IF($C$10=\"Base ΔSOC\",ABS(SUM($K$18:K71))*0.02*3600*$G$6,\"\"))),\"\"),\"\")","v":""}]

{"sheet":"Emissões 6.2.2.1 Urbano","index":3,"n_rows":70,"n_cols":17,"rows_kept":70,"cut":false,"hidden":false,"merged":[[13,0,13,13],[5,0,5,1],[5,2,5,3],[5,4,5,5],[5,6,5,7],[6,0,6,1],[6,2,6,3],[6,4,6,5],[6,6,6,7],[8,1,8,9],[0,1,0,13],[1,1,1,13],[2,1,2,13],[3,0,3,13],[4,0,4,1],[4,2,4,3],[4,4,4,5],[4,6,4,7]]}
[null,"Cálculos de veículos híbridos"]
[null,"Ensaios em redução de carga no ciclo urbano - Resultados conforme 6.2.2.1"]
[null,"    Versão 8"]
["Dados do veículo e do ensaio"]
["id do veículo",null,{"$f":"IF(ISBLANK(CST_Urbano!C5),\"\",CST_Urbano!C5)","v":""},null,"Capacidade do RESS",null,{"$f":"IF(ISBLANK(CST_Urbano!G5),\"\",CST_Urbano!G5)","v":""},null,"Ah"]
["nº do processo",null,{"$f":"IF(ISBLANK(CST_Urbano!C6),\"\",CST_Urbano!C6)","v":""},null,"Vsist1",null,{"$f":"IF(ISBLANK(CST_Urbano!G6),\"\",CST_Urbano!G6)","v":""},null,"V"]
["Combustível do ensaio",null,{"$f":"IF(ISBLANK(CST_Urbano!C7),\"\",CST_Urbano!C7)","v":""},null,"Vsist2",null,{"$f":"IF(ISBLANK(CST_Urbano!G7),\"\",CST_Urbano!G7)","v":""},null,"V"]
[]
[null,"Resultado das emissões e consumo energético conforme item 6.2.2.1"]
[null,"CO","HC","NOx","CO2","NMHC","ECCD","FCCD","ACequiv.","Consumotot."]
[null,"(g/km)","(g/km)","(g/km)","(g/km)","(g/km)","(Wh/km)","(l/100km)","(l/100km)","(l/100km)"]
[null,{"$f":"IFERROR((SUMIFS(FCT_Urbano_Dados!$B$18:$B$71,FCT_Urbano_Dados!$S$18:$S$71,\"CD\")+(1+FCT_Urbano_Dados!$D$13)*SUMIFS(FCT_Urbano_Dados!$B$18:$B$71,FCT_Urbano_Dados!$S$18:$S$71,\"n-1\"))/FCT_Urbano_Dados!$L$13,\"\")","v":""},{"$f":"IFERROR((SUMIFS(FCT_Urbano_Dados!$C$18:$C$71,FCT_Urbano_Dados!$S$18:$S$71,\"CD\")+(1+FCT_Urbano_Dados!$D$13)*SUMIFS(FCT_Urbano_Dados!$C$18:$C$71,FCT_Urbano_Dados!$S$18:$S$71,\"n-1\"))/FCT_Urbano_Dados!$L$13,\"\")","v":""},{"$f":"IFERROR((SUMIFS(FCT_Urbano_Dados!$D$18:$D$71,FCT_Urbano_Dados!$S$18:$S$71,\"CD\")+(1+FCT_Urbano_Dados!$D$13)*SUMIFS(FCT_Urbano_Dados!$D$18:$D$71,FCT_Urbano_Dados!$S$18:$S$71,\"n-1\"))/FCT_Urbano_Dados!$L$13,\"\")","v":""},{"$f":"IFERROR((SUMIFS(FCT_Urbano_Dados!$E$18:$E$71,FCT_Urbano_Dados!$S$18:$S$71,\"CD\")+(1+FCT_Urbano_Dados!$D$13)*SUMIFS(FCT_Urbano_Dados!$E$18:$E$71,FCT_Urbano_Dados!$S$18:$S$71,\"n-1\"))/FCT_Urbano_Dados!$L$13,\"\")","v":""},{"$f":"IFERROR((SUMIFS(FCT_Urbano_Dados!$G$18:$G$71,FCT_Urbano_Dados!$S$18:$S$71,\"CD\")+(1+FCT_Urbano_Dados!$D$13)*SUMIFS(FCT_Urbano_Dados!$G$18:$G$71,FCT_Urbano_Dados!$S$18:$S$71,\"n-1\"))/FCT_Urbano_Dados!$L$13,\"\")","v":""},{"$f":"IFERROR(FCT_Urbano_Dados!$G$10/FCT_Urbano_Dados!$L$13,\"\")","v":""},{"$f":"IFERROR(SUM(IF(FCT_Urbano_Dados!S18:S71=\"CD\",FCT_Urbano_Dados!H18:H71*FCT_Urbano_Dados!P18:P71,0)+(1+FCT_Urbano_Dados!D13)*IF(FCT_Urbano_Dados!S18:S71=\"n-1\",FCT_Urbano_Dados!H18:H71*FCT_Urbano_Dados!P18:P71,0))/FCT_Urbano_Dados!L13,\"\")","v":""},{"$f":"IFERROR(100*((G12*0.0036)/VLOOKUP(CST_Urbano!C7,Combustíveis,2,FALSE)),\"\")","v":""},{"$f":"IFERROR(H12+I12,\"\")","v":""}]
[]
["Resultado das emissões e consumo energético por ciclo"]
["Nº Ciclo","CO","HC","NOx","CO2","NMHC","ECDi","EDCi","DC/AC","Consumo_AC","Consumo_DC","AC equivalente","Consumo","Tipo de"]
[null,"(g/km)","(g/km)","(g/km)","(g/km)","(g/km)","(Wh)","(Wh)","(%)","(Wh/km)","(Wh/km)","(l/100km)","(l/100km)","Ciclo"]
[{"$f":"IF(ISNUMBER(FCT_Urbano_Dados!A18),FCT_Urbano_Dados!A18,\"\")","v":""},{"$f":"IF(ISNUMBER(A17),FCT_Urbano_Dados!B18/FCT_Urbano_Dados!H18,\"\")","v":""},{"$f":"IF(ISNUMBER(A17),FCT_Urbano_Dados!C18/FCT_Urbano_Dados!H18,\"\")","v":""},{"$f":"IF(ISNUMBER(A17),FCT_Urbano_Dados!D18/FCT_Urbano_Dados!H18,\"\")","v":""},{"$f":"IF(ISNUMBER(A17),FCT_Urbano_Dados!E18/FCT_Urbano_Dados!H18,\"\")","v":""},{"$f":"IF(ISNUMBER(A17),FCT_Urbano_Dados!G18/FCT_Urbano_Dados!H18,\"\")","v":""},{"$f":"IF(ISNUMBER(H17),IF(AND(OR(FCT_Urbano_Dados!S18=\"CD\",FCT_Urbano_Dados!S18=\"n-1\",FCT_Urbano_Dados!S18=\"n\"),H17<0),(H17*FCT_Urbano_Dados!$G$10)/(SUMIFS(FCT_Urbano_Dados!$O$18:$O$71,FCT_Urbano_Dados!$S$18:$S$71,\"CD\")+SUMIFS(FCT_Urbano_Dados!$O$18:$O$71,FCT_Urbano_Dados!$S$18:$S$71,\"n-1\")+SUMIFS(FCT_Urbano_Dados!$O$18:$O$71,FCT_Urbano_Dados!$S$18:$S$71,\"n\")),0),\"\")","v":""},{"$f":"IFERROR(FCT_Urbano_Dados!K18*AVERAGE(FCT_Urbano_Dados!I18:J18),\"\")","v":""},{"$f":"IFERROR(ABS(H17/G17)*100,\"\")","v":""},{"$f":"IFERROR(IF(ISNUMBER(A17),G17/FCT_Urbano_Dados!H18,\"\"),\"\")","v":""},{"$f":"IFERROR(IF(ISNUMBER(A17),H17/FCT_Urbano_Dados!H18,\"\"),\"\")","v":""},{"$f":"IF(ISNUMBER(A17),100*((J17*0.0036)/VLOOKUP(CST_Urbano!$C$7,Combustíveis,2,FALSE)),\"\")","v":""},{"$f":"IF(ISNUMBER(A17),FCT_Urbano_Dados!P18,\"\")","v":""},{"$f":"IF(ISNUMBER(A17),FCT_Urbano_Dados!S18,\"\")","v":""}]
[{"$f":"IF(ISNUMBER(FCT_Urbano_Dados!A19),FCT_Urbano_Dados!A19,\"\")","v":""},{"$f":"IF(ISNUMBER(A18),FCT_Urbano_Dados!B19/FCT_Urbano_Dados!H19,\"\")","v":""},{"$f":"IF(ISNUMBER(A18),FCT_Urbano_Dados!C19/FCT_Urbano_Dados!H19,\"\")","v":""},{"$f":"IF(ISNUMBER(A18),FCT_Urbano_Dados!D19/FCT_Urbano_Dados!H19,\"\")","v":""},{"$f":"IF(ISNUMBER(A18),FCT_Urbano_Dados!E19/FCT_Urbano_Dados!H19,\"\")","v":""},{"$f":"IF(ISNUMBER(A18),FCT_Urbano_Dados!G19/FCT_Urbano_Dados!H19,\"\")","v":""},{"$f":"IF(ISNUMBER(H18),IF(AND(OR(FCT_Urbano_Dados!S19=\"CD\",FCT_Urbano_Dados!S19=\"n-1\",FCT_Urbano_Dados!S19=\"n\"),H18<0),(H18*FCT_Urbano_Dados!$G$10)/(SUMIFS(FCT_Urbano_Dados!$O$18:$O$71,FCT_Urbano_Dados!$S$18:$S$71,\"CD\")+SUMIFS(FCT_Urbano_Dados!$O$18:$O$71,FCT_Urbano_Dados!$S$18:$S$71,\"n-1\")+SUMIFS(FCT_Urbano_Dados!$O$18:$O$71,FCT_Urbano_Dados!$S$18:$S$71,\"n\")),0),\"\")","v":""},{"$f":"IFERROR(FCT_Urbano_Dados!K19*AVERAGE(FCT_Urbano_Dados!I19:J19),\"\")","v":""},{"$f":"IFERROR(ABS(H18/G18)*100,\"\")","v":""},{"$f":"IFERROR(IF(ISNUMBER(A18),G18/FCT_Urbano_Dados!H19,\"\"),\"\")","v":""},{"$f":"IFERROR(IF(ISNUMBER(A18),H18/FCT_Urbano_Dados!H19,\"\"),\"\")","v":""},{"$f":"IF(ISNUMBER(A18),100*((J18*0.0036)/VLOOKUP(CST_Urbano!$C$7,Combustíveis,2,FALSE)),\"\")","v":""},{"$f":"IF(ISNUMBER(A18),FCT_Urbano_Dados!P19,\"\")","v":""},{"$f":"IF(ISNUMBER(A18),FCT_Urbano_Dados!S19,\"\")","v":""}]
[{"$f":"IF(ISNUMBER(FCT_Urbano_Dados!A20),FCT_Urbano_Dados!A20,\"\")","v":""},{"$f":"IF(ISNUMBER(A19),FCT_Urbano_Dados!B20/FCT_Urbano_Dados!H20,\"\")","v":""},{"$f":"IF(ISNUMBER(A19),FCT_Urbano_Dados!C20/FCT_Urbano_Dados!H20,\"\")","v":""},{"$f":"IF(ISNUMBER(A19),FCT_Urbano_Dados!D20/FCT_Urbano_Dados!H20,\"\")","v":""},{"$f":"IF(ISNUMBER(A19),FCT_Urbano_Dados!E20/FCT_Urbano_Dados!H20,\"\")","v":""},{"$f":"IF(ISNUMBER(A19),FCT_Urbano_Dados!G20/FCT_Urbano_Dados!H20,\"\")","v":""},{"$f":"IF(ISNUMBER(H19),IF(AND(OR(FCT_Urbano_Dados!S20=\"CD\",FCT_Urbano_Dados!S20=\"n-1\",FCT_Urbano_Dados!S20=\"n\"),H19<0),(H19*FCT_Urbano_Dados!$G$10)/(SUMIFS(FCT_Urbano_Dados!$O$18:$O$71,FCT_Urbano_Dados!$S$18:$S$71,\"CD\")+SUMIFS(FCT_Urbano_Dados!$O$18:$O$71,FCT_Urbano_Dados!$S$18:$S$71,\"n-1\")+SUMIFS(FCT_Urbano_Dados!$O$18:$O$71,FCT_Urbano_Dados!$S$18:$S$71,\"n\")),0),\"\")","v":""},{"$f":"IFERROR(FCT_Urbano_Dados!K20*AVERAGE(FCT_Urbano_Dados!I20:J20),\"\")","v":""},{"$f":"IFERROR(ABS(H19/G19)*100,\"\")","v":""},{"$f":"IFERROR(IF(ISNUMBER(A19),G19/FCT_Urbano_Dados!H20,\"\"),\"\")","v":""},{"$f":"IFERROR(IF(ISNUMBER(A19),H19/FCT_Urbano_Dados!H20,\"\"),\"\")","v":""},{"$f":"IF(ISNUMBER(A19),100*((J19*0.0036)/VLOOKUP(CST_Urbano!$C$7,Combustíveis,2,FALSE)),\"\")","v":""},{"$f":"IF(ISNUMBER(A19),FCT_Urbano_Dados!P20,\"\")","v":""},{"$f":"IF(ISNUMBER(A19),FCT_Urbano_Dados!S20,\"\")","v":""}]
[{"$f":"IF(ISNUMBER(FCT_Urbano_Dados!A21),FCT_Urbano_Dados!A21,\"\")","v":""},{"$f":"IF(ISNUMBER(A20),FCT_Urbano_Dados!B21/FCT_Urbano_Dados!H21,\"\")","v":""},{"$f":"IF(ISNUMBER(A20),FCT_Urbano_Dados!C21/FCT_Urbano_Dados!H21,\"\")","v":""},{"$f":"IF(ISNUMBER(A20),FCT_Urbano_Dados!D21/FCT_Urbano_Dados!H21,\"\")","v":""},{"$f":"IF(ISNUMBER(A20),FCT_Urbano_Dados!E21/FCT_Urbano_Dados!H21,\"\")","v":""},{"$f":"IF(ISNUMBER(A20),FCT_Urbano_Dados!G21/FCT_Urbano_Dados!H21,\"\")","v":""},{"$f":"IF(ISNUMBER(H20),IF(AND(OR(FCT_Urbano_Dados!S21=\"CD\",FCT_Urbano_Dados!S21=\"n-1\",FCT_Urbano_Dados!S21=\"n\"),H20<0),(H20*FCT_Urbano_Dados!$G$10)/(SUMIFS(FCT_Urbano_Dados!$O$18:$O$71,FCT_Urbano_Dados!$S$18:$S$71,\"CD\")+SUMIFS(FCT_Urbano_Dados!$O$18:$O$71,FCT_Urbano_Dados!$S$18:$S$71,\"n-1\")+SUMIFS(FCT_Urbano_Dados!$O$18:$O$71,FCT_Urbano_Dados!$S$18:$S$71,\"n\")),0),\"\")","v":""},{"$f":"IFERROR(FCT_Urbano_Dados!K21*AVERAGE(FCT_Urbano_Dados!I21:J21),\"\")","v":""},"",{"$f":"IFERROR(IF(ISNUMBER(A20),G20/FCT_Urbano_Dados!H21,\"\"),\"\")","v":""},{"$f":"IFERROR(IF(ISNUMBER(A20),H20/FCT_Urbano_Dados!H21,\"\"),\"\")","v":""},{"$f":"IF(ISNUMBER(A20),100*((J20*0.0036)/VLOOKUP(CST_Urbano!$C$7,Combustíveis,2,FALSE)),\"\")","v":""},{"$f":"IF(ISNUMBER(A20),FCT_Urbano_Dados!P21,\"\")","v":""},{"$f":"IF(ISNUMBER(A20),FCT_Urbano_Dados!S21,\"\")","v":""}]
[{"$f":"IF(ISNUMBER(FCT_Urbano_Dados!A22),FCT_Urbano_Dados!A22,\"\")","v":""},{"$f":"IF(ISNUMBER(A21),FCT_Urbano_Dados!B22/FCT_Urbano_Dados!H22,\"\")","v":""},{"$f":"IF(ISNUMBER(A21),FCT_Urbano_Dados!C22/FCT_Urbano_Dados!H22,\"\")","v":""},{"$f":"IF(ISNUMBER(A21),FCT_Urbano_Dados!D22/FCT_Urbano_Dados!H22,\"\")","v":""},{"$f":"IF(ISNUMBER(A21),FCT_Urbano_Dados!E22/FCT_Urbano_Dados!H22,\"\")","v":""},{"$f":"IF(ISNUMBER(A21),FCT_Urbano_Dados!G22/FCT_Urbano_Dados!H22,\"\")","v":""},{"$f":"IF(ISNUMBER(H21),IF(AND(OR(FCT_Urbano_Dados!S22=\"CD\",FCT_Urbano_Dados!S22=\"n-1\",FCT_Urbano_Dados!S22=\"n\"),H21<0),(H21*FCT_Urbano_Dados!$G$10)/(SUMIFS(FCT_Urbano_Dados!$O$18:$O$71,FCT_Urbano_Dados!$S$18:$S$71,\"CD\")+SUMIFS(FCT_Urbano_Dados!$O$18:$O$71,FCT_Urbano_Dados!$S$18:$S$71,\"n-1\")+SUMIFS(FCT_Urbano_Dados!$O$18:$O$71,FCT_Urbano_Dados!$S$18:$S$71,\"n\")),0),\"\")","v":""},{"$f":"IFERROR(FCT_Urbano_Dados!K22*AVERAGE(FCT_Urbano_Dados!I22:J22),\"\")","v":""},"",{"$f":"IFERROR(IF(ISNUMBER(A21),G21/FCT_Urbano_Dados!H22,\"\"),\"\")","v":""},{"$f":"IFERROR(IF(ISNUMBER(A21),H21/FCT_Urbano_Dados!H22,\"\"),\"\")","v":""},{"$f":"IF(ISNUMBER(A21),100*((J21*0.0036)/VLOOKUP(CST_Urbano!$C$7,Combustíveis,2,FALSE)),\"\")","v":""},{"$f":"IF(ISNUMBER(A21),FCT_Urbano_Dados!P22,\"\")","v":""},{"$f":"IF(ISNUMBER(A21),FCT_Urbano_Dados!S22,\"\")","v":""}]
[{"$f":"IF(ISNUMBER(FCT_Urbano_Dados!A23),FCT_Urbano_Dados!A23,\"\")","v":""},{"$f":"IF(ISNUMBER(A22),FCT_Urbano_Dados!B23/FCT_Urbano_Dados!H23,\"\")","v":""},{"$f":"IF(ISNUMBER(A22),FCT_Urbano_Dados!C23/FCT_Urbano_Dados!H23,\"\")","v":""},{"$f":"IF(ISNUMBER(A22),FCT_Urbano_Dados!D23/FCT_Urbano_Dados!H23,\"\")","v":""},{"$f":"IF(ISNUMBER(A22),FCT_Urbano_Dados!E23/FCT_Urbano_Dados!H23,\"\")","v":""},{"$f":"IF(ISNUMBER(A22),FCT_Urbano_Dados!G23/FCT_Urbano_Dados!H23,\"\")","v":""},{"$f":"IF(ISNUMBER(H22),IF(AND(OR(FCT_Urbano_Dados!S23=\"CD\",FCT_Urbano_Dados!S23=\"n-1\",FCT_Urbano_Dados!S23=\"n\"),H22<0),(H22*FCT_Urbano_Dados!$G$10)/(SUMIFS(FCT_Urbano_Dados!$O$18:$O$71,FCT_Urbano_Dados!$S$18:$S$71,\"CD\")+SUMIFS(FCT_Urbano_Dados!$O$18:$O$71,FCT_Urbano_Dados!$S$18:$S$71,\"n-1\")+SUMIFS(FCT_Urbano_Dados!$O$18:$O$71,FCT_Urbano_Dados!$S$18:$S$71,\"n\")),0),\"\")","v":""},{"$f":"IFERROR(FCT_Urbano_Dados!K23*AVERAGE(FCT_Urbano_Dados!I23:J23),\"\")","v":""},"",{"$f":"IFERROR(IF(ISNUMBER(A22),G22/FCT_Urbano_Dados!H23,\"\"),\"\")","v":""},{"$f":"IFERROR(IF(ISNUMBER(A22),H22/FCT_Urbano_Dados!H23,\"\"),\"\")","v":""},{"$f":"IF(ISNUMBER(A22),100*((J22*0.0036)/VLOOKUP(CST_Urbano!$C$7,Combustíveis,2,FALSE)),\"\")","v":""},{"$f":"IF(ISNUMBER(A22),FCT_Urbano_Dados!P23,\"\")","v":""},{"$f":"IF(ISNUMBER(A22),FCT_Urbano_Dados!S23,\"\")","v":""}]
[{"$f":"IF(ISNUMBER(FCT_Urbano_Dados!A24),FCT_Urbano_Dados!A24,\"\")","v":""},{"$f":"IF(ISNUMBER(A23),FCT_Urbano_Dados!B24/FCT_Urbano_Dados!H24,\"\")","v":""},{"$f":"IF(ISNUMBER(A23),FCT_Urbano_Dados!C24/FCT_Urbano_Dados!H24,\"\")","v":""},{"$f":"IF(ISNUMBER(A23),FCT_Urbano_Dados!D24/FCT_Urbano_Dados!H24,\"\")","v":""},{"$f":"IF(ISNUMBER(A23),FCT_Urbano_Dados!E24/FCT_Urbano_Dados!H24,\"\")","v":""},{"$f":"IF(ISNUMBER(A23),FCT_Urbano_Dados!G24/FCT_Urbano_Dados!H24,\"\")","v":""},{"$f":"IF(ISNUMBER(H23),IF(AND(OR(FCT_Urbano_Dados!S24=\"CD\",FCT_Urbano_Dados!S24=\"n-1\",FCT_Urbano_Dados!S24=\"n\"),H23<0),(H23*FCT_Urbano_Dados!$G$10)/(SUMIFS(FCT_Urbano_Dados!$O$18:$O$71,FCT_Urbano_Dados!$S$18:$S$71,\"CD\")+SUMIFS(FCT_Urbano_Dados!$O$18:$O$71,FCT_Urbano_Dados!$S$18:$S$71,\"n-1\")+SUMIFS(FCT_Urbano_Dados!$O$18:$O$71,FCT_Urbano_Dados!$S$18:$S$71,\"n\")),0),\"\")","v":""},{"$f":"IFERROR(FCT_Urbano_Dados!K24*AVERAGE(FCT_Urbano_Dados!I24:J24),\"\")","v":""},"",{"$f":"IFERROR(IF(ISNUMBER(A23),G23/FCT_Urbano_Dados!H24,\"\"),\"\")","v":""},{"$f":"IFERROR(IF(ISNUMBER(A23),H23/FCT_Urbano_Dados!H24,\"\"),\"\")","v":""},{"$f":"IF(ISNUMBER(A23),100*((J23*0.0036)/VLOOKUP(CST_Urbano!$C$7,Combustíveis,2,FALSE)),\"\")","v":""},{"$f":"IF(ISNUMBER(A23),FCT_Urbano_Dados!P24,\"\")","v":""},{"$f":"IF(ISNUMBER(A23),FCT_Urbano_Dados!S24,\"\")","v":""}]
[{"$f":"IF(ISNUMBER(FCT_Urbano_Dados!A25),FCT_Urbano_Dados!A25,\"\")","v":""},{"$f":"IF(ISNUMBER(A24),FCT_Urbano_Dados!B25/FCT_Urbano_Dados!H25,\"\")","v":""},{"$f":"IF(ISNUMBER(A24),FCT_Urbano_Dados!C25/FCT_Urbano_Dados!H25,\"\")","v":""},{"$f":"IF(ISNUMBER(A24),FCT_Urbano_Dados!D25/FCT_Urbano_Dados!H25,\"\")","v":""},{"$f":"IF(ISNUMBER(A24),FCT_Urbano_Dados!E25/FCT_Urbano_Dados!H25,\"\")","v":""},{"$f":"IF(ISNUMBER(A24),FCT_Urbano_Dados!G25/FCT_Urbano_Dados!H25,\"\")","v":""},{"$f":"IF(ISNUMBER(H24),IF(AND(OR(FCT_Urbano_Dados!S25=\"CD\",FCT_Urbano_Dados!S25=\"n-1\",FCT_Urbano_Dados!S25=\"n\"),H24<0),(H24*FCT_Urbano_Dados!$G$10)/(SUMIFS(FCT_Urbano_Dados!$O$18:$O$71,FCT_Urbano_Dados!$S$18:$S$71,\"CD\")+SUMIFS(FCT_Urbano_Dados!$O$18:$O$71,FCT_Urbano_Dados!$S$18:$S$71,\"n-1\")+SUMIFS(FCT_Urbano_Dados!$O$18:$O$71,FCT_Urbano_Dados!$S$18:$S$71,\"n\")),0),\"\")","v":""},{"$f":"IFERROR(FCT_Urbano_Dados!K25*AVERAGE(FCT_Urbano_Dados!I25:J25),\"\")","v":""},"",{"$f":"IFERROR(IF(ISNUMBER(A24),G24/FCT_Urbano_Dados!H25,\"\"),\"\")","v":""},{"$f":"IFERROR(IF(ISNUMBER(A24),H24/FCT_Urbano_Dados!H25,\"\"),\"\")","v":""},{"$f":"IF(ISNUMBER(A24),100*((J24*0.0036)/VLOOKUP(CST_Urbano!$C$7,Combustíveis,2,FALSE)),\"\")","v":""},{"$f":"IF(ISNUMBER(A24),FCT_Urbano_Dados!P25,\"\")","v":""},{"$f":"IF(ISNUMBER(A24),FCT_Urbano_Dados!S25,\"\")","v":""}]
[{"$f":"IF(ISNUMBER(FCT_Urbano_Dados!A26),FCT_Urbano_Dados!A26,\"\")","v":""},{"$f":"IF(ISNUMBER(A25),FCT_Urbano_Dados!B26/FCT_Urbano_Dados!H26,\"\")","v":""},{"$f":"IF(ISNUMBER(A25),FCT_Urbano_Dados!C26/FCT_Urbano_Dados!H26,\"\")","v":""},{"$f":"IF(ISNUMBER(A25),FCT_Urbano_Dados!D26/FCT_Urbano_Dados!H26,\"\")","v":""},{"$f":"IF(ISNUMBER(A25),FCT_Urbano_Dados!E26/FCT_Urbano_Dados!H26,\"\")","v":""},{"$f":"IF(ISNUMBER(A25),FCT_Urbano_Dados!G26/FCT_Urbano_Dados!H26,\"\")","v":""},{"$f":"IF(ISNUMBER(H25),IF(AND(OR(FCT_Urbano_Dados!S26=\"CD\",FCT_Urbano_Dados!S26=\"n-1\",FCT_Urbano_Dados!S26=\"n\"),H25<0),(H25*FCT_Urbano_Dados!$G$10)/(SUMIFS(FCT_Urbano_Dados!$O$18:$O$71,FCT_Urbano_Dados!$S$18:$S$71,\"CD\")+SUMIFS(FCT_Urbano_Dados!$O$18:$O$71,FCT_Urbano_Dados!$S$18:$S$71,\"n-1\")+SUMIFS(FCT_Urbano_Dados!$O$18:$O$71,FCT_Urbano_Dados!$S$18:$S$71,\"n\")),0),\"\")","v":""},{"$f":"IFERROR(FCT_Urbano_Dados!K26*AVERAGE(FCT_Urbano_Dados!I26:J26),\"\")","v":""},"",{"$f":"IFERROR(IF(ISNUMBER(A25),G25/FCT_Urbano_Dados!H26,\"\"),\"\")","v":""},{"$f":"IFERROR(IF(ISNUMBER(A25),H25/FCT_Urbano_Dados!H26,\"\"),\"\")","v":""},{"$f":"IF(ISNUMBER(A25),100*((J25*0.0036)/VLOOKUP(CST_Urbano!$C$7,Combustíveis,2,FALSE)),\"\")","v":""},{"$f":"IF(ISNUMBER(A25),FCT_Urbano_Dados!P26,\"\")","v":""},{"$f":"IF(ISNUMBER(A25),FCT_Urbano_Dados!S26,\"\")","v":""}]
[{"$f":"IF(ISNUMBER(FCT_Urbano_Dados!A27),FCT_Urbano_Dados!A27,\"\")","v":""},{"$f":"IF(ISNUMBER(A26),FCT_Urbano_Dados!B27/FCT_Urbano_Dados!H27,\"\")","v":""},{"$f":"IF(ISNUMBER(A26),FCT_Urbano_Dados!C27/FCT_Urbano_Dados!H27,\"\")","v":""},{"$f":"IF(ISNUMBER(A26),FCT_Urbano_Dados!D27/FCT_Urbano_Dados!H27,\"\")","v":""},{"$f":"IF(ISNUMBER(A26),FCT_Urbano_Dados!E27/FCT_Urbano_Dados!H27,\"\")","v":""},{"$f":"IF(ISNUMBER(A26),FCT_Urbano_Dados!G27/FCT_Urbano_Dados!H27,\"\")","v":""},{"$f":"IF(ISNUMBER(H26),IF(AND(OR(FCT_Urbano_Dados!S27=\"CD\",FCT_Urbano_Dados!S27=\"n-1\",FCT_Urbano_Dados!S27=\"n\"),H26<0),(H26*FCT_Urbano_Dados!$G$10)/(SUMIFS(FCT_Urbano_Dados!$O$18:$O$71,FCT_Urbano_Dados!$S$18:$S$71,\"CD\")+SUMIFS(FCT_Urbano_Dados!$O$18:$O$71,FCT_Urbano_Dados!$S$18:$S$71,\"n-1\")+SUMIFS(FCT_Urbano_Dados!$O$18:$O$71,FCT_Urbano_Dados!$S$18:$S$71,\"n\")),0),\"\")","v":""},{"$f":"IFERROR(FCT_Urbano_Dados!K27*AVERAGE(FCT_Urbano_Dados!I27:J27),\"\")","v":""},"",{"$f":"IFERROR(IF(ISNUMBER(A26),G26/FCT_Urbano_Dados!H27,\"\"),\"\")","v":""},{"$f":"IFERROR(IF(ISNUMBER(A26),H26/FCT_Urbano_Dados!H27,\"\"),\"\")","v":""},{"$f":"IF(ISNUMBER(A26),100*((J26*0.0036)/VLOOKUP(CST_Urbano!$C$7,Combustíveis,2,FALSE)),\"\")","v":""},{"$f":"IF(ISNUMBER(A26),FCT_Urbano_Dados!P27,\"\")","v":""},{"$f":"IF(ISNUMBER(A26),FCT_Urbano_Dados!S27,\"\")","v":""}]
[{"$f":"IF(ISNUMBER(FCT_Urbano_Dados!A28),FCT_Urbano_Dados!A28,\"\")","v":""},{"$f":"IF(ISNUMBER(A27),FCT_Urbano_Dados!B28/FCT_Urbano_Dados!H28,\"\")","v":""},{"$f":"IF(ISNUMBER(A27),FCT_Urbano_Dados!C28/FCT_Urbano_Dados!H28,\"\")","v":""},{"$f":"IF(ISNUMBER(A27),FCT_Urbano_Dados!D28/FCT_Urbano_Dados!H28,\"\")","v":""},{"$f":"IF(ISNUMBER(A27),FCT_Urbano_Dados!E28/FCT_Urbano_Dados!H28,\"\")","v":""},{"$f":"IF(ISNUMBER(A27),FCT_Urbano_Dados!G28/FCT_Urbano_Dados!H28,\"\")","v":""},{"$f":"IF(ISNUMBER(H27),IF(AND(OR(FCT_Urbano_Dados!S28=\"CD\",FCT_Urbano_Dados!S28=\"n-1\",FCT_Urbano_Dados!S28=\"n\"),H27<0),(H27*FCT_Urbano_Dados!$G$10)/(SUMIFS(FCT_Urbano_Dados!$O$18:$O$71,FCT_Urbano_Dados!$S$18:$S$71,\"CD\")+SUMIFS(FCT_Urbano_Dados!$O$18:$O$71,FCT_Urbano_Dados!$S$18:$S$71,\"n-1\")+SUMIFS(FCT_Urbano_Dados!$O$18:$O$71,FCT_Urbano_Dados!$S$18:$S$71,\"n\")),0),\"\")","v":""},{"$f":"IFERROR(FCT_Urbano_Dados!K28*AVERAGE(FCT_Urbano_Dados!I28:J28),\"\")","v":""},"",{"$f":"IFERROR(IF(ISNUMBER(A27),G27/FCT_Urbano_Dados!H28,\"\"),\"\")","v":""},{"$f":"IFERROR(IF(ISNUMBER(A27),H27/FCT_Urbano_Dados!H28,\"\"),\"\")","v":""},{"$f":"IF(ISNUMBER(A27),100*((J27*0.0036)/VLOOKUP(CST_Urbano!$C$7,Combustíveis,2,FALSE)),\"\")","v":""},{"$f":"IF(ISNUMBER(A27),FCT_Urbano_Dados!P28,\"\")","v":""},{"$f":"IF(ISNUMBER(A27),FCT_Urbano_Dados!S28,\"\")","v":""}]
[{"$f":"IF(ISNUMBER(FCT_Urbano_Dados!A29),FCT_Urbano_Dados!A29,\"\")","v":""},{"$f":"IF(ISNUMBER(A28),FCT_Urbano_Dados!B29/FCT_Urbano_Dados!H29,\"\")","v":""},{"$f":"IF(ISNUMBER(A28),FCT_Urbano_Dados!C29/FCT_Urbano_Dados!H29,\"\")","v":""},{"$f":"IF(ISNUMBER(A28),FCT_Urbano_Dados!D29/FCT_Urbano_Dados!H29,\"\")","v":""},{"$f":"IF(ISNUMBER(A28),FCT_Urbano_Dados!E29/FCT_Urbano_Dados!H29,\"\")","v":""},{"$f":"IF(ISNUMBER(A28),FCT_Urbano_Dados!G29/FCT_Urbano_Dados!H29,\"\")","v":""},{"$f":"IF(ISNUMBER(H28),IF(AND(OR(FCT_Urbano_Dados!S29=\"CD\",FCT_Urbano_Dados!S29=\"n-1\",FCT_Urbano_Dados!S29=\"n\"),H28<0),(H28*FCT_Urbano_Dados!$G$10)/(SUMIFS(FCT_Urbano_Dados!$O$18:$O$71,FCT_Urbano_Dados!$S$18:$S$71,\"CD\")+SUMIFS(FCT_Urbano_Dados!$O$18:$O$71,FCT_Urbano_Dados!$S$18:$S$71,\"n-1\")+SUMIFS(FCT_Urbano_Dados!$O$18:$O$71,FCT_Urbano_Dados!$S$18:$S$71,\"n\")),0),\"\")","v":""},{"$f":"IFERROR(FCT_Urbano_Dados!K29*AVERAGE(FCT_Urbano_Dados!I29:J29),\"\")","v":""},"",{"$f":"IFERROR(IF(ISNUMBER(A28),G28/FCT_Urbano_Dados!H29,\"\"),\"\")","v":""},{"$f":"IFERROR(IF(ISNUMBER(A28),H28/FCT_Urbano_Dados!H29,\"\"),\"\")","v":""},{"$f":"IF(ISNUMBER(A28),100*((J28*0.0036)/VLOOKUP(CST_Urbano!$C$7,Combustíveis,2,FALSE)),\"\")","v":""},{"$f":"IF(ISNUMBER(A28),FCT_Urbano_Dados!P29,\"\")","v":""},{"$f":"IF(ISNUMBER(A28),FCT_Urbano_Dados!S29,\"\")","v":""}]
[{"$f":"IF(ISNUMBER(FCT_Urbano_Dados!A30),FCT_Urbano_Dados!A30,\"\")","v":""},{"$f":"IF(ISNUMBER(A29),FCT_Urbano_Dados!B30/FCT_Urbano_Dados!H30,\"\")","v":""},{"$f":"IF(ISNUMBER(A29),FCT_Urbano_Dados!C30/FCT_Urbano_Dados!H30,\"\")","v":""},{"$f":"IF(ISNUMBER(A29),FCT_Urbano_Dados!D30/FCT_Urbano_Dados!H30,\"\")","v":""},{"$f":"IF(ISNUMBER(A29),FCT_Urbano_Dados!E30/FCT_Urbano_Dados!H30,\"\")","v":""},{"$f":"IF(ISNUMBER(A29),FCT_Urbano_Dados!G30/FCT_Urbano_Dados!H30,\"\")","v":""},{"$f":"IF(ISNUMBER(H29),IF(AND(OR(FCT_Urbano_Dados!S30=\"CD\",FCT_Urbano_Dados!S30=\"n-1\",FCT_Urbano_Dados!S30=\"n\"),H29<0),(H29*FCT_Urbano_Dados!$G$10)/(SUMIFS(FCT_Urbano_Dados!$O$18:$O$71,FCT_Urbano_Dados!$S$18:$S$71,\"CD\")+SUMIFS(FCT_Urbano_Dados!$O$18:$O$71,FCT_Urbano_Dados!$S$18:$S$71,\"n-1\")+SUMIFS(FCT_Urbano_Dados!$O$18:$O$71,FCT_Urbano_Dados!$S$18:$S$71,\"n\")),0),\"\")","v":""},{"$f":"IFERROR(FCT_Urbano_Dados!K30*AVERAGE(FCT_Urbano_Dados!I30:J30),\"\")","v":""},"",{"$f":"IFERROR(IF(ISNUMBER(A29),G29/FCT_Urbano_Dados!H30,\"\"),\"\")","v":""},{"$f":"IFERROR(IF(ISNUMBER(A29),H29/FCT_Urbano_Dados!H30,\"\"),\"\")","v":""},{"$f":"IF(ISNUMBER(A29),100*((J29*0.0036)/VLOOKUP(CST_Urbano!$C$7,Combustíveis,2,FALSE)),\"\")","v":""},{"$f":"IF(ISNUMBER(A29),FCT_Urbano_Dados!P30,\"\")","v":""},{"$f":"IF(ISNUMBER(A29),FCT_Urbano_Dados!S30,\"\")","v":""}]
[{"$f":"IF(ISNUMBER(FCT_Urbano_Dados!A31),FCT_Urbano_Dados!A31,\"\")","v":""},{"$f":"IF(ISNUMBER(A30),FCT_Urbano_Dados!B31/FCT_Urbano_Dados!H31,\"\")","v":""},{"$f":"IF(ISNUMBER(A30),FCT_Urbano_Dados!C31/FCT_Urbano_Dados!H31,\"\")","v":""},{"$f":"IF(ISNUMBER(A30),FCT_Urbano_Dados!D31/FCT_Urbano_Dados!H31,\"\")","v":""},{"$f":"IF(ISNUMBER(A30),FCT_Urbano_Dados!E31/FCT_Urbano_Dados!H31,\"\")","v":""},{"$f":"IF(ISNUMBER(A30),FCT_Urbano_Dados!G31/FCT_Urbano_Dados!H31,\"\")","v":""},{"$f":"IF(ISNUMBER(H30),IF(AND(OR(FCT_Urbano_Dados!S31=\"CD\",FCT_Urbano_Dados!S31=\"n-1\",FCT_Urbano_Dados!S31=\"n\"),H30<0),(H30*FCT_Urbano_Dados!$G$10)/(SUMIFS(FCT_Urbano_Dados!$O$18:$O$71,FCT_Urbano_Dados!$S$18:$S$71,\"CD\")+SUMIFS(FCT_Urbano_Dados!$O$18:$O$71,FCT_Urbano_Dados!$S$18:$S$71,\"n-1\")+SUMIFS(FCT_Urbano_Dados!$O$18:$O$71,FCT_Urbano_Dados!$S$18:$S$71,\"n\")),0),\"\")","v":""},{"$f":"IFERROR(FCT_Urbano_Dados!K31*AVERAGE(FCT_Urbano_Dados!I31:J31),\"\")","v":""},"",{"$f":"IFERROR(IF(ISNUMBER(A30),G30/FCT_Urbano_Dados!H31,\"\"),\"\")","v":""},{"$f":"IFERROR(IF(ISNUMBER(A30),H30/FCT_Urbano_Dados!H31,\"\"),\"\")","v":""},{"$f":"IF(ISNUMBER(A30),100*((J30*0.0036)/VLOOKUP(CST_Urbano!$C$7,Combustíveis,2,FALSE)),\"\")","v":""},{"$f":"IF(ISNUMBER(A30),FCT_Urbano_Dados!P31,\"\")","v":""},{"$f":"IF(ISNUMBER(A30),FCT_Urbano_Dados!S31,\"\")","v":""}]
[{"$f":"IF(ISNUMBER(FCT_Urbano_Dados!A32),FCT_Urbano_Dados!A32,\"\")","v":""},{"$f":"IF(ISNUMBER(A31),FCT_Urbano_Dados!B32/FCT_Urbano_Dados!H32,\"\")","v":""},{"$f":"IF(ISNUMBER(A31),FCT_Urbano_Dados!C32/FCT_Urbano_Dados!H32,\"\")","v":""},{"$f":"IF(ISNUMBER(A31),FCT_Urbano_Dados!D32/FCT_Urbano_Dados!H32,\"\")","v":""},{"$f":"IF(ISNUMBER(A31),FCT_Urbano_Dados!E32/FCT_Urbano_Dados!H32,\"\")","v":""},{"$f":"IF(ISNUMBER(A31),FCT_Urbano_Dados!G32/FCT_Urbano_Dados!H32,\"\")","v":""},{"$f":"IF(ISNUMBER(H31),IF(AND(OR(FCT_Urbano_Dados!S32=\"CD\",FCT_Urbano_Dados!S32=\"n-1\",FCT_Urbano_Dados!S32=\"n\"),H31<0),(H31*FCT_Urbano_Dados!$G$10)/(SUMIFS(FCT_Urbano_Dados!$O$18:$O$71,FCT_Urbano_Dados!$S$18:$S$71,\"CD\")+SUMIFS(FCT_Urbano_Dados!$O$18:$O$71,FCT_Urbano_Dados!$S$18:$S$71,\"n-1\")+SUMIFS(FCT_Urbano_Dados!$O$18:$O$71,FCT_Urbano_Dados!$S$18:$S$71,\"n\")),0),\"\")","v":""},{"$f":"IFERROR(FCT_Urbano_Dados!K32*AVERAGE(FCT_Urbano_Dados!I32:J32),\"\")","v":""},"",{"$f":"IFERROR(IF(ISNUMBER(A31),G31/FCT_Urbano_Dados!H32,\"\"),\"\")","v":""},{"$f":"IFERROR(IF(ISNUMBER(A31),H31/FCT_Urbano_Dados!H32,\"\"),\"\")","v":""},{"$f":"IF(ISNUMBER(A31),100*((J31*0.0036)/VLOOKUP(CST_Urbano!$C$7,Combustíveis,2,FALSE)),\"\")","v":""},{"$f":"IF(ISNUMBER(A31),FCT_Urbano_Dados!P32,\"\")","v":""},{"$f":"IF(ISNUMBER(A31),FCT_Urbano_Dados!S32,\"\")","v":""}]
[{"$f":"IF(ISNUMBER(FCT_Urbano_Dados!A33),FCT_Urbano_Dados!A33,\"\")","v":""},{"$f":"IF(ISNUMBER(A32),FCT_Urbano_Dados!B33/FCT_Urbano_Dados!H33,\"\")","v":""},{"$f":"IF(ISNUMBER(A32),FCT_Urbano_Dados!C33/FCT_Urbano_Dados!H33,\"\")","v":""},{"$f":"IF(ISNUMBER(A32),FCT_Urbano_Dados!D33/FCT_Urbano_Dados!H33,\"\")","v":""},{"$f":"IF(ISNUMBER(A32),FCT_Urbano_Dados!E33/FCT_Urbano_Dados!H33,\"\")","v":""},{"$f":"IF(ISNUMBER(A32),FCT_Urbano_Dados!G33/FCT_Urbano_Dados!H33,\"\")","v":""},{"$f":"IF(ISNUMBER(H32),IF(AND(OR(FCT_Urbano_Dados!S33=\"CD\",FCT_Urbano_Dados!S33=\"n-1\",FCT_Urbano_Dados!S33=\"n\"),H32<0),(H32*FCT_Urbano_Dados!$G$10)/(SUMIFS(FCT_Urbano_Dados!$O$18:$O$71,FCT_Urbano_Dados!$S$18:$S$71,\"CD\")+SUMIFS(FCT_Urbano_Dados!$O$18:$O$71,FCT_Urbano_Dados!$S$18:$S$71,\"n-1\")+SUMIFS(FCT_Urbano_Dados!$O$18:$O$71,FCT_Urbano_Dados!$S$18:$S$71,\"n\")),0),\"\")","v":""},{"$f":"IFERROR(FCT_Urbano_Dados!K33*AVERAGE(FCT_Urbano_Dados!I33:J33),\"\")","v":""},"",{"$f":"IFERROR(IF(ISNUMBER(A32),G32/FCT_Urbano_Dados!H33,\"\"),\"\")","v":""},{"$f":"IFERROR(IF(ISNUMBER(A32),H32/FCT_Urbano_Dados!H33,\"\"),\"\")","v":""},{"$f":"IF(ISNUMBER(A32),100*((J32*0.0036)/VLOOKUP(CST_Urbano!$C$7,Combustíveis,2,FALSE)),\"\")","v":""},{"$f":"IF(ISNUMBER(A32),FCT_Urbano_Dados!P33,\"\")","v":""},{"$f":"IF(ISNUMBER(A32),FCT_Urbano_Dados!S33,\"\")","v":""}]
[{"$f":"IF(ISNUMBER(FCT_Urbano_Dados!A34),FCT_Urbano_Dados!A34,\"\")","v":""},{"$f":"IF(ISNUMBER(A33),FCT_Urbano_Dados!B34/FCT_Urbano_Dados!H34,\"\")","v":""},{"$f":"IF(ISNUMBER(A33),FCT_Urbano_Dados!C34/FCT_Urbano_Dados!H34,\"\")","v":""},{"$f":"IF(ISNUMBER(A33),FCT_Urbano_Dados!D34/FCT_Urbano_Dados!H34,\"\")","v":""},{"$f":"IF(ISNUMBER(A33),FCT_Urbano_Dados!E34/FCT_Urbano_Dados!H34,\"\")","v":""},{"$f":"IF(ISNUMBER(A33),FCT_Urbano_Dados!G34/FCT_Urbano_Dados!H34,\"\")","v":""},{"$f":"IF(ISNUMBER(H33),IF(AND(OR(FCT_Urbano_Dados!S34=\"CD\",FCT_Urbano_Dados!S34=\"n-1\",FCT_Urbano_Dados!S34=\"n\"),H33<0),(H33*FCT_Urbano_Dados!$G$10)/(SUMIFS(FCT_Urbano_Dados!$O$18:$O$71,FCT_Urbano_Dados!$S$18:$S$71,\"CD\")+SUMIFS(FCT_Urbano_Dados!$O$18:$O$71,FCT_Urbano_Dados!$S$18:$S$71,\"n-1\")+SUMIFS(FCT_Urbano_Dados!$O$18:$O$71,FCT_Urbano_Dados!$S$18:$S$71,\"n\")),0),\"\")","v":""},{"$f":"IFERROR(FCT_Urbano_Dados!K34*AVERAGE(FCT_Urbano_Dados!I34:J34),\"\")","v":""},"",{"$f":"IFERROR(IF(ISNUMBER(A33),G33/FCT_Urbano_Dados!H34,\"\"),\"\")","v":""},{"$f":"IFERROR(IF(ISNUMBER(A33),H33/FCT_Urbano_Dados!H34,\"\"),\"\")","v":""},{"$f":"IF(ISNUMBER(A33),100*((J33*0.0036)/VLOOKUP(CST_Urbano!$C$7,Combustíveis,2,FALSE)),\"\")","v":""},{"$f":"IF(ISNUMBER(A33),FCT_Urbano_Dados!P34,\"\")","v":""},{"$f":"IF(ISNUMBER(A33),FCT_Urbano_Dados!S34,\"\")","v":""}]
[{"$f":"IF(ISNUMBER(FCT_Urbano_Dados!A35),FCT_Urbano_Dados!A35,\"\")","v":""},{"$f":"IF(ISNUMBER(A34),FCT_Urbano_Dados!B35/FCT_Urbano_Dados!H35,\"\")","v":""},{"$f":"IF(ISNUMBER(A34),FCT_Urbano_Dados!C35/FCT_Urbano_Dados!H35,\"\")","v":""},{"$f":"IF(ISNUMBER(A34),FCT_Urbano_Dados!D35/FCT_Urbano_Dados!H35,\"\")","v":""},{"$f":"IF(ISNUMBER(A34),FCT_Urbano_Dados!E35/FCT_Urbano_Dados!H35,\"\")","v":""},{"$f":"IF(ISNUMBER(A34),FCT_Urbano_Dados!G35/FCT_Urbano_Dados!H35,\"\")","v":""},{"$f":"IF(ISNUMBER(H34),IF(AND(OR(FCT_Urbano_Dados!S35=\"CD\",FCT_Urbano_Dados!S35=\"n-1\",FCT_Urbano_Dados!S35=\"n\"),H34<0),(H34*FCT_Urbano_Dados!$G$10)/(SUMIFS(FCT_Urbano_Dados!$O$18:$O$71,FCT_Urbano_Dados!$S$18:$S$71,\"CD\")+SUMIFS(FCT_Urbano_Dados!$O$18:$O$71,FCT_Urbano_Dados!$S$18:$S$71,\"n-1\")+SUMIFS(FCT_Urbano_Dados!$O$18:$O$71,FCT_Urbano_Dados!$S$18:$S$71,\"n\")),0),\"\")","v":""},{"$f":"IFERROR(FCT_Urbano_Dados!K35*AVERAGE(FCT_Urbano_Dados!I35:J35),\"\")","v":""},"",{"$f":"IFERROR(IF(ISNUMBER(A34),G34/FCT_Urbano_Dados!H35,\"\"),\"\")","v":""},{"$f":"IFERROR(IF(ISNUMBER(A34),H34/FCT_Urbano_Dados!H35,\"\"),\"\")","v":""},{"$f":"IF(ISNUMBER(A34),100*((J34*0.0036)/VLOOKUP(CST_Urbano!$C$7,Combustíveis,2,FALSE)),\"\")","v":""},{"$f":"IF(ISNUMBER(A34),FCT_Urbano_Dados!P35,\"\")","v":""},{"$f":"IF(ISNUMBER(A34),FCT_Urbano_Dados!S35,\"\")","v":""}]
[{"$f":"IF(ISNUMBER(FCT_Urbano_Dados!A36),FCT_Urbano_Dados!A36,\"\")","v":""},{"$f":"IF(ISNUMBER(A35),FCT_Urbano_Dados!B36/FCT_Urbano_Dados!H36,\"\")","v":""},{"$f":"IF(ISNUMBER(A35),FCT_Urbano_Dados!C36/FCT_Urbano_Dados!H36,\"\")","v":""},{"$f":"IF(ISNUMBER(A35),FCT_Urbano_Dados!D36/FCT_Urbano_Dados!H36,\"\")","v":""},{"$f":"IF(ISNUMBER(A35),FCT_Urbano_Dados!E36/FCT_Urbano_Dados!H36,\"\")","v":""},{"$f":"IF(ISNUMBER(A35),FCT_Urbano_Dados!G36/FCT_Urbano_Dados!H36,\"\")","v":""},{"$f":"IF(ISNUMBER(H35),IF(AND(OR(FCT_Urbano_Dados!S36=\"CD\",FCT_Urbano_Dados!S36=\"n-1\",FCT_Urbano_Dados!S36=\"n\"),H35<0),(H35*FCT_Urbano_Dados!$G$10)/(SUMIFS(FCT_Urbano_Dados!$O$18:$O$71,FCT_Urbano_Dados!$S$18:$S$71,\"CD\")+SUMIFS(FCT_Urbano_Dados!$O$18:$O$71,FCT_Urbano_Dados!$S$18:$S$71,\"n-1\")+SUMIFS(FCT_Urbano_Dados!$O$18:$O$71,FCT_Urbano_Dados!$S$18:$S$71,\"n\")),0),\"\")","v":""},{"$f":"IFERROR(FCT_Urbano_Dados!K36*AVERAGE(FCT_Urbano_Dados!I36:J36),\"\")","v":""},"",{"$f":"IFERROR(IF(ISNUMBER(A35),G35/FCT_Urbano_Dados!H36,\"\"),\"\")","v":""},{"$f":"IFERROR(IF(ISNUMBER(A35),H35/FCT_Urbano_Dados!H36,\"\"),\"\")","v":""},{"$f":"IF(ISNUMBER(A35),100*((J35*0.0036)/VLOOKUP(CST_Urbano!$C$7,Combustíveis,2,FALSE)),\"\")","v":""},{"$f":"IF(ISNUMBER(A35),FCT_Urbano_Dados!P36,\"\")","v":""},{"$f":"IF(ISNUMBER(A35),FCT_Urbano_Dados!S36,\"\")","v":""}]
[{"$f":"IF(ISNUMBER(FCT_Urbano_Dados!A37),FCT_Urbano_Dados!A37,\"\")","v":""},{"$f":"IF(ISNUMBER(A36),FCT_Urbano_Dados!B37/FCT_Urbano_Dados!H37,\"\")","v":""},{"$f":"IF(ISNUMBER(A36),FCT_Urbano_Dados!C37/FCT_Urbano_Dados!H37,\"\")","v":""},{"$f":"IF(ISNUMBER(A36),FCT_Urbano_Dados!D37/FCT_Urbano_Dados!H37,\"\")","v":""},{"$f":"IF(ISNUMBER(A36),FCT_Urbano_Dados!E37/FCT_Urbano_Dados!H37,\"\")","v":""},{"$f":"IF(ISNUMBER(A36),FCT_Urbano_Dados!G37/FCT_Urbano_Dados!H37,\"\")","v":""},{"$f":"IF(ISNUMBER(H36),IF(AND(OR(FCT_Urbano_Dados!S37=\"CD\",FCT_Urbano_Dados!S37=\"n-1\",FCT_Urbano_Dados!S37=\"n\"),H36<0),(H36*FCT_Urbano_Dados!$G$10)/(SUMIFS(FCT_Urbano_Dados!$O$18:$O$71,FCT_Urbano_Dados!$S$18:$S$71,\"CD\")+SUMIFS(FCT_Urbano_Dados!$O$18:$O$71,FCT_Urbano_Dados!$S$18:$S$71,\"n-1\")+SUMIFS(FCT_Urbano_Dados!$O$18:$O$71,FCT_Urbano_Dados!$S$18:$S$71,\"n\")),0),\"\")","v":""},{"$f":"IFERROR(FCT_Urbano_Dados!K37*AVERAGE(FCT_Urbano_Dados!I37:J37),\"\")","v":""},"",{"$f":"IFERROR(IF(ISNUMBER(A36),G36/FCT_Urbano_Dados!H37,\"\"),\"\")","v":""},{"$f":"IFERROR(IF(ISNUMBER(A36),H36/FCT_Urbano_Dados!H37,\"\"),\"\")","v":""},{"$f":"IF(ISNUMBER(A36),100*((J36*0.0036)/VLOOKUP(CST_Urbano!$C$7,Combustíveis,2,FALSE)),\"\")","v":""},{"$f":"IF(ISNUMBER(A36),FCT_Urbano_Dados!P37,\"\")","v":""},{"$f":"IF(ISNUMBER(A36),FCT_Urbano_Dados!S37,\"\")","v":""}]
[{"$f":"IF(ISNUMBER(FCT_Urbano_Dados!A38),FCT_Urbano_Dados!A38,\"\")","v":""},{"$f":"IF(ISNUMBER(A37),FCT_Urbano_Dados!B38/FCT_Urbano_Dados!H38,\"\")","v":""},{"$f":"IF(ISNUMBER(A37),FCT_Urbano_Dados!C38/FCT_Urbano_Dados!H38,\"\")","v":""},{"$f":"IF(ISNUMBER(A37),FCT_Urbano_Dados!D38/FCT_Urbano_Dados!H38,\"\")","v":""},{"$f":"IF(ISNUMBER(A37),FCT_Urbano_Dados!E38/FCT_Urbano_Dados!H38,\"\")","v":""},{"$f":"IF(ISNUMBER(A37),FCT_Urbano_Dados!G38/FCT_Urbano_Dados!H38,\"\")","v":""},{"$f":"IF(ISNUMBER(H37),IF(AND(OR(FCT_Urbano_Dados!S38=\"CD\",FCT_Urbano_Dados!S38=\"n-1\",FCT_Urbano_Dados!S38=\"n\"),H37<0),(H37*FCT_Urbano_Dados!$G$10)/(SUMIFS(FCT_Urbano_Dados!$O$18:$O$71,FCT_Urbano_Dados!$S$18:$S$71,\"CD\")+SUMIFS(FCT_Urbano_Dados!$O$18:$O$71,FCT_Urbano_Dados!$S$18:$S$71,\"n-1\")+SUMIFS(FCT_Urbano_Dados!$O$18:$O$71,FCT_Urbano_Dados!$S$18:$S$71,\"n\")),0),\"\")","v":""},{"$f":"IFERROR(FCT_Urbano_Dados!K38*AVERAGE(FCT_Urbano_Dados!I38:J38),\"\")","v":""},"",{"$f":"IFERROR(IF(ISNUMBER(A37),G37/FCT_Urbano_Dados!H38,\"\"),\"\")","v":""},{"$f":"IFERROR(IF(ISNUMBER(A37),H37/FCT_Urbano_Dados!H38,\"\"),\"\")","v":""},{"$f":"IF(ISNUMBER(A37),100*((J37*0.0036)/VLOOKUP(CST_Urbano!$C$7,Combustíveis,2,FALSE)),\"\")","v":""},{"$f":"IF(ISNUMBER(A37),FCT_Urbano_Dados!P38,\"\")","v":""},{"$f":"IF(ISNUMBER(A37),FCT_Urbano_Dados!S38,\"\")","v":""}]
[{"$f":"IF(ISNUMBER(FCT_Urbano_Dados!A39),FCT_Urbano_Dados!A39,\"\")","v":""},{"$f":"IF(ISNUMBER(A38),FCT_Urbano_Dados!B39/FCT_Urbano_Dados!H39,\"\")","v":""},{"$f":"IF(ISNUMBER(A38),FCT_Urbano_Dados!C39/FCT_Urbano_Dados!H39,\"\")","v":""},{"$f":"IF(ISNUMBER(A38),FCT_Urbano_Dados!D39/FCT_Urbano_Dados!H39,\"\")","v":""},{"$f":"IF(ISNUMBER(A38),FCT_Urbano_Dados!E39/FCT_Urbano_Dados!H39,\"\")","v":""},{"$f":"IF(ISNUMBER(A38),FCT_Urbano_Dados!G39/FCT_Urbano_Dados!H39,\"\")","v":""},{"$f":"IF(ISNUMBER(H38),IF(AND(OR(FCT_Urbano_Dados!S39=\"CD\",FCT_Urbano_Dados!S39=\"n-1\",FCT_Urbano_Dados!S39=\"n\"),H38<0),(H38*FCT_Urbano_Dados!$G$10)/(SUMIFS(FCT_Urbano_Dados!$O$18:$O$71,FCT_Urbano_Dados!$S$18:$S$71,\"CD\")+SUMIFS(FCT_Urbano_Dados!$O$18:$O$71,FCT_Urbano_Dados!$S$18:$S$71,\"n-1\")+SUMIFS(FCT_Urbano_Dados!$O$18:$O$71,FCT_Urbano_Dados!$S$18:$S$71,\"n\")),0),\"\")","v":""},{"$f":"IFERROR(FCT_Urbano_Dados!K39*AVERAGE(FCT_Urbano_Dados!I39:J39),\"\")","v":""},"",{"$f":"IFERROR(IF(ISNUMBER(A38),G38/FCT_Urbano_Dados!H39,\"\"),\"\")","v":""},{"$f":"IFERROR(IF(ISNUMBER(A38),H38/FCT_Urbano_Dados!H39,\"\"),\"\")","v":""},{"$f":"IF(ISNUMBER(A38),100*((J38*0.0036)/VLOOKUP(CST_Urbano!$C$7,Combustíveis,2,FALSE)),\"\")","v":""},{"$f":"IF(ISNUMBER(A38),FCT_Urbano_Dados!P39,\"\")","v":""},{"$f":"IF(ISNUMBER(A38),FCT_Urbano_Dados!S39,\"\")","v":""}]
[{"$f":"IF(ISNUMBER(FCT_Urbano_Dados!A40),FCT_Urbano_Dados!A40,\"\")","v":""},{"$f":"IF(ISNUMBER(A39),FCT_Urbano_Dados!B40/FCT_Urbano_Dados!H40,\"\")","v":""},{"$f":"IF(ISNUMBER(A39),FCT_Urbano_Dados!C40/FCT_Urbano_Dados!H40,\"\")","v":""},{"$f":"IF(ISNUMBER(A39),FCT_Urbano_Dados!D40/FCT_Urbano_Dados!H40,\"\")","v":""},{"$f":"IF(ISNUMBER(A39),FCT_Urbano_Dados!E40/FCT_Urbano_Dados!H40,\"\")","v":""},{"$f":"IF(ISNUMBER(A39),FCT_Urbano_Dados!G40/FCT_Urbano_Dados!H40,\"\")","v":""},{"$f":"IF(ISNUMBER(H39),IF(AND(OR(FCT_Urbano_Dados!S40=\"CD\",FCT_Urbano_Dados!S40=\"n-1\",FCT_Urbano_Dados!S40=\"n\"),H39<0),(H39*FCT_Urbano_Dados!$G$10)/(SUMIFS(FCT_Urbano_Dados!$O$18:$O$71,FCT_Urbano_Dados!$S$18:$S$71,\"CD\")+SUMIFS(FCT_Urbano_Dados!$O$18:$O$71,FCT_Urbano_Dados!$S$18:$S$71,\"n-1\")+SUMIFS(FCT_Urbano_Dados!$O$18:$O$71,FCT_Urbano_Dados!$S$18:$S$71,\"n\")),0),\"\")","v":""},{"$f":"IFERROR(FCT_Urbano_Dados!K40*AVERAGE(FCT_Urbano_Dados!I40:J40),\"\")","v":""},"",{"$f":"IFERROR(IF(ISNUMBER(A39),G39/FCT_Urbano_Dados!H40,\"\"),\"\")","v":""},{"$f":"IFERROR(IF(ISNUMBER(A39),H39/FCT_Urbano_Dados!H40,\"\"),\"\")","v":""},{"$f":"IF(ISNUMBER(A39),100*((J39*0.0036)/VLOOKUP(CST_Urbano!$C$7,Combustíveis,2,FALSE)),\"\")","v":""},{"$f":"IF(ISNUMBER(A39),FCT_Urbano_Dados!P40,\"\")","v":""},{"$f":"IF(ISNUMBER(A39),FCT_Urbano_Dados!S40,\"\")","v":""}]
[{"$f":"IF(ISNUMBER(FCT_Urbano_Dados!A41),FCT_Urbano_Dados!A41,\"\")","v":""},{"$f":"IF(ISNUMBER(A40),FCT_Urbano_Dados!B41/FCT_Urbano_Dados!H41,\"\")","v":""},{"$f":"IF(ISNUMBER(A40),FCT_Urbano_Dados!C41/FCT_Urbano_Dados!H41,\"\")","v":""},{"$f":"IF(ISNUMBER(A40),FCT_Urbano_Dados!D41/FCT_Urbano_Dados!H41,\"\")","v":""},{"$f":"IF(ISNUMBER(A40),FCT_Urbano_Dados!E41/FCT_Urbano_Dados!H41,\"\")","v":""},{"$f":"IF(ISNUMBER(A40),FCT_Urbano_Dados!G41/FCT_Urbano_Dados!H41,\"\")","v":""},{"$f":"IF(ISNUMBER(H40),IF(AND(OR(FCT_Urbano_Dados!S41=\"CD\",FCT_Urbano_Dados!S41=\"n-1\",FCT_Urbano_Dados!S41=\"n\"),H40<0),(H40*FCT_Urbano_Dados!$G$10)/(SUMIFS(FCT_Urbano_Dados!$O$18:$O$71,FCT_Urbano_Dados!$S$18:$S$71,\"CD\")+SUMIFS(FCT_Urbano_Dados!$O$18:$O$71,FCT_Urbano_Dados!$S$18:$S$71,\"n-1\")+SUMIFS(FCT_Urbano_Dados!$O$18:$O$71,FCT_Urbano_Dados!$S$18:$S$71,\"n\")),0),\"\")","v":""},{"$f":"IFERROR(FCT_Urbano_Dados!K41*AVERAGE(FCT_Urbano_Dados!I41:J41),\"\")","v":""},"",{"$f":"IFERROR(IF(ISNUMBER(A40),G40/FCT_Urbano_Dados!H41,\"\"),\"\")","v":""},{"$f":"IFERROR(IF(ISNUMBER(A40),H40/FCT_Urbano_Dados!H41,\"\"),\"\")","v":""},{"$f":"IF(ISNUMBER(A40),100*((J40*0.0036)/VLOOKUP(CST_Urbano!$C$7,Combustíveis,2,FALSE)),\"\")","v":""},{"$f":"IF(ISNUMBER(A40),FCT_Urbano_Dados!P41,\"\")","v":""},{"$f":"IF(ISNUMBER(A40),FCT_Urbano_Dados!S41,\"\")","v":""},null,null,""]
[{"$f":"IF(ISNUMBER(FCT_Urbano_Dados!A42),FCT_Urbano_Dados!A42,\"\")","v":""},{"$f":"IF(ISNUMBER(A41),FCT_Urbano_Dados!B42/FCT_Urbano_Dados!H42,\"\")","v":""},{"$f":"IF(ISNUMBER(A41),FCT_Urbano_Dados!C42/FCT_Urbano_Dados!H42,\"\")","v":""},{"$f":"IF(ISNUMBER(A41),FCT_Urbano_Dados!D42/FCT_Urbano_Dados!H42,\"\")","v":""},{"$f":"IF(ISNUMBER(A41),FCT_Urbano_Dados!E42/FCT_Urbano_Dados!H42,\"\")","v":""},{"$f":"IF(ISNUMBER(A41),FCT_Urbano_Dados!G42/FCT_Urbano_Dados!H42,\"\")","v":""},{"$f":"IF(ISNUMBER(H41),IF(AND(OR(FCT_Urbano_Dados!S42=\"CD\",FCT_Urbano_Dados!S42=\"n-1\",FCT_Urbano_Dados!S42=\"n\"),H41<0),(H41*FCT_Urbano_Dados!$G$10)/(SUMIFS(FCT_Urbano_Dados!$O$18:$O$71,FCT_Urbano_Dados!$S$18:$S$71,\"CD\")+SUMIFS(FCT_Urbano_Dados!$O$18:$O$71,FCT_Urbano_Dados!$S$18:$S$71,\"n-1\")+SUMIFS(FCT_Urbano_Dados!$O$18:$O$71,FCT_Urbano_Dados!$S$18:$S$71,\"n\")),0),\"\")","v":""},{"$f":"IFERROR(FCT_Urbano_Dados!K42*AVERAGE(FCT_Urbano_Dados!I42:J42),\"\")","v":""},"",{"$f":"IFERROR(IF(ISNUMBER(A41),G41/FCT_Urbano_Dados!H42,\"\"),\"\")","v":""},{"$f":"IFERROR(IF(ISNUMBER(A41),H41/FCT_Urbano_Dados!H42,\"\"),\"\")","v":""},{"$f":"IF(ISNUMBER(A41),100*((J41*0.0036)/VLOOKUP(CST_Urbano!$C$7,Combustíveis,2,FALSE)),\"\")","v":""},{"$f":"IF(ISNUMBER(A41),FCT_Urbano_Dados!P42,\"\")","v":""},{"$f":"IF(ISNUMBER(A41),FCT_Urbano_Dados!S42,\"\")","v":""},null,null,""]
[{"$f":"IF(ISNUMBER(FCT_Urbano_Dados!A43),FCT_Urbano_Dados!A43,\"\")","v":""},{"$f":"IF(ISNUMBER(A42),FCT_Urbano_Dados!B43/FCT_Urbano_Dados!H43,\"\")","v":""},{"$f":"IF(ISNUMBER(A42),FCT_Urbano_Dados!C43/FCT_Urbano_Dados!H43,\"\")","v":""},{"$f":"IF(ISNUMBER(A42),FCT_Urbano_Dados!D43/FCT_Urbano_Dados!H43,\"\")","v":""},{"$f":"IF(ISNUMBER(A42),FCT_Urbano_Dados!E43/FCT_Urbano_Dados!H43,\"\")","v":""},{"$f":"IF(ISNUMBER(A42),FCT_Urbano_Dados!G43/FCT_Urbano_Dados!H43,\"\")","v":""},{"$f":"IF(ISNUMBER(H42),IF(AND(OR(FCT_Urbano_Dados!S43=\"CD\",FCT_Urbano_Dados!S43=\"n-1\",FCT_Urbano_Dados!S43=\"n\"),H42<0),(H42*FCT_Urbano_Dados!$G$10)/(SUMIFS(FCT_Urbano_Dados!$O$18:$O$71,FCT_Urbano_Dados!$S$18:$S$71,\"CD\")+SUMIFS(FCT_Urbano_Dados!$O$18:$O$71,FCT_Urbano_Dados!$S$18:$S$71,\"n-1\")+SUMIFS(FCT_Urbano_Dados!$O$18:$O$71,FCT_Urbano_Dados!$S$18:$S$71,\"n\")),0),\"\")","v":""},{"$f":"IFERROR(FCT_Urbano_Dados!K43*AVERAGE(FCT_Urbano_Dados!I43:J43),\"\")","v":""},"",{"$f":"IFERROR(IF(ISNUMBER(A42),G42/FCT_Urbano_Dados!H43,\"\"),\"\")","v":""},{"$f":"IFERROR(IF(ISNUMBER(A42),H42/FCT_Urbano_Dados!H43,\"\"),\"\")","v":""},{"$f":"IF(ISNUMBER(A42),100*((J42*0.0036)/VLOOKUP(CST_Urbano!$C$7,Combustíveis,2,FALSE)),\"\")","v":""},{"$f":"IF(ISNUMBER(A42),FCT_Urbano_Dados!P43,\"\")","v":""},{"$f":"IF(ISNUMBER(A42),FCT_Urbano_Dados!S43,\"\")","v":""},null,null,""]
[{"$f":"IF(ISNUMBER(FCT_Urbano_Dados!A44),FCT_Urbano_Dados!A44,\"\")","v":""},{"$f":"IF(ISNUMBER(A43),FCT_Urbano_Dados!B44/FCT_Urbano_Dados!H44,\"\")","v":""},{"$f":"IF(ISNUMBER(A43),FCT_Urbano_Dados!C44/FCT_Urbano_Dados!H44,\"\")","v":""},{"$f":"IF(ISNUMBER(A43),FCT_Urbano_Dados!D44/FCT_Urbano_Dados!H44,\"\")","v":""},{"$f":"IF(ISNUMBER(A43),FCT_Urbano_Dados!E44/FCT_Urbano_Dados!H44,\"\")","v":""},{"$f":"IF(ISNUMBER(A43),FCT_Urbano_Dados!G44/FCT_Urbano_Dados!H44,\"\")","v":""},{"$f":"IF(ISNUMBER(H43),IF(AND(OR(FCT_Urbano_Dados!S44=\"CD\",FCT_Urbano_Dados!S44=\"n-1\",FCT_Urbano_Dados!S44=\"n\"),H43<0),(H43*FCT_Urbano_Dados!$G$10)/(SUMIFS(FCT_Urbano_Dados!$O$18:$O$71,FCT_Urbano_Dados!$S$18:$S$71,\"CD\")+SUMIFS(FCT_Urbano_Dados!$O$18:$O$71,FCT_Urbano_Dados!$S$18:$S$71,\"n-1\")+SUMIFS(FCT_Urbano_Dados!$O$18:$O$71,FCT_Urbano_Dados!$S$18:$S$71,\"n\")),0),\"\")","v":""},{"$f":"IFERROR(FCT_Urbano_Dados!K44*AVERAGE(FCT_Urbano_Dados!I44:J44),\"\")","v":""},"",{"$f":"IFERROR(IF(ISNUMBER(A43),G43/FCT_Urbano_Dados!H44,\"\"),\"\")","v":""},{"$f":"IFERROR(IF(ISNUMBER(A43),H43/FCT_Urbano_Dados!H44,\"\"),\"\")","v":""},{"$f":"IF(ISNUMBER(A43),100*((J43*0.0036)/VLOOKUP(CST_Urbano!$C$7,Combustíveis,2,FALSE)),\"\")","v":""},{"$f":"IF(ISNUMBER(A43),FCT_Urbano_Dados!P44,\"\")","v":""},{"$f":"IF(ISNUMBER(A43),FCT_Urbano_Dados!S44,\"\")","v":""},null,null,""]
[{"$f":"IF(ISNUMBER(FCT_Urbano_Dados!A45),FCT_Urbano_Dados!A45,\"\")","v":""},{"$f":"IF(ISNUMBER(A44),FCT_Urbano_Dados!B45/FCT_Urbano_Dados!H45,\"\")","v":""},{"$f":"IF(ISNUMBER(A44),FCT_Urbano_Dados!C45/FCT_Urbano_Dados!H45,\"\")","v":""},{"$f":"IF(ISNUMBER(A44),FCT_Urbano_Dados!D45/FCT_Urbano_Dados!H45,\"\")","v":""},{"$f":"IF(ISNUMBER(A44),FCT_Urbano_Dados!E45/FCT_Urbano_Dados!H45,\"\")","v":""},{"$f":"IF(ISNUMBER(A44),FCT_Urbano_Dados!G45/FCT_Urbano_Dados!H45,\"\")","v":""},{"$f":"IF(ISNUMBER(H44),IF(AND(OR(FCT_Urbano_Dados!S45=\"CD\",FCT_Urbano_Dados!S45=\"n-1\",FCT_Urbano_Dados!S45=\"n\"),H44<0),(H44*FCT_Urbano_Dados!$G$10)/(SUMIFS(FCT_Urbano_Dados!$O$18:$O$71,FCT_Urbano_Dados!$S$18:$S$71,\"CD\")+SUMIFS(FCT_Urbano_Dados!$O$18:$O$71,FCT_Urbano_Dados!$S$18:$S$71,\"n-1\")+SUMIFS(FCT_Urbano_Dados!$O$18:$O$71,FCT_Urbano_Dados!$S$18:$S$71,\"n\")),0),\"\")","v":""},{"$f":"IFERROR(FCT_Urbano_Dados!K45*AVERAGE(FCT_Urbano_Dados!I45:J45),\"\")","v":""},"",{"$f":"IFERROR(IF(ISNUMBER(A44),G44/FCT_Urbano_Dados!H45,\"\"),\"\")","v":""},{"$f":"IFERROR(IF(ISNUMBER(A44),H44/FCT_Urbano_Dados!H45,\"\"),\"\")","v":""},{"$f":"IF(ISNUMBER(A44),100*((J44*0.0036)/VLOOKUP(CST_Urbano!$C$7,Combustíveis,2,FALSE)),\"\")","v":""},{"$f":"IF(ISNUMBER(A44),FCT_Urbano_Dados!P45,\"\")","v":""},{"$f":"IF(ISNUMBER(A44),FCT_Urbano_Dados!S45,\"\")","v":""},null,null,""]
[{"$f":"IF(ISNUMBER(FCT_Urbano_Dados!A46),FCT_Urbano_Dados!A46,\"\")","v":""},{"$f":"IF(ISNUMBER(A45),FCT_Urbano_Dados!B46/FCT_Urbano_Dados!H46,\"\")","v":""},{"$f":"IF(ISNUMBER(A45),FCT_Urbano_Dados!C46/FCT_Urbano_Dados!H46,\"\")","v":""},{"$f":"IF(ISNUMBER(A45),FCT_Urbano_Dados!D46/FCT_Urbano_Dados!H46,\"\")","v":""},{"$f":"IF(ISNUMBER(A45),FCT_Urbano_Dados!E46/FCT_Urbano_Dados!H46,\"\")","v":""},{"$f":"IF(ISNUMBER(A45),FCT_Urbano_Dados!G46/FCT_Urbano_Dados!H46,\"\")","v":""},{"$f":"IF(ISNUMBER(H45),IF(AND(OR(FCT_Urbano_Dados!S46=\"CD\",FCT_Urbano_Dados!S46=\"n-1\",FCT_Urbano_Dados!S46=\"n\"),H45<0),(H45*FCT_Urbano_Dados!$G$10)/(SUMIFS(FCT_Urbano_Dados!$O$18:$O$71,FCT_Urbano_Dados!$S$18:$S$71,\"CD\")+SUMIFS(FCT_Urbano_Dados!$O$18:$O$71,FCT_Urbano_Dados!$S$18:$S$71,\"n-1\")+SUMIFS(FCT_Urbano_Dados!$O$18:$O$71,FCT_Urbano_Dados!$S$18:$S$71,\"n\")),0),\"\")","v":""},{"$f":"IFERROR(FCT_Urbano_Dados!K46*AVERAGE(FCT_Urbano_Dados!I46:J46),\"\")","v":""},"",{"$f":"IFERROR(IF(ISNUMBER(A45),G45/FCT_Urbano_Dados!H46,\"\"),\"\")","v":""},{"$f":"IFERROR(IF(ISNUMBER(A45),H45/FCT_Urbano_Dados!H46,\"\"),\"\")","v":""},{"$f":"IF(ISNUMBER(A45),100*((J45*0.0036)/VLOOKUP(CST_Urbano!$C$7,Combustíveis,2,FALSE)),\"\")","v":""},{"$f":"IF(ISNUMBER(A45),FCT_Urbano_Dados!P46,\"\")","v":""},{"$f":"IF(ISNUMBER(A45),FCT_Urbano_Dados!S46,\"\")","v":""},null,null,""]
[{"$f":"IF(ISNUMBER(FCT_Urbano_Dados!A47),FCT_Urbano_Dados!A47,\"\")","v":""},{"$f":"IF(ISNUMBER(A46),FCT_Urbano_Dados!B47/FCT_Urbano_Dados!H47,\"\")","v":""},{"$f":"IF(ISNUMBER(A46),FCT_Urbano_Dados!C47/FCT_Urbano_Dados!H47,\"\")","v":""},{"$f":"IF(ISNUMBER(A46),FCT_Urbano_Dados!D47/FCT_Urbano_Dados!H47,\"\")","v":""},{"$f":"IF(ISNUMBER(A46),FCT_Urbano_Dados!E47/FCT_Urbano_Dados!H47,\"\")","v":""},{"$f":"IF(ISNUMBER(A46),FCT_Urbano_Dados!G47/FCT_Urbano_Dados!H47,\"\")","v":""},{"$f":"IF(ISNUMBER(H46),IF(AND(OR(FCT_Urbano_Dados!S47=\"CD\",FCT_Urbano_Dados!S47=\"n-1\",FCT_Urbano_Dados!S47=\"n\"),H46<0),(H46*FCT_Urbano_Dados!$G$10)/(SUMIFS(FCT_Urbano_Dados!$O$18:$O$71,FCT_Urbano_Dados!$S$18:$S$71,\"CD\")+SUMIFS(FCT_Urbano_Dados!$O$18:$O$71,FCT_Urbano_Dados!$S$18:$S$71,\"n-1\")+SUMIFS(FCT_Urbano_Dados!$O$18:$O$71,FCT_Urbano_Dados!$S$18:$S$71,\"n\")),0),\"\")","v":""},{"$f":"IFERROR(FCT_Urbano_Dados!K47*AVERAGE(FCT_Urbano_Dados!I47:J47),\"\")","v":""},"",{"$f":"IFERROR(IF(ISNUMBER(A46),G46/FCT_Urbano_Dados!H47,\"\"),\"\")","v":""},{"$f":"IFERROR(IF(ISNUMBER(A46),H46/FCT_Urbano_Dados!H47,\"\"),\"\")","v":""},{"$f":"IF(ISNUMBER(A46),100*((J46*0.0036)/VLOOKUP(CST_Urbano!$C$7,Combustíveis,2,FALSE)),\"\")","v":""},{"$f":"IF(ISNUMBER(A46),FCT_Urbano_Dados!P47,\"\")","v":""},{"$f":"IF(ISNUMBER(A46),FCT_Urbano_Dados!S47,\"\")","v":""},null,null,""]
[{"$f":"IF(ISNUMBER(FCT_Urbano_Dados!A48),FCT_Urbano_Dados!A48,\"\")","v":""},{"$f":"IF(ISNUMBER(A47),FCT_Urbano_Dados!B48/FCT_Urbano_Dados!H48,\"\")","v":""},{"$f":"IF(ISNUMBER(A47),FCT_Urbano_Dados!C48/FCT_Urbano_Dados!H48,\"\")","v":""},{"$f":"IF(ISNUMBER(A47),FCT_Urbano_Dados!D48/FCT_Urbano_Dados!H48,\"\")","v":""},{"$f":"IF(ISNUMBER(A47),FCT_Urbano_Dados!E48/FCT_Urbano_Dados!H48,\"\")","v":""},{"$f":"IF(ISNUMBER(A47),FCT_Urbano_Dados!G48/FCT_Urbano_Dados!H48,\"\")","v":""},{"$f":"IF(ISNUMBER(H47),IF(AND(OR(FCT_Urbano_Dados!S48=\"CD\",FCT_Urbano_Dados!S48=\"n-1\",FCT_Urbano_Dados!S48=\"n\"),H47<0),(H47*FCT_Urbano_Dados!$G$10)/(SUMIFS(FCT_Urbano_Dados!$O$18:$O$71,FCT_Urbano_Dados!$S$18:$S$71,\"CD\")+SUMIFS(FCT_Urbano_Dados!$O$18:$O$71,FCT_Urbano_Dados!$S$18:$S$71,\"n-1\")+SUMIFS(FCT_Urbano_Dados!$O$18:$O$71,FCT_Urbano_Dados!$S$18:$S$71,\"n\")),0),\"\")","v":""},{"$f":"IFERROR(FCT_Urbano_Dados!K48*AVERAGE(FCT_Urbano_Dados!I48:J48),\"\")","v":""},"",{"$f":"IFERROR(IF(ISNUMBER(A47),G47/FCT_Urbano_Dados!H48,\"\"),\"\")","v":""},{"$f":"IFERROR(IF(ISNUMBER(A47),H47/FCT_Urbano_Dados!H48,\"\"),\"\")","v":""},{"$f":"IF(ISNUMBER(A47),100*((J47*0.0036)/VLOOKUP(CST_Urbano!$C$7,Combustíveis,2,FALSE)),\"\")","v":""},{"$f":"IF(ISNUMBER(A47),FCT_Urbano_Dados!P48,\"\")","v":""},{"$f":"IF(ISNUMBER(A47),FCT_Urbano_Dados!S48,\"\")","v":""},null,null,""]
[{"$f":"IF(ISNUMBER(FCT_Urbano_Dados!A49),FCT_Urbano_Dados!A49,\"\")","v":""},{"$f":"IF(ISNUMBER(A48),FCT_Urbano_Dados!B49/FCT_Urbano_Dados!H49,\"\")","v":""},{"$f":"IF(ISNUMBER(A48),FCT_Urbano_Dados!C49/FCT_Urbano_Dados!H49,\"\")","v":""},{"$f":"IF(ISNUMBER(A48),FCT_Urbano_Dados!D49/FCT_Urbano_Dados!H49,\"\")","v":""},{"$f":"IF(ISNUMBER(A48),FCT_Urbano_Dados!E49/FCT_Urbano_Dados!H49,\"\")","v":""},{"$f":"IF(ISNUMBER(A48),FCT_Urbano_Dados!G49/FCT_Urbano_Dados!H49,\"\")","v":""},{"$f":"IF(ISNUMBER(H48),IF(AND(OR(FCT_Urbano_Dados!S49=\"CD\",FCT_Urbano_Dados!S49=\"n-1\",FCT_Urbano_Dados!S49=\"n\"),H48<0),(H48*FCT_Urbano_Dados!$G$10)/(SUMIFS(FCT_Urbano_Dados!$O$18:$O$71,FCT_Urbano_Dados!$S$18:$S$71,\"CD\")+SUMIFS(FCT_Urbano_Dados!$O$18:$O$71,FCT_Urbano_Dados!$S$18:$S$71,\"n-1\")+SUMIFS(FCT_Urbano_Dados!$O$18:$O$71,FCT_Urbano_Dados!$S$18:$S$71,\"n\")),0),\"\")","v":""},{"$f":"IFERROR(FCT_Urbano_Dados!K49*AVERAGE(FCT_Urbano_Dados!I49:J49),\"\")","v":""},"",{"$f":"IFERROR(IF(ISNUMBER(A48),G48/FCT_Urbano_Dados!H49,\"\"),\"\")","v":""},{"$f":"IFERROR(IF(ISNUMBER(A48),H48/FCT_Urbano_Dados!H49,\"\"),\"\")","v":""},{"$f":"IF(ISNUMBER(A48),100*((J48*0.0036)/VLOOKUP(CST_Urbano!$C$7,Combustíveis,2,FALSE)),\"\")","v":""},{"$f":"IF(ISNUMBER(A48),FCT_Urbano_Dados!P49,\"\")","v":""},{"$f":"IF(ISNUMBER(A48),FCT_Urbano_Dados!S49,\"\")","v":""},null,null,""]
[{"$f":"IF(ISNUMBER(FCT_Urbano_Dados!A50),FCT_Urbano_Dados!A50,\"\")","v":""},{"$f":"IF(ISNUMBER(A49),FCT_Urbano_Dados!B50/FCT_Urbano_Dados!H50,\"\")","v":""},{"$f":"IF(ISNUMBER(A49),FCT_Urbano_Dados!C50/FCT_Urbano_Dados!H50,\"\")","v":""},{"$f":"IF(ISNUMBER(A49),FCT_Urbano_Dados!D50/FCT_Urbano_Dados!H50,\"\")","v":""},{"$f":"IF(ISNUMBER(A49),FCT_Urbano_Dados!E50/FCT_Urbano_Dados!H50,\"\")","v":""},{"$f":"IF(ISNUMBER(A49),FCT_Urbano_Dados!G50/FCT_Urbano_Dados!H50,\"\")","v":""},{"$f":"IF(ISNUMBER(H49),IF(AND(OR(FCT_Urbano_Dados!S50=\"CD\",FCT_Urbano_Dados!S50=\"n-1\",FCT_Urbano_Dados!S50=\"n\"),H49<0),(H49*FCT_Urbano_Dados!$G$10)/(SUMIFS(FCT_Urbano_Dados!$O$18:$O$71,FCT_Urbano_Dados!$S$18:$S$71,\"CD\")+SUMIFS(FCT_Urbano_Dados!$O$18:$O$71,FCT_Urbano_Dados!$S$18:$S$71,\"n-1\")+SUMIFS(FCT_Urbano_Dados!$O$18:$O$71,FCT_Urbano_Dados!$S$18:$S$71,\"n\")),0),\"\")","v":""},{"$f":"IFERROR(FCT_Urbano_Dados!K50*AVERAGE(FCT_Urbano_Dados!I50:J50),\"\")","v":""},"",{"$f":"IFERROR(IF(ISNUMBER(A49),G49/FCT_Urbano_Dados!H50,\"\"),\"\")","v":""},{"$f":"IFERROR(IF(ISNUMBER(A49),H49/FCT_Urbano_Dados!H50,\"\"),\"\")","v":""},{"$f":"IF(ISNUMBER(A49),100*((J49*0.0036)/VLOOKUP(CST_Urbano!$C$7,Combustíveis,2,FALSE)),\"\")","v":""},{"$f":"IF(ISNUMBER(A49),FCT_Urbano_Dados!P50,\"\")","v":""},{"$f":"IF(ISNUMBER(A49),FCT_Urbano_Dados!S50,\"\")","v":""},null,null,""]
[{"$f":"IF(ISNUMBER(FCT_Urbano_Dados!A51),FCT_Urbano_Dados!A51,\"\")","v":""},{"$f":"IF(ISNUMBER(A50),FCT_Urbano_Dados!B51/FCT_Urbano_Dados!H51,\"\")","v":""},{"$f":"IF(ISNUMBER(A50),FCT_Urbano_Dados!C51/FCT_Urbano_Dados!H51,\"\")","v":""},{"$f":"IF(ISNUMBER(A50),FCT_Urbano_Dados!D51/FCT_Urbano_Dados!H51,\"\")","v":""},{"$f":"IF(ISNUMBER(A50),FCT_Urbano_Dados!E51/FCT_Urbano_Dados!H51,\"\")","v":""},{"$f":"IF(ISNUMBER(A50),FCT_Urbano_Dados!G51/FCT_Urbano_Dados!H51,\"\")","v":""},{"$f":"IF(ISNUMBER(H50),IF(AND(OR(FCT_Urbano_Dados!S51=\"CD\",FCT_Urbano_Dados!S51=\"n-1\",FCT_Urbano_Dados!S51=\"n\"),H50<0),(H50*FCT_Urbano_Dados!$G$10)/(SUMIFS(FCT_Urbano_Dados!$O$18:$O$71,FCT_Urbano_Dados!$S$18:$S$71,\"CD\")+SUMIFS(FCT_Urbano_Dados!$O$18:$O$71,FCT_Urbano_Dados!$S$18:$S$71,\"n-1\")+SUMIFS(FCT_Urbano_Dados!$O$18:$O$71,FCT_Urbano_Dados!$S$18:$S$71,\"n\")),0),\"\")","v":""},{"$f":"IFERROR(FCT_Urbano_Dados!K51*AVERAGE(FCT_Urbano_Dados!I51:J51),\"\")","v":""},"",{"$f":"IFERROR(IF(ISNUMBER(A50),G50/FCT_Urbano_Dados!H51,\"\"),\"\")","v":""},{"$f":"IFERROR(IF(ISNUMBER(A50),H50/FCT_Urbano_Dados!H51,\"\"),\"\")","v":""},{"$f":"IF(ISNUMBER(A50),100*((J50*0.0036)/VLOOKUP(CST_Urbano!$C$7,Combustíveis,2,FALSE)),\"\")","v":""},{"$f":"IF(ISNUMBER(A50),FCT_Urbano_Dados!P51,\"\")","v":""},{"$f":"IF(ISNUMBER(A50),FCT_Urbano_Dados!S51,\"\")","v":""},null,null,""]
[{"$f":"IF(ISNUMBER(FCT_Urbano_Dados!A52),FCT_Urbano_Dados!A52,\"\")","v":""},{"$f":"IF(ISNUMBER(A51),FCT_Urbano_Dados!B52/FCT_Urbano_Dados!H52,\"\")","v":""},{"$f":"IF(ISNUMBER(A51),FCT_Urbano_Dados!C52/FCT_Urbano_Dados!H52,\"\")","v":""},{"$f":"IF(ISNUMBER(A51),FCT_Urbano_Dados!D52/FCT_Urbano_Dados!H52,\"\")","v":""},{"$f":"IF(ISNUMBER(A51),FCT_Urbano_Dados!E52/FCT_Urbano_Dados!H52,\"\")","v":""},{"$f":"IF(ISNUMBER(A51),FCT_Urbano_Dados!G52/FCT_Urbano_Dados!H52,\"\")","v":""},{"$f":"IF(ISNUMBER(H51),IF(AND(OR(FCT_Urbano_Dados!S52=\"CD\",FCT_Urbano_Dados!S52=\"n-1\",FCT_Urbano_Dados!S52=\"n\"),H51<0),(H51*FCT_Urbano_Dados!$G$10)/(SUMIFS(FCT_Urbano_Dados!$O$18:$O$71,FCT_Urbano_Dados!$S$18:$S$71,\"CD\")+SUMIFS(FCT_Urbano_Dados!$O$18:$O$71,FCT_Urbano_Dados!$S$18:$S$71,\"n-1\")+SUMIFS(FCT_Urbano_Dados!$O$18:$O$71,FCT_Urbano_Dados!$S$18:$S$71,\"n\")),0),\"\")","v":""},{"$f":"IFERROR(FCT_Urbano_Dados!K52*AVERAGE(FCT_Urbano_Dados!I52:J52),\"\")","v":""},"",{"$f":"IFERROR(IF(ISNUMBER(A51),G51/FCT_Urbano_Dados!H52,\"\"),\"\")","v":""},{"$f":"IFERROR(IF(ISNUMBER(A51),H51/FCT_Urbano_Dados!H52,\"\"),\"\")","v":""},{"$f":"IF(ISNUMBER(A51),100*((J51*0.0036)/VLOOKUP(CST_Urbano!$C$7,Combustíveis,2,FALSE)),\"\")","v":""},{"$f":"IF(ISNUMBER(A51),FCT_Urbano_Dados!P52,\"\")","v":""},{"$f":"IF(ISNUMBER(A51),FCT_Urbano_Dados!S52,\"\")","v":""},null,null,""]
[{"$f":"IF(ISNUMBER(FCT_Urbano_Dados!A53),FCT_Urbano_Dados!A53,\"\")","v":""},{"$f":"IF(ISNUMBER(A52),FCT_Urbano_Dados!B53/FCT_Urbano_Dados!H53,\"\")","v":""},{"$f":"IF(ISNUMBER(A52),FCT_Urbano_Dados!C53/FCT_Urbano_Dados!H53,\"\")","v":""},{"$f":"IF(ISNUMBER(A52),FCT_Urbano_Dados!D53/FCT_Urbano_Dados!H53,\"\")","v":""},{"$f":"IF(ISNUMBER(A52),FCT_Urbano_Dados!E53/FCT_Urbano_Dados!H53,\"\")","v":""},{"$f":"IF(ISNUMBER(A52),FCT_Urbano_Dados!G53/FCT_Urbano_Dados!H53,\"\")","v":""},{"$f":"IF(ISNUMBER(H52),IF(AND(OR(FCT_Urbano_Dados!S53=\"CD\",FCT_Urbano_Dados!S53=\"n-1\",FCT_Urbano_Dados!S53=\"n\"),H52<0),(H52*FCT_Urbano_Dados!$G$10)/(SUMIFS(FCT_Urbano_Dados!$O$18:$O$71,FCT_Urbano_Dados!$S$18:$S$71,\"CD\")+SUMIFS(FCT_Urbano_Dados!$O$18:$O$71,FCT_Urbano_Dados!$S$18:$S$71,\"n-1\")+SUMIFS(FCT_Urbano_Dados!$O$18:$O$71,FCT_Urbano_Dados!$S$18:$S$71,\"n\")),0),\"\")","v":""},{"$f":"IFERROR(FCT_Urbano_Dados!K53*AVERAGE(FCT_Urbano_Dados!I53:J53),\"\")","v":""},"",{"$f":"IFERROR(IF(ISNUMBER(A52),G52/FCT_Urbano_Dados!H53,\"\"),\"\")","v":""},{"$f":"IFERROR(IF(ISNUMBER(A52),H52/FCT_Urbano_Dados!H53,\"\"),\"\")","v":""},{"$f":"IF(ISNUMBER(A52),100*((J52*0.0036)/VLOOKUP(CST_Urbano!$C$7,Combustíveis,2,FALSE)),\"\")","v":""},{"$f":"IF(ISNUMBER(A52),FCT_Urbano_Dados!P53,\"\")","v":""},{"$f":"IF(ISNUMBER(A52),FCT_Urbano_Dados!S53,\"\")","v":""},null,null,""]
[{"$f":"IF(ISNUMBER(FCT_Urbano_Dados!A54),FCT_Urbano_Dados!A54,\"\")","v":""},{"$f":"IF(ISNUMBER(A53),FCT_Urbano_Dados!B54/FCT_Urbano_Dados!H54,\"\")","v":""},{"$f":"IF(ISNUMBER(A53),FCT_Urbano_Dados!C54/FCT_Urbano_Dados!H54,\"\")","v":""},{"$f":"IF(ISNUMBER(A53),FCT_Urbano_Dados!D54/FCT_Urbano_Dados!H54,\"\")","v":""},{"$f":"IF(ISNUMBER(A53),FCT_Urbano_Dados!E54/FCT_Urbano_Dados!H54,\"\")","v":""},{"$f":"IF(ISNUMBER(A53),FCT_Urbano_Dados!G54/FCT_Urbano_Dados!H54,\"\")","v":""},{"$f":"IF(ISNUMBER(H53),IF(AND(OR(FCT_Urbano_Dados!S54=\"CD\",FCT_Urbano_Dados!S54=\"n-1\",FCT_Urbano_Dados!S54=\"n\"),H53<0),(H53*FCT_Urbano_Dados!$G$10)/(SUMIFS(FCT_Urbano_Dados!$O$18:$O$71,FCT_Urbano_Dados!$S$18:$S$71,\"CD\")+SUMIFS(FCT_Urbano_Dados!$O$18:$O$71,FCT_Urbano_Dados!$S$18:$S$71,\"n-1\")+SUMIFS(FCT_Urbano_Dados!$O$18:$O$71,FCT_Urbano_Dados!$S$18:$S$71,\"n\")),0),\"\")","v":""},{"$f":"IFERROR(FCT_Urbano_Dados!K54*AVERAGE(FCT_Urbano_Dados!I54:J54),\"\")","v":""},"",{"$f":"IFERROR(IF(ISNUMBER(A53),G53/FCT_Urbano_Dados!H54,\"\"),\"\")","v":""},{"$f":"IFERROR(IF(ISNUMBER(A53),H53/FCT_Urbano_Dados!H54,\"\"),\"\")","v":""},{"$f":"IF(ISNUMBER(A53),100*((J53*0.0036)/VLOOKUP(CST_Urbano!$C$7,Combustíveis,2,FALSE)),\"\")","v":""},{"$f":"IF(ISNUMBER(A53),FCT_Urbano_Dados!P54,\"\")","v":""},{"$f":"IF(ISNUMBER(A53),FCT_Urbano_Dados!S54,\"\")","v":""},null,null,""]
[{"$f":"IF(ISNUMBER(FCT_Urbano_Dados!A55),FCT_Urbano_Dados!A55,\"\")","v":""},{"$f":"IF(ISNUMBER(A54),FCT_Urbano_Dados!B55/FCT_Urbano_Dados!H55,\"\")","v":""},{"$f":"IF(ISNUMBER(A54),FCT_Urbano_Dados!C55/FCT_Urbano_Dados!H55,\"\")","v":""},{"$f":"IF(ISNUMBER(A54),FCT_Urbano_Dados!D55/FCT_Urbano_Dados!H55,\"\")","v":""},{"$f":"IF(ISNUMBER(A54),FCT_Urbano_Dados!E55/FCT_Urbano_Dados!H55,\"\")","v":""},{"$f":"IF(ISNUMBER(A54),FCT_Urbano_Dados!G55/FCT_Urbano_Dados!H55,\"\")","v":""},{"$f":"IF(ISNUMBER(H54),IF(AND(OR(FCT_Urbano_Dados!S55=\"CD\",FCT_Urbano_Dados!S55=\"n-1\",FCT_Urbano_Dados!S55=\"n\"),H54<0),(H54*FCT_Urbano_Dados!$G$10)/(SUMIFS(FCT_Urbano_Dados!$O$18:$O$71,FCT_Urbano_Dados!$S$18:$S$71,\"CD\")+SUMIFS(FCT_Urbano_Dados!$O$18:$O$71,FCT_Urbano_Dados!$S$18:$S$71,\"n-1\")+SUMIFS(FCT_Urbano_Dados!$O$18:$O$71,FCT_Urbano_Dados!$S$18:$S$71,\"n\")),0),\"\")","v":""},{"$f":"IFERROR(FCT_Urbano_Dados!K55*AVERAGE(FCT_Urbano_Dados!I55:J55),\"\")","v":""},"",{"$f":"IFERROR(IF(ISNUMBER(A54),G54/FCT_Urbano_Dados!H55,\"\"),\"\")","v":""},{"$f":"IFERROR(IF(ISNUMBER(A54),H54/FCT_Urbano_Dados!H55,\"\"),\"\")","v":""},{"$f":"IF(ISNUMBER(A54),100*((J54*0.0036)/VLOOKUP(CST_Urbano!$C$7,Combustíveis,2,FALSE)),\"\")","v":""},{"$f":"IF(ISNUMBER(A54),FCT_Urbano_Dados!P55,\"\")","v":""},{"$f":"IF(ISNUMBER(A54),FCT_Urbano_Dados!S55,\"\")","v":""},null,null,""]
[{"$f":"IF(ISNUMBER(FCT_Urbano_Dados!A56),FCT_Urbano_Dados!A56,\"\")","v":""},{"$f":"IF(ISNUMBER(A55),FCT_Urbano_Dados!B56/FCT_Urbano_Dados!H56,\"\")","v":""},{"$f":"IF(ISNUMBER(A55),FCT_Urbano_Dados!C56/FCT_Urbano_Dados!H56,\"\")","v":""},{"$f":"IF(ISNUMBER(A55),FCT_Urbano_Dados!D56/FCT_Urbano_Dados!H56,\"\")","v":""},{"$f":"IF(ISNUMBER(A55),FCT_Urbano_Dados!E56/FCT_Urbano_Dados!H56,\"\")","v":""},{"$f":"IF(ISNUMBER(A55),FCT_Urbano_Dados!G56/FCT_Urbano_Dados!H56,\"\")","v":""},{"$f":"IF(ISNUMBER(H55),IF(AND(OR(FCT_Urbano_Dados!S56=\"CD\",FCT_Urbano_Dados!S56=\"n-1\",FCT_Urbano_Dados!S56=\"n\"),H55<0),(H55*FCT_Urbano_Dados!$G$10)/(SUMIFS(FCT_Urbano_Dados!$O$18:$O$71,FCT_Urbano_Dados!$S$18:$S$71,\"CD\")+SUMIFS(FCT_Urbano_Dados!$O$18:$O$71,FCT_Urbano_Dados!$S$18:$S$71,\"n-1\")+SUMIFS(FCT_Urbano_Dados!$O$18:$O$71,FCT_Urbano_Dados!$S$18:$S$71,\"n\")),0),\"\")","v":""},{"$f":"IFERROR(FCT_Urbano_Dados!K56*AVERAGE(FCT_Urbano_Dados!I56:J56),\"\")","v":""},"",{"$f":"IFERROR(IF(ISNUMBER(A55),G55/FCT_Urbano_Dados!H56,\"\"),\"\")","v":""},{"$f":"IFERROR(IF(ISNUMBER(A55),H55/FCT_Urbano_Dados!H56,\"\"),\"\")","v":""},{"$f":"IF(ISNUMBER(A55),100*((J55*0.0036)/VLOOKUP(CST_Urbano!$C$7,Combustíveis,2,FALSE)),\"\")","v":""},{"$f":"IF(ISNUMBER(A55),FCT_Urbano_Dados!P56,\"\")","v":""},{"$f":"IF(ISNUMBER(A55),FCT_Urbano_Dados!S56,\"\")","v":""},null,null,""]
[{"$f":"IF(ISNUMBER(FCT_Urbano_Dados!A57),FCT_Urbano_Dados!A57,\"\")","v":""},{"$f":"IF(ISNUMBER(A56),FCT_Urbano_Dados!B57/FCT_Urbano_Dados!H57,\"\")","v":""},{"$f":"IF(ISNUMBER(A56),FCT_Urbano_Dados!C57/FCT_Urbano_Dados!H57,\"\")","v":""},{"$f":"IF(ISNUMBER(A56),FCT_Urbano_Dados!D57/FCT_Urbano_Dados!H57,\"\")","v":""},{"$f":"IF(ISNUMBER(A56),FCT_Urbano_Dados!E57/FCT_Urbano_Dados!H57,\"\")","v":""},{"$f":"IF(ISNUMBER(A56),FCT_Urbano_Dados!G57/FCT_Urbano_Dados!H57,\"\")","v":""},{"$f":"IF(ISNUMBER(H56),IF(AND(OR(FCT_Urbano_Dados!S57=\"CD\",FCT_Urbano_Dados!S57=\"n-1\",FCT_Urbano_Dados!S57=\"n\"),H56<0),(H56*FCT_Urbano_Dados!$G$10)/(SUMIFS(FCT_Urbano_Dados!$O$18:$O$71,FCT_Urbano_Dados!$S$18:$S$71,\"CD\")+SUMIFS(FCT_Urbano_Dados!$O$18:$O$71,FCT_Urbano_Dados!$S$18:$S$71,\"n-1\")+SUMIFS(FCT_Urbano_Dados!$O$18:$O$71,FCT_Urbano_Dados!$S$18:$S$71,\"n\")),0),\"\")","v":""},{"$f":"IFERROR(FCT_Urbano_Dados!K57*AVERAGE(FCT_Urbano_Dados!I57:J57),\"\")","v":""},"",{"$f":"IFERROR(IF(ISNUMBER(A56),G56/FCT_Urbano_Dados!H57,\"\"),\"\")","v":""},{"$f":"IFERROR(IF(ISNUMBER(A56),H56/FCT_Urbano_Dados!H57,\"\"),\"\")","v":""},{"$f":"IF(ISNUMBER(A56),100*((J56*0.0036)/VLOOKUP(CST_Urbano!$C$7,Combustíveis,2,FALSE)),\"\")","v":""},{"$f":"IF(ISNUMBER(A56),FCT_Urbano_Dados!P57,\"\")","v":""},{"$f":"IF(ISNUMBER(A56),FCT_Urbano_Dados!S57,\"\")","v":""},null,null,""]
[{"$f":"IF(ISNUMBER(FCT_Urbano_Dados!A58),FCT_Urbano_Dados!A58,\"\")","v":""},{"$f":"IF(ISNUMBER(A57),FCT_Urbano_Dados!B58/FCT_Urbano_Dados!H58,\"\")","v":""},{"$f":"IF(ISNUMBER(A57),FCT_Urbano_Dados!C58/FCT_Urbano_Dados!H58,\"\")","v":""},{"$f":"IF(ISNUMBER(A57),FCT_Urbano_Dados!D58/FCT_Urbano_Dados!H58,\"\")","v":""},{"$f":"IF(ISNUMBER(A57),FCT_Urbano_Dados!E58/FCT_Urbano_Dados!H58,\"\")","v":""},{"$f":"IF(ISNUMBER(A57),FCT_Urbano_Dados!G58/FCT_Urbano_Dados!H58,\"\")","v":""},{"$f":"IF(ISNUMBER(H57),IF(AND(OR(FCT_Urbano_Dados!S58=\"CD\",FCT_Urbano_Dados!S58=\"n-1\",FCT_Urbano_Dados!S58=\"n\"),H57<0),(H57*FCT_Urbano_Dados!$G$10)/(SUMIFS(FCT_Urbano_Dados!$O$18:$O$71,FCT_Urbano_Dados!$S$18:$S$71,\"CD\")+SUMIFS(FCT_Urbano_Dados!$O$18:$O$71,FCT_Urbano_Dados!$S$18:$S$71,\"n-1\")+SUMIFS(FCT_Urbano_Dados!$O$18:$O$71,FCT_Urbano_Dados!$S$18:$S$71,\"n\")),0),\"\")","v":""},{"$f":"IFERROR(FCT_Urbano_Dados!K58*AVERAGE(FCT_Urbano_Dados!I58:J58),\"\")","v":""},"",{"$f":"IFERROR(IF(ISNUMBER(A57),G57/FCT_Urbano_Dados!H58,\"\"),\"\")","v":""},{"$f":"IFERROR(IF(ISNUMBER(A57),H57/FCT_Urbano_Dados!H58,\"\"),\"\")","v":""},{"$f":"IF(ISNUMBER(A57),100*((J57*0.0036)/VLOOKUP(CST_Urbano!$C$7,Combustíveis,2,FALSE)),\"\")","v":""},{"$f":"IF(ISNUMBER(A57),FCT_Urbano_Dados!P58,\"\")","v":""},{"$f":"IF(ISNUMBER(A57),FCT_Urbano_Dados!S58,\"\")","v":""},null,null,""]
[{"$f":"IF(ISNUMBER(FCT_Urbano_Dados!A59),FCT_Urbano_Dados!A59,\"\")","v":""},{"$f":"IF(ISNUMBER(A58),FCT_Urbano_Dados!B59/FCT_Urbano_Dados!H59,\"\")","v":""},{"$f":"IF(ISNUMBER(A58),FCT_Urbano_Dados!C59/FCT_Urbano_Dados!H59,\"\")","v":""},{"$f":"IF(ISNUMBER(A58),FCT_Urbano_Dados!D59/FCT_Urbano_Dados!H59,\"\")","v":""},{"$f":"IF(ISNUMBER(A58),FCT_Urbano_Dados!E59/FCT_Urbano_Dados!H59,\"\")","v":""},{"$f":"IF(ISNUMBER(A58),FCT_Urbano_Dados!G59/FCT_Urbano_Dados!H59,\"\")","v":""},{"$f":"IF(ISNUMBER(H58),IF(AND(OR(FCT_Urbano_Dados!S59=\"CD\",FCT_Urbano_Dados!S59=\"n-1\",FCT_Urbano_Dados!S59=\"n\"),H58<0),(H58*FCT_Urbano_Dados!$G$10)/(SUMIFS(FCT_Urbano_Dados!$O$18:$O$71,FCT_Urbano_Dados!$S$18:$S$71,\"CD\")+SUMIFS(FCT_Urbano_Dados!$O$18:$O$71,FCT_Urbano_Dados!$S$18:$S$71,\"n-1\")+SUMIFS(FCT_Urbano_Dados!$O$18:$O$71,FCT_Urbano_Dados!$S$18:$S$71,\"n\")),0),\"\")","v":""},{"$f":"IFERROR(FCT_Urbano_Dados!K59*AVERAGE(FCT_Urbano_Dados!I59:J59),\"\")","v":""},"",{"$f":"IFERROR(IF(ISNUMBER(A58),G58/FCT_Urbano_Dados!H59,\"\"),\"\")","v":""},{"$f":"IFERROR(IF(ISNUMBER(A58),H58/FCT_Urbano_Dados!H59,\"\"),\"\")","v":""},{"$f":"IF(ISNUMBER(A58),100*((J58*0.0036)/VLOOKUP(CST_Urbano!$C$7,Combustíveis,2,FALSE)),\"\")","v":""},{"$f":"IF(ISNUMBER(A58),FCT_Urbano_Dados!P59,\"\")","v":""},{"$f":"IF(ISNUMBER(A58),FCT_Urbano_Dados!S59,\"\")","v":""},null,null,""]
[{"$f":"IF(ISNUMBER(FCT_Urbano_Dados!A60),FCT_Urbano_Dados!A60,\"\")","v":""},{"$f":"IF(ISNUMBER(A59),FCT_Urbano_Dados!B60/FCT_Urbano_Dados!H60,\"\")","v":""},{"$f":"IF(ISNUMBER(A59),FCT_Urbano_Dados!C60/FCT_Urbano_Dados!H60,\"\")","v":""},{"$f":"IF(ISNUMBER(A59),FCT_Urbano_Dados!D60/FCT_Urbano_Dados!H60,\"\")","v":""},{"$f":"IF(ISNUMBER(A59),FCT_Urbano_Dados!E60/FCT_Urbano_Dados!H60,\"\")","v":""},{"$f":"IF(ISNUMBER(A59),FCT_Urbano_Dados!G60/FCT_Urbano_Dados!H60,\"\")","v":""},{"$f":"IF(ISNUMBER(H59),IF(AND(OR(FCT_Urbano_Dados!S60=\"CD\",FCT_Urbano_Dados!S60=\"n-1\",FCT_Urbano_Dados!S60=\"n\"),H59<0),(H59*FCT_Urbano_Dados!$G$10)/(SUMIFS(FCT_Urbano_Dados!$O$18:$O$71,FCT_Urbano_Dados!$S$18:$S$71,\"CD\")+SUMIFS(FCT_Urbano_Dados!$O$18:$O$71,FCT_Urbano_Dados!$S$18:$S$71,\"n-1\")+SUMIFS(FCT_Urbano_Dados!$O$18:$O$71,FCT_Urbano_Dados!$S$18:$S$71,\"n\")),0),\"\")","v":""},{"$f":"IFERROR(FCT_Urbano_Dados!K60*AVERAGE(FCT_Urbano_Dados!I60:J60),\"\")","v":""},"",{"$f":"IFERROR(IF(ISNUMBER(A59),G59/FCT_Urbano_Dados!H60,\"\"),\"\")","v":""},{"$f":"IFERROR(IF(ISNUMBER(A59),H59/FCT_Urbano_Dados!H60,\"\"),\"\")","v":""},{"$f":"IF(ISNUMBER(A59),100*((J59*0.0036)/VLOOKUP(CST_Urbano!$C$7,Combustíveis,2,FALSE)),\"\")","v":""},{"$f":"IF(ISNUMBER(A59),FCT_Urbano_Dados!P60,\"\")","v":""},{"$f":"IF(ISNUMBER(A59),FCT_Urbano_Dados!S60,\"\")","v":""},null,null,""]
[{"$f":"IF(ISNUMBER(FCT_Urbano_Dados!A61),FCT_Urbano_Dados!A61,\"\")","v":""},{"$f":"IF(ISNUMBER(A60),FCT_Urbano_Dados!B61/FCT_Urbano_Dados!H61,\"\")","v":""},{"$f":"IF(ISNUMBER(A60),FCT_Urbano_Dados!C61/FCT_Urbano_Dados!H61,\"\")","v":""},{"$f":"IF(ISNUMBER(A60),FCT_Urbano_Dados!D61/FCT_Urbano_Dados!H61,\"\")","v":""},{"$f":"IF(ISNUMBER(A60),FCT_Urbano_Dados!E61/FCT_Urbano_Dados!H61,\"\")","v":""},{"$f":"IF(ISNUMBER(A60),FCT_Urbano_Dados!G61/FCT_Urbano_Dados!H61,\"\")","v":""},{"$f":"IF(ISNUMBER(H60),IF(AND(OR(FCT_Urbano_Dados!S61=\"CD\",FCT_Urbano_Dados!S61=\"n-1\",FCT_Urbano_Dados!S61=\"n\"),H60<0),(H60*FCT_Urbano_Dados!$G$10)/(SUMIFS(FCT_Urbano_Dados!$O$18:$O$71,FCT_Urbano_Dados!$S$18:$S$71,\"CD\")+SUMIFS(FCT_Urbano_Dados!$O$18:$O$71,FCT_Urbano_Dados!$S$18:$S$71,\"n-1\")+SUMIFS(FCT_Urbano_Dados!$O$18:$O$71,FCT_Urbano_Dados!$S$18:$S$71,\"n\")),0),\"\")","v":""},{"$f":"IFERROR(FCT_Urbano_Dados!K61*AVERAGE(FCT_Urbano_Dados!I61:J61),\"\")","v":""},"",{"$f":"IFERROR(IF(ISNUMBER(A60),G60/FCT_Urbano_Dados!H61,\"\"),\"\")","v":""},{"$f":"IFERROR(IF(ISNUMBER(A60),H60/FCT_Urbano_Dados!H61,\"\"),\"\")","v":""},{"$f":"IF(ISNUMBER(A60),100*((J60*0.0036)/VLOOKUP(CST_Urbano!$C$7,Combustíveis,2,FALSE)),\"\")","v":""},{"$f":"IF(ISNUMBER(A60),FCT_Urbano_Dados!P61,\"\")","v":""},{"$f":"IF(ISNUMBER(A60),FCT_Urbano_Dados!S61,\"\")","v":""},null,null,""]
[{"$f":"IF(ISNUMBER(FCT_Urbano_Dados!A62),FCT_Urbano_Dados!A62,\"\")","v":""},{"$f":"IF(ISNUMBER(A61),FCT_Urbano_Dados!B62/FCT_Urbano_Dados!H62,\"\")","v":""},{"$f":"IF(ISNUMBER(A61),FCT_Urbano_Dados!C62/FCT_Urbano_Dados!H62,\"\")","v":""},{"$f":"IF(ISNUMBER(A61),FCT_Urbano_Dados!D62/FCT_Urbano_Dados!H62,\"\")","v":""},{"$f":"IF(ISNUMBER(A61),FCT_Urbano_Dados!E62/FCT_Urbano_Dados!H62,\"\")","v":""},{"$f":"IF(ISNUMBER(A61),FCT_Urbano_Dados!G62/FCT_Urbano_Dados!H62,\"\")","v":""},{"$f":"IF(ISNUMBER(H61),IF(AND(OR(FCT_Urbano_Dados!S62=\"CD\",FCT_Urbano_Dados!S62=\"n-1\",FCT_Urbano_Dados!S62=\"n\"),H61<0),(H61*FCT_Urbano_Dados!$G$10)/(SUMIFS(FCT_Urbano_Dados!$O$18:$O$71,FCT_Urbano_Dados!$S$18:$S$71,\"CD\")+SUMIFS(FCT_Urbano_Dados!$O$18:$O$71,FCT_Urbano_Dados!$S$18:$S$71,\"n-1\")+SUMIFS(FCT_Urbano_Dados!$O$18:$O$71,FCT_Urbano_Dados!$S$18:$S$71,\"n\")),0),\"\")","v":""},{"$f":"IFERROR(FCT_Urbano_Dados!K62*AVERAGE(FCT_Urbano_Dados!I62:J62),\"\")","v":""},"",{"$f":"IFERROR(IF(ISNUMBER(A61),G61/FCT_Urbano_Dados!H62,\"\"),\"\")","v":""},{"$f":"IFERROR(IF(ISNUMBER(A61),H61/FCT_Urbano_Dados!H62,\"\"),\"\")","v":""},{"$f":"IF(ISNUMBER(A61),100*((J61*0.0036)/VLOOKUP(CST_Urbano!$C$7,Combustíveis,2,FALSE)),\"\")","v":""},{"$f":"IF(ISNUMBER(A61),FCT_Urbano_Dados!P62,\"\")","v":""},{"$f":"IF(ISNUMBER(A61),FCT_Urbano_Dados!S62,\"\")","v":""},null,null,""]
[{"$f":"IF(ISNUMBER(FCT_Urbano_Dados!A63),FCT_Urbano_Dados!A63,\"\")","v":""},{"$f":"IF(ISNUMBER(A62),FCT_Urbano_Dados!B63/FCT_Urbano_Dados!H63,\"\")","v":""},{"$f":"IF(ISNUMBER(A62),FCT_Urbano_Dados!C63/FCT_Urbano_Dados!H63,\"\")","v":""},{"$f":"IF(ISNUMBER(A62),FCT_Urbano_Dados!D63/FCT_Urbano_Dados!H63,\"\")","v":""},{"$f":"IF(ISNUMBER(A62),FCT_Urbano_Dados!E63/FCT_Urbano_Dados!H63,\"\")","v":""},{"$f":"IF(ISNUMBER(A62),FCT_Urbano_Dados!G63/FCT_Urbano_Dados!H63,\"\")","v":""},{"$f":"IF(ISNUMBER(H62),IF(AND(OR(FCT_Urbano_Dados!S63=\"CD\",FCT_Urbano_Dados!S63=\"n-1\",FCT_Urbano_Dados!S63=\"n\"),H62<0),(H62*FCT_Urbano_Dados!$G$10)/(SUMIFS(FCT_Urbano_Dados!$O$18:$O$71,FCT_Urbano_Dados!$S$18:$S$71,\"CD\")+SUMIFS(FCT_Urbano_Dados!$O$18:$O$71,FCT_Urbano_Dados!$S$18:$S$71,\"n-1\")+SUMIFS(FCT_Urbano_Dados!$O$18:$O$71,FCT_Urbano_Dados!$S$18:$S$71,\"n\")),0),\"\")","v":""},{"$f":"IFERROR(FCT_Urbano_Dados!K63*AVERAGE(FCT_Urbano_Dados!I63:J63),\"\")","v":""},"",{"$f":"IFERROR(IF(ISNUMBER(A62),G62/FCT_Urbano_Dados!H63,\"\"),\"\")","v":""},{"$f":"IFERROR(IF(ISNUMBER(A62),H62/FCT_Urbano_Dados!H63,\"\"),\"\")","v":""},{"$f":"IF(ISNUMBER(A62),100*((J62*0.0036)/VLOOKUP(CST_Urbano!$C$7,Combustíveis,2,FALSE)),\"\")","v":""},{"$f":"IF(ISNUMBER(A62),FCT_Urbano_Dados!P63,\"\")","v":""},{"$f":"IF(ISNUMBER(A62),FCT_Urbano_Dados!S63,\"\")","v":""},null,null,""]
[{"$f":"IF(ISNUMBER(FCT_Urbano_Dados!A64),FCT_Urbano_Dados!A64,\"\")","v":""},{"$f":"IF(ISNUMBER(A63),FCT_Urbano_Dados!B64/FCT_Urbano_Dados!H64,\"\")","v":""},{"$f":"IF(ISNUMBER(A63),FCT_Urbano_Dados!C64/FCT_Urbano_Dados!H64,\"\")","v":""},{"$f":"IF(ISNUMBER(A63),FCT_Urbano_Dados!D64/FCT_Urbano_Dados!H64,\"\")","v":""},{"$f":"IF(ISNUMBER(A63),FCT_Urbano_Dados!E64/FCT_Urbano_Dados!H64,\"\")","v":""},{"$f":"IF(ISNUMBER(A63),FCT_Urbano_Dados!G64/FCT_Urbano_Dados!H64,\"\")","v":""},{"$f":"IF(ISNUMBER(H63),IF(AND(OR(FCT_Urbano_Dados!S64=\"CD\",FCT_Urbano_Dados!S64=\"n-1\",FCT_Urbano_Dados!S64=\"n\"),H63<0),(H63*FCT_Urbano_Dados!$G$10)/(SUMIFS(FCT_Urbano_Dados!$O$18:$O$71,FCT_Urbano_Dados!$S$18:$S$71,\"CD\")+SUMIFS(FCT_Urbano_Dados!$O$18:$O$71,FCT_Urbano_Dados!$S$18:$S$71,\"n-1\")+SUMIFS(FCT_Urbano_Dados!$O$18:$O$71,FCT_Urbano_Dados!$S$18:$S$71,\"n\")),0),\"\")","v":""},{"$f":"IFERROR(FCT_Urbano_Dados!K64*AVERAGE(FCT_Urbano_Dados!I64:J64),\"\")","v":""},"",{"$f":"IFERROR(IF(ISNUMBER(A63),G63/FCT_Urbano_Dados!H64,\"\"),\"\")","v":""},{"$f":"IFERROR(IF(ISNUMBER(A63),H63/FCT_Urbano_Dados!H64,\"\"),\"\")","v":""},{"$f":"IF(ISNUMBER(A63),100*((J63*0.0036)/VLOOKUP(CST_Urbano!$C$7,Combustíveis,2,FALSE)),\"\")","v":""},{"$f":"IF(ISNUMBER(A63),FCT_Urbano_Dados!P64,\"\")","v":""},{"$f":"IF(ISNUMBER(A63),FCT_Urbano_Dados!S64,\"\")","v":""},null,null,""]
[{"$f":"IF(ISNUMBER(FCT_Urbano_Dados!A65),FCT_Urbano_Dados!A65,\"\")","v":""},{"$f":"IF(ISNUMBER(A64),FCT_Urbano_Dados!B65/FCT_Urbano_Dados!H65,\"\")","v":""},{"$f":"IF(ISNUMBER(A64),FCT_Urbano_Dados!C65/FCT_Urbano_Dados!H65,\"\")","v":""},{"$f":"IF(ISNUMBER(A64),FCT_Urbano_Dados!D65/FCT_Urbano_Dados!H65,\"\")","v":""},{"$f":"IF(ISNUMBER(A64),FCT_Urbano_Dados!E65/FCT_Urbano_Dados!H65,\"\")","v":""},{"$f":"IF(ISNUMBER(A64),FCT_Urbano_Dados!G65/FCT_Urbano_Dados!H65,\"\")","v":""},{"$f":"IF(ISNUMBER(H64),IF(AND(OR(FCT_Urbano_Dados!S65=\"CD\",FCT_Urbano_Dados!S65=\"n-1\",FCT_Urbano_Dados!S65=\"n\"),H64<0),(H64*FCT_Urbano_Dados!$G$10)/(SUMIFS(FCT_Urbano_Dados!$O$18:$O$71,FCT_Urbano_Dados!$S$18:$S$71,\"CD\")+SUMIFS(FCT_Urbano_Dados!$O$18:$O$71,FCT_Urbano_Dados!$S$18:$S$71,\"n-1\")+SUMIFS(FCT_Urbano_Dados!$O$18:$O$71,FCT_Urbano_Dados!$S$18:$S$71,\"n\")),0),\"\")","v":""},{"$f":"IFERROR(FCT_Urbano_Dados!K65*AVERAGE(FCT_Urbano_Dados!I65:J65),\"\")","v":""},"",{"$f":"IFERROR(IF(ISNUMBER(A64),G64/FCT_Urbano_Dados!H65,\"\"),\"\")","v":""},{"$f":"IFERROR(IF(ISNUMBER(A64),H64/FCT_Urbano_Dados!H65,\"\"),\"\")","v":""},{"$f":"IF(ISNUMBER(A64),100*((J64*0.0036)/VLOOKUP(CST_Urbano!$C$7,Combustíveis,2,FALSE)),\"\")","v":""},{"$f":"IF(ISNUMBER(A64),FCT_Urbano_Dados!P65,\"\")","v":""},{"$f":"IF(ISNUMBER(A64),FCT_Urbano_Dados!S65,\"\")","v":""},null,null,""]
[{"$f":"IF(ISNUMBER(FCT_Urbano_Dados!A66),FCT_Urbano_Dados!A66,\"\")","v":""},{"$f":"IF(ISNUMBER(A65),FCT_Urbano_Dados!B66/FCT_Urbano_Dados!H66,\"\")","v":""},{"$f":"IF(ISNUMBER(A65),FCT_Urbano_Dados!C66/FCT_Urbano_Dados!H66,\"\")","v":""},{"$f":"IF(ISNUMBER(A65),FCT_Urbano_Dados!D66/FCT_Urbano_Dados!H66,\"\")","v":""},{"$f":"IF(ISNUMBER(A65),FCT_Urbano_Dados!E66/FCT_Urbano_Dados!H66,\"\")","v":""},{"$f":"IF(ISNUMBER(A65),FCT_Urbano_Dados!G66/FCT_Urbano_Dados!H66,\"\")","v":""},{"$f":"IF(ISNUMBER(H65),IF(AND(OR(FCT_Urbano_Dados!S66=\"CD\",FCT_Urbano_Dados!S66=\"n-1\",FCT_Urbano_Dados!S66=\"n\"),H65<0),(H65*FCT_Urbano_Dados!$G$10)/(SUMIFS(FCT_Urbano_Dados!$O$18:$O$71,FCT_Urbano_Dados!$S$18:$S$71,\"CD\")+SUMIFS(FCT_Urbano_Dados!$O$18:$O$71,FCT_Urbano_Dados!$S$18:$S$71,\"n-1\")+SUMIFS(FCT_Urbano_Dados!$O$18:$O$71,FCT_Urbano_Dados!$S$18:$S$71,\"n\")),0),\"\")","v":""},{"$f":"IFERROR(FCT_Urbano_Dados!K66*AVERAGE(FCT_Urbano_Dados!I66:J66),\"\")","v":""},"",{"$f":"IFERROR(IF(ISNUMBER(A65),G65/FCT_Urbano_Dados!H66,\"\"),\"\")","v":""},{"$f":"IFERROR(IF(ISNUMBER(A65),H65/FCT_Urbano_Dados!H66,\"\"),\"\")","v":""},{"$f":"IF(ISNUMBER(A65),100*((J65*0.0036)/VLOOKUP(CST_Urbano!$C$7,Combustíveis,2,FALSE)),\"\")","v":""},{"$f":"IF(ISNUMBER(A65),FCT_Urbano_Dados!P66,\"\")","v":""},{"$f":"IF(ISNUMBER(A65),FCT_Urbano_Dados!S66,\"\")","v":""},null,null,""]
[{"$f":"IF(ISNUMBER(FCT_Urbano_Dados!A67),FCT_Urbano_Dados!A67,\"\")","v":""},{"$f":"IF(ISNUMBER(A66),FCT_Urbano_Dados!B67/FCT_Urbano_Dados!H67,\"\")","v":""},{"$f":"IF(ISNUMBER(A66),FCT_Urbano_Dados!C67/FCT_Urbano_Dados!H67,\"\")","v":""},{"$f":"IF(ISNUMBER(A66),FCT_Urbano_Dados!D67/FCT_Urbano_Dados!H67,\"\")","v":""},{"$f":"IF(ISNUMBER(A66),FCT_Urbano_Dados!E67/FCT_Urbano_Dados!H67,\"\")","v":""},{"$f":"IF(ISNUMBER(A66),FCT_Urbano_Dados!G67/FCT_Urbano_Dados!H67,\"\")","v":""},{"$f":"IF(ISNUMBER(H66),IF(AND(OR(FCT_Urbano_Dados!S67=\"CD\",FCT_Urbano_Dados!S67=\"n-1\",FCT_Urbano_Dados!S67=\"n\"),H66<0),(H66*FCT_Urbano_Dados!$G$10)/(SUMIFS(FCT_Urbano_Dados!$O$18:$O$71,FCT_Urbano_Dados!$S$18:$S$71,\"CD\")+SUMIFS(FCT_Urbano_Dados!$O$18:$O$71,FCT_Urbano_Dados!$S$18:$S$71,\"n-1\")+SUMIFS(FCT_Urbano_Dados!$O$18:$O$71,FCT_Urbano_Dados!$S$18:$S$71,\"n\")),0),\"\")","v":""},{"$f":"IFERROR(FCT_Urbano_Dados!K67*AVERAGE(FCT_Urbano_Dados!I67:J67),\"\")","v":""},"",{"$f":"IFERROR(IF(ISNUMBER(A66),G66/FCT_Urbano_Dados!H67,\"\"),\"\")","v":""},{"$f":"IFERROR(IF(ISNUMBER(A66),H66/FCT_Urbano_Dados!H67,\"\"),\"\")","v":""},{"$f":"IF(ISNUMBER(A66),100*((J66*0.0036)/VLOOKUP(CST_Urbano!$C$7,Combustíveis,2,FALSE)),\"\")","v":""},{"$f":"IF(ISNUMBER(A66),FCT_Urbano_Dados!P67,\"\")","v":""},{"$f":"IF(ISNUMBER(A66),FCT_Urbano_Dados!S67,\"\")","v":""},null,null,""]
[{"$f":"IF(ISNUMBER(FCT_Urbano_Dados!A68),FCT_Urbano_Dados!A68,\"\")","v":""},{"$f":"IF(ISNUMBER(A67),FCT_Urbano_Dados!B68/FCT_Urbano_Dados!H68,\"\")","v":""},{"$f":"IF(ISNUMBER(A67),FCT_Urbano_Dados!C68/FCT_Urbano_Dados!H68,\"\")","v":""},{"$f":"IF(ISNUMBER(A67),FCT_Urbano_Dados!D68/FCT_Urbano_Dados!H68,\"\")","v":""},{"$f":"IF(ISNUMBER(A67),FCT_Urbano_Dados!E68/FCT_Urbano_Dados!H68,\"\")","v":""},{"$f":"IF(ISNUMBER(A67),FCT_Urbano_Dados!G68/FCT_Urbano_Dados!H68,\"\")","v":""},{"$f":"IF(ISNUMBER(H67),IF(AND(OR(FCT_Urbano_Dados!S68=\"CD\",FCT_Urbano_Dados!S68=\"n-1\",FCT_Urbano_Dados!S68=\"n\"),H67<0),(H67*FCT_Urbano_Dados!$G$10)/(SUMIFS(FCT_Urbano_Dados!$O$18:$O$71,FCT_Urbano_Dados!$S$18:$S$71,\"CD\")+SUMIFS(FCT_Urbano_Dados!$O$18:$O$71,FCT_Urbano_Dados!$S$18:$S$71,\"n-1\")+SUMIFS(FCT_Urbano_Dados!$O$18:$O$71,FCT_Urbano_Dados!$S$18:$S$71,\"n\")),0),\"\")","v":""},{"$f":"IFERROR(FCT_Urbano_Dados!K68*AVERAGE(FCT_Urbano_Dados!I68:J68),\"\")","v":""},"",{"$f":"IFERROR(IF(ISNUMBER(A67),G67/FCT_Urbano_Dados!H68,\"\"),\"\")","v":""},{"$f":"IFERROR(IF(ISNUMBER(A67),H67/FCT_Urbano_Dados!H68,\"\"),\"\")","v":""},{"$f":"IF(ISNUMBER(A67),100*((J67*0.0036)/VLOOKUP(CST_Urbano!$C$7,Combustíveis,2,FALSE)),\"\")","v":""},{"$f":"IF(ISNUMBER(A67),FCT_Urbano_Dados!P68,\"\")","v":""},{"$f":"IF(ISNUMBER(A67),FCT_Urbano_Dados!S68,\"\")","v":""},null,null,""]
[{"$f":"IF(ISNUMBER(FCT_Urbano_Dados!A69),FCT_Urbano_Dados!A69,\"\")","v":""},{"$f":"IF(ISNUMBER(A68),FCT_Urbano_Dados!B69/FCT_Urbano_Dados!H69,\"\")","v":""},{"$f":"IF(ISNUMBER(A68),FCT_Urbano_Dados!C69/FCT_Urbano_Dados!H69,\"\")","v":""},{"$f":"IF(ISNUMBER(A68),FCT_Urbano_Dados!D69/FCT_Urbano_Dados!H69,\"\")","v":""},{"$f":"IF(ISNUMBER(A68),FCT_Urbano_Dados!E69/FCT_Urbano_Dados!H69,\"\")","v":""},{"$f":"IF(ISNUMBER(A68),FCT_Urbano_Dados!G69/FCT_Urbano_Dados!H69,\"\")","v":""},{"$f":"IF(ISNUMBER(H68),IF(AND(OR(FCT_Urbano_Dados!S69=\"CD\",FCT_Urbano_Dados!S69=\"n-1\",FCT_Urbano_Dados!S69=\"n\"),H68<0),(H68*FCT_Urbano_Dados!$G$10)/(SUMIFS(FCT_Urbano_Dados!$O$18:$O$71,FCT_Urbano_Dados!$S$18:$S$71,\"CD\")+SUMIFS(FCT_Urbano_Dados!$O$18:$O$71,FCT_Urbano_Dados!$S$18:$S$71,\"n-1\")+SUMIFS(FCT_Urbano_Dados!$O$18:$O$71,FCT_Urbano_Dados!$S$18:$S$71,\"n\")),0),\"\")","v":""},{"$f":"IFERROR(FCT_Urbano_Dados!K69*AVERAGE(FCT_Urbano_Dados!I69:J69),\"\")","v":""},"",{"$f":"IFERROR(IF(ISNUMBER(A68),G68/FCT_Urbano_Dados!H69,\"\"),\"\")","v":""},{"$f":"IFERROR(IF(ISNUMBER(A68),H68/FCT_Urbano_Dados!H69,\"\"),\"\")","v":""},{"$f":"IF(ISNUMBER(A68),100*((J68*0.0036)/VLOOKUP(CST_Urbano!$C$7,Combustíveis,2,FALSE)),\"\")","v":""},{"$f":"IF(ISNUMBER(A68),FCT_Urbano_Dados!P69,\"\")","v":""},{"$f":"IF(ISNUMBER(A68),FCT_Urbano_Dados!S69,\"\")","v":""},null,null,""]
[{"$f":"IF(ISNUMBER(FCT_Urbano_Dados!A70),FCT_Urbano_Dados!A70,\"\")","v":""},{"$f":"IF(ISNUMBER(A69),FCT_Urbano_Dados!B70/FCT_Urbano_Dados!H70,\"\")","v":""},{"$f":"IF(ISNUMBER(A69),FCT_Urbano_Dados!C70/FCT_Urbano_Dados!H70,\"\")","v":""},{"$f":"IF(ISNUMBER(A69),FCT_Urbano_Dados!D70/FCT_Urbano_Dados!H70,\"\")","v":""},{"$f":"IF(ISNUMBER(A69),FCT_Urbano_Dados!E70/FCT_Urbano_Dados!H70,\"\")","v":""},{"$f":"IF(ISNUMBER(A69),FCT_Urbano_Dados!G70/FCT_Urbano_Dados!H70,\"\")","v":""},{"$f":"IF(ISNUMBER(H69),IF(AND(OR(FCT_Urbano_Dados!S70=\"CD\",FCT_Urbano_Dados!S70=\"n-1\",FCT_Urbano_Dados!S70=\"n\"),H69<0),(H69*FCT_Urbano_Dados!$G$10)/(SUMIFS(FCT_Urbano_Dados!$O$18:$O$71,FCT_Urbano_Dados!$S$18:$S$71,\"CD\")+SUMIFS(FCT_Urbano_Dados!$O$18:$O$71,FCT_Urbano_Dados!$S$18:$S$71,\"n-1\")+SUMIFS(FCT_Urbano_Dados!$O$18:$O$71,FCT_Urbano_Dados!$S$18:$S$71,\"n\")),0),\"\")","v":""},{"$f":"IFERROR(FCT_Urbano_Dados!K70*AVERAGE(FCT_Urbano_Dados!I70:J70),\"\")","v":""},"",{"$f":"IFERROR(IF(ISNUMBER(A69),G69/FCT_Urbano_Dados!H70,\"\"),\"\")","v":""},{"$f":"IFERROR(IF(ISNUMBER(A69),H69/FCT_Urbano_Dados!H70,\"\"),\"\")","v":""},{"$f":"IF(ISNUMBER(A69),100*((J69*0.0036)/VLOOKUP(CST_Urbano!$C$7,Combustíveis,2,FALSE)),\"\")","v":""},{"$f":"IF(ISNUMBER(A69),FCT_Urbano_Dados!P70,\"\")","v":""},{"$f":"IF(ISNUMBER(A69),FCT_Urbano_Dados!S70,\"\")","v":""},null,null,""]
[{"$f":"IF(ISNUMBER(FCT_Urbano_Dados!A71),FCT_Urbano_Dados!A71,\"\")","v":""},{"$f":"IF(ISNUMBER(A70),FCT_Urbano_Dados!B71/FCT_Urbano_Dados!H71,\"\")","v":""},{"$f":"IF(ISNUMBER(A70),FCT_Urbano_Dados!C71/FCT_Urbano_Dados!H71,\"\")","v":""},{"$f":"IF(ISNUMBER(A70),FCT_Urbano_Dados!D71/FCT_Urbano_Dados!H71,\"\")","v":""},{"$f":"IF(ISNUMBER(A70),FCT_Urbano_Dados!E71/FCT_Urbano_Dados!H71,\"\")","v":""},{"$f":"IF(ISNUMBER(A70),FCT_Urbano_Dados!G71/FCT_Urbano_Dados!H71,\"\")","v":""},{"$f":"IF(ISNUMBER(H70),IF(AND(OR(FCT_Urbano_Dados!S71=\"CD\",FCT_Urbano_Dados!S71=\"n-1\",FCT_Urbano_Dados!S71=\"n\"),H70<0),(H70*FCT_Urbano_Dados!$G$10)/(SUMIFS(FCT_Urbano_Dados!$O$18:$O$71,FCT_Urbano_Dados!$S$18:$S$71,\"CD\")+SUMIFS(FCT_Urbano_Dados!$O$18:$O$71,FCT_Urbano_Dados!$S$18:$S$71,\"n-1\")+SUMIFS(FCT_Urbano_Dados!$O$18:$O$71,FCT_Urbano_Dados!$S$18:$S$71,\"n\")),0),\"\")","v":""},{"$f":"IFERROR(FCT_Urbano_Dados!K71*AVERAGE(FCT_Urbano_Dados!I71:J71),\"\")","v":""},"",{"$f":"IFERROR(IF(ISNUMBER(A70),G70/FCT_Urbano_Dados!H71,\"\"),\"\")","v":""},{"$f":"IFERROR(IF(ISNUMBER(A70),H70/FCT_Urbano_Dados!H71,\"\"),\"\")","v":""},{"$f":"IF(ISNUMBER(A70),100*((J70*0.0036)/VLOOKUP(CST_Urbano!$C$7,Combustíveis,2,FALSE)),\"\")","v":""},{"$f":"IF(ISNUMBER(A70),FCT_Urbano_Dados!P71,\"\")","v":""},{"$f":"IF(ISNUMBER(A70),FCT_Urbano_Dados!S71,\"\")","v":""},null,null,""]

{"sheet":"Emissões 6.2.2.2 Urbano","index":4,"n_rows":70,"n_cols":14,"rows_kept":70,"cut":false,"hidden":false,"merged":[[5,0,5,1],[5,2,5,3],[5,4,5,5],[5,6,5,7],[0,1,0,13],[1,1,1,13],[2,1,2,13],[3,0,3,13],[4,0,4,1],[4,2,4,3],[4,4,4,5],[4,6,4,7],[6,0,6,1],[6,2,6,3],[6,4,6,5],[6,6,6,7],[13,0,13,13],[8,1,8,9]]}
[null,"Cálculos de veículos híbridos"]
[null,"Ensaios em redução de carga no ciclo urbano - Resultados conforme 6.2.2.2"]
[null,"    Versão 8"]
["Dados do veículo e do ensaio"]
["id do veículo",null,{"$f":"IF(ISBLANK(CST_Urbano!C5),\"\",CST_Urbano!C5)","v":""},null,"Capacidade do RESS",null,{"$f":"IF(ISBLANK(CST_Urbano!G5),\"\",CST_Urbano!G5)","v":""},null,"Ah"]
["nº do processo",null,{"$f":"IF(ISBLANK(CST_Urbano!C6),\"\",CST_Urbano!C6)","v":""},null,"Vsist1",null,{"$f":"IF(ISBLANK(CST_Urbano!G6),\"\",CST_Urbano!G6)","v":""},null,"V"]
["Combustível do ensaio",null,{"$f":"IF(ISBLANK(CST_Urbano!C7),\"\",CST_Urbano!C7)","v":""},null,"Vsist2",null,{"$f":"IF(ISBLANK(CST_Urbano!G7),\"\",CST_Urbano!G7)","v":""},null,"V"]
[]
[null,"Resultado das emissões e consumo energético conforme item 6.2.2.2"]
[null,"CO","HC","NOx","CO2","NMHC","ECCD","FCCD","ACequiv.","Consumotot."]
[null,"(g/km)","(g/km)","(g/km)","(g/km)","(g/km)","(Wh/km)","(l/100km)","(l/100km)","(l/100km)"]
[null,{"$f":"IF(COUNTIF($N$17:$N$70,\"Início EOT\")+COUNTIF($N$17:$N$70,\"CS1\")>0,SUMIF($N$17:$N$70,\"CD\",$B$17:$B$70)+SUMIF($N$17:$N$70,\"n-1\",$B$17:$B$70)+SUMIF($N$17:$N$70,\"n\",$B$17:$B$70)+SUMIF($N$17:$N$70,\"Transição\",$B$17:$B$70)+CST_Urbano!$B$18*(1-UTILITYFACTOR(FCT_Urbano_Dados!$G$13)),\"\")","v":""},{"$f":"IF(COUNTIF($N$17:$N$70,\"Início EOT\")+COUNTIF($N$17:$N$70,\"CS1\")>0,SUMIF($N$17:$N$70,\"CD\",$C$17:$C$70)+SUMIF($N$17:$N$70,\"n-1\",$C$17:$C$70)+SUMIF($N$17:$N$70,\"n\",$C$17:$C$70)+SUMIF($N$17:$N$70,\"Transição\",$C$17:$C$70)+CST_Urbano!$C$18*(1-UTILITYFACTOR(FCT_Urbano_Dados!$G$13)),\"\")","v":""},{"$f":"IF(COUNTIF($N$17:$N$70,\"Início EOT\")+COUNTIF($N$17:$N$70,\"CS1\")>0,SUMIF($N$17:$N$70,\"CD\",$D$17:$D$70)+SUMIF($N$17:$N$70,\"n-1\",$D$17:$D$70)+SUMIF($N$17:$N$70,\"n\",$D$17:$D$70)+SUMIF($N$17:$N$70,\"Transição\",$D$17:$D$70)+CST_Urbano!$D$18*(1-UTILITYFACTOR(FCT_Urbano_Dados!$G$13)),\"\")","v":""},{"$f":"IF(COUNTIF($N$17:$N$70,\"Início EOT\")+COUNTIF($N$17:$N$70,\"CS1\")>0,SUMIF($N$17:$N$70,\"CD\",$E$17:$E$70)+SUMIF($N$17:$N$70,\"n-1\",$E$17:$E$70)+SUMIF($N$17:$N$70,\"n\",$E$17:$E$70)+SUMIF($N$17:$N$70,\"Transição\",$E$17:$E$70)+CST_Urbano!$E$18*(1-UTILITYFACTOR(FCT_Urbano_Dados!$G$13)),\"\")","v":""},{"$f":"IF(COUNTIF($N$17:$N$70,\"Início EOT\")+COUNTIF($N$17:$N$70,\"CS1\")>0,SUMIF($N$17:$N$70,\"CD\",$F$17:$F$70)+SUMIF($N$17:$N$70,\"n-1\",$F$17:$F$70)+SUMIF($N$17:$N$70,\"n\",$F$17:$F$70)+SUMIF($N$17:$N$70,\"Transição\",$F$17:$F$70)+CST_Urbano!$G$18*(1-UTILITYFACTOR(FCT_Urbano_Dados!$G$13)),\"\")","v":""},{"$f":"IF(COUNTIF($N$17:$N$70,\"Início EOT\")+COUNTIF($N$17:$N$70,\"CS1\")>0,SUMIF($N$17:$N$70,\"CD\",$J$17:$J$70)+SUMIF($N$17:$N$70,\"n-1\",$J$17:$J$70)+SUMIF($N$17:$N$70,\"n\",$J$17:$J$70)+SUMIF($N$17:$N$70,\"Transição\",$J$17:$J$70),\"\")","v":""},{"$f":"IF(COUNTIF($N$17:$N$70,\"Início EOT\")+COUNTIF($N$17:$N$70,\"CS1\")>0,SUMIF($N$17:$N$70,\"CD\",$M$17:$M$70)+SUMIF($N$17:$N$70,\"n-1\",$M$17:$M$70)+SUMIF($N$17:$N$70,\"n\",$M$17:$M$70)+SUMIF($N$17:$N$70,\"Transição\",$M$17:$M$70)+CST_Urbano!$K$18*(1-UTILITYFACTOR(FCT_Urbano_Dados!$G$13)),\"\")","v":""},{"$f":"IFERROR(100*((G12*0.0036)/VLOOKUP(CST_Urbano!$C$7,Combustíveis,2,FALSE)),\"\")","v":""},{"$f":"IFERROR(H12+I12,\"\")","v":""}]
[]
["EMISSÕES E CONSUMOS PONDERADOS COM FATORES DE UTILIZAÇÃO PARA CADA CICLO"]
["Nº Ciclo","CO","HC","NOx","CO2","NMHC","ECDi","EDCi","UFi","Consumo_AC","Consumo_DC","AC equivalente","Consumo","Tipo de"]
[null,"(g/km)","(g/km)","(g/km)","(g/km)","(g/km)","(Wh)","(Wh)",null,"(Wh/km)","(Wh/km)","(l/100km)","(l/100km)","Ciclo"]
[{"$f":"IF(ISNUMBER(FCT_Urbano_Dados!A18),FCT_Urbano_Dados!A18,\"\")","v":""},{"$f":"IF(ISNUMBER(A17),IF(OR(N17=\"CD\",N17=\"Transição\",N17=\"n-1\",N17=\"n\"),(FCT_Urbano_Dados!B18/FCT_Urbano_Dados!H18)*I17,FCT_Urbano_Dados!B18/FCT_Urbano_Dados!H18),\"\")","v":""},{"$f":"IF(ISNUMBER(A17),(FCT_Urbano_Dados!C18/FCT_Urbano_Dados!H18)*I17,\"\")","v":""},{"$f":"IF(ISNUMBER(A17),(FCT_Urbano_Dados!D18/FCT_Urbano_Dados!H18)*I17,\"\")","v":""},{"$f":"IF(ISNUMBER(A17),(FCT_Urbano_Dados!E18/FCT_Urbano_Dados!H18)*I17,\"\")","v":""},{"$f":"IF(ISNUMBER(A17),(FCT_Urbano_Dados!G18/FCT_Urbano_Dados!H18)*I17,\"\")","v":""},{"$f":"IFERROR('Emissões 6.2.2.1 Urbano'!G17*'Emissões 6.2.2.2 Urbano'!I17,\"\")","v":""},{"$f":"IF(ISNUMBER(A17),'Emissões 6.2.2.1 Urbano'!H17*I17,\"\")","v":""},{"$f":"IF(ISNUMBER(A17),UTILITYFACTOR(A17*dUrbano),\"\")","v":""},{"$f":"IFERROR(IF(ISNUMBER(A17),G17/FCT_Urbano_Dados!H18,\"\"),\"\")","v":""},{"$f":"IFERROR(IF(ISNUMBER(A17),H17/FCT_Urbano_Dados!H18,\"\"),\"\")","v":""},{"$f":"IF(ISNUMBER(A17),100*((J17*0.0036)/VLOOKUP(CST_Urbano!$C$7,Combustíveis,2,FALSE)),\"\")","v":""},{"$f":"IF(ISNUMBER(A17),(FCT_Urbano_Dados!P18)*I17,\"\")","v":""},{"$f":"IF(ISNUMBER(A17),FCT_Urbano_Dados!S18,\"\")","v":""}]
[{"$f":"IF(ISNUMBER(FCT_Urbano_Dados!A19),FCT_Urbano_Dados!A19,\"\")","v":""},{"$f":"IF(ISNUMBER($A18),IF(OR($N18=\"CD\",$N18=\"Transição\",$N18=\"n-1\",$N18=\"n\"),(FCT_Urbano_Dados!B19/FCT_Urbano_Dados!$H19)*($I18-$I17),(FCT_Urbano_Dados!B19/FCT_Urbano_Dados!$H19)*(1-UTILITYFACTOR(FCT_Urbano_Dados!$G$13))),\"\")","v":""},{"$f":"IF(ISNUMBER($A18),IF(OR($N18=\"CD\",$N18=\"Transição\",$N18=\"n-1\",$N18=\"n\"),(FCT_Urbano_Dados!C19/FCT_Urbano_Dados!$H19)*($I18-$I17),(FCT_Urbano_Dados!C19/FCT_Urbano_Dados!$H19)*(1-UTILITYFACTOR(FCT_Urbano_Dados!$G$13))),\"\")","v":""},{"$f":"IF(ISNUMBER($A18),IF(OR($N18=\"CD\",$N18=\"Transição\",$N18=\"n-1\",$N18=\"n\"),(FCT_Urbano_Dados!D19/FCT_Urbano_Dados!$H19)*($I18-$I17),(FCT_Urbano_Dados!D19/FCT_Urbano_Dados!$H19)*(1-UTILITYFACTOR(FCT_Urbano_Dados!$G$13))),\"\")","v":""},{"$f":"IF(ISNUMBER($A18),IF(OR($N18=\"CD\",$N18=\"Transição\",$N18=\"n-1\",$N18=\"n\"),(FCT_Urbano_Dados!E19/FCT_Urbano_Dados!$H19)*($I18-$I17),(FCT_Urbano_Dados!E19/FCT_Urbano_Dados!$H19)*(1-UTILITYFACTOR(FCT_Urbano_Dados!$G$13))),\"\")","v":""},{"$f":"IF(ISNUMBER($A18),IF(OR($N18=\"CD\",$N18=\"Transição\",$N18=\"n-1\",$N18=\"n\"),(FCT_Urbano_Dados!G19/FCT_Urbano_Dados!$H19)*($I18-$I17),(FCT_Urbano_Dados!G19/FCT_Urbano_Dados!$H19)*(1-UTILITYFACTOR(FCT_Urbano_Dados!$G$13))),\"\")","v":""},{"$f":"IFERROR(IF(OR($N18=\"CD\",$N18=\"Transição\",$N18=\"n-1\",$N18=\"n\"),'Emissões 6.2.2.1 Urbano'!G18*(I18-I17),'Emissões 6.2.2.1 Urbano'!G18),\"\")","v":""},{"$f":"IF(ISNUMBER(A18),IF(OR($N18=\"CD\",$N18=\"Transição\",$N18=\"n-1\",$N18=\"n\"),'Emissões 6.2.2.1 Urbano'!H18*(I18-I17),(1-UTILITYFACTOR(FCT_Urbano_Dados!$G$13))*'Emissões 6.2.2.1 Urbano'!H18),\"\")","v":""},{"$f":"IF(ISNUMBER(A18),UTILITYFACTOR(A18*dUrbano),\"\")","v":""},{"$f":"IFERROR(IF(ISNUMBER(A18),G18/FCT_Urbano_Dados!H19,\"\"),\"\")","v":""},{"$f":"IFERROR(IF(ISNUMBER(A18),H18/FCT_Urbano_Dados!H19,\"\"),\"\")","v":""},{"$f":"IF(ISNUMBER(A18),100*((J18*0.0036)/VLOOKUP(CST_Urbano!$C$7,Combustíveis,2,FALSE)),\"\")","v":""},{"$f":"IF(ISNUMBER(A18),IF(OR($N18=\"CD\",$N18=\"Transição\",$N18=\"n-1\",$N18=\"n\"),FCT_Urbano_Dados!P19*(I18-I17),(FCT_Urbano_Dados!P19)*(1-UTILITYFACTOR(FCT_Urbano_Dados!$G$13))),\"\")","v":""},{"$f":"IF(ISNUMBER(A18),FCT_Urbano_Dados!S19,\"\")","v":""}]
[{"$f":"IF(ISNUMBER(FCT_Urbano_Dados!A20),FCT_Urbano_Dados!A20,\"\")","v":""},{"$f":"IF(ISNUMBER($A19),IF(OR($N19=\"CD\",$N19=\"Transição\",$N19=\"n-1\",$N19=\"n\"),(FCT_Urbano_Dados!B20/FCT_Urbano_Dados!$H20)*($I19-$I18),(FCT_Urbano_Dados!B20/FCT_Urbano_Dados!$H20)*(1-UTILITYFACTOR(FCT_Urbano_Dados!$G$13))),\"\")","v":""},{"$f":"IF(ISNUMBER($A19),IF(OR($N19=\"CD\",$N19=\"Transição\",$N19=\"n-1\",$N19=\"n\"),(FCT_Urbano_Dados!C20/FCT_Urbano_Dados!$H20)*($I19-$I18),(FCT_Urbano_Dados!C20/FCT_Urbano_Dados!$H20)*(1-UTILITYFACTOR(FCT_Urbano_Dados!$G$13))),\"\")","v":""},{"$f":"IF(ISNUMBER($A19),IF(OR($N19=\"CD\",$N19=\"Transição\",$N19=\"n-1\",$N19=\"n\"),(FCT_Urbano_Dados!D20/FCT_Urbano_Dados!$H20)*($I19-$I18),(FCT_Urbano_Dados!D20/FCT_Urbano_Dados!$H20)*(1-UTILITYFACTOR(FCT_Urbano_Dados!$G$13))),\"\")","v":""},{"$f":"IF(ISNUMBER($A19),IF(OR($N19=\"CD\",$N19=\"Transição\",$N19=\"n-1\",$N19=\"n\"),(FCT_Urbano_Dados!E20/FCT_Urbano_Dados!$H20)*($I19-$I18),(FCT_Urbano_Dados!E20/FCT_Urbano_Dados!$H20)*(1-UTILITYFACTOR(FCT_Urbano_Dados!$G$13))),\"\")","v":""},{"$f":"IF(ISNUMBER($A19),IF(OR($N19=\"CD\",$N19=\"Transição\",$N19=\"n-1\",$N19=\"n\"),(FCT_Urbano_Dados!G20/FCT_Urbano_Dados!$H20)*($I19-$I18),(FCT_Urbano_Dados!G20/FCT_Urbano_Dados!$H20)*(1-UTILITYFACTOR(FCT_Urbano_Dados!$G$13))),\"\")","v":""},{"$f":"IFERROR(IF(OR($N19=\"CD\",$N19=\"Transição\",$N19=\"n-1\",$N19=\"n\"),'Emissões 6.2.2.1 Urbano'!G19*(I19-I18),'Emissões 6.2.2.1 Urbano'!G19),\"\")","v":""},{"$f":"IF(ISNUMBER(A19),IF(OR($N19=\"CD\",$N19=\"Transição\",$N19=\"n-1\",$N19=\"n\"),'Emissões 6.2.2.1 Urbano'!H19*(I19-I18),(1-UTILITYFACTOR(FCT_Urbano_Dados!$G$13))*'Emissões 6.2.2.1 Urbano'!H19),\"\")","v":""},{"$f":"IF(ISNUMBER(A19),UTILITYFACTOR(A19*dUrbano),\"\")","v":""},{"$f":"IFERROR(IF(ISNUMBER(A19),G19/FCT_Urbano_Dados!H20,\"\"),\"\")","v":""},{"$f":"IFERROR(IF(ISNUMBER(A19),H19/FCT_Urbano_Dados!H20,\"\"),\"\")","v":""},{"$f":"IF(ISNUMBER(A19),100*((J19*0.0036)/VLOOKUP(CST_Urbano!$C$7,Combustíveis,2,FALSE)),\"\")","v":""},{"$f":"IF(ISNUMBER(A19),IF(OR($N19=\"CD\",$N19=\"Transição\",$N19=\"n-1\",$N19=\"n\"),FCT_Urbano_Dados!P20*(I19-I18),(FCT_Urbano_Dados!P20)*(1-UTILITYFACTOR(FCT_Urbano_Dados!$G$13))),\"\")","v":""},{"$f":"IF(ISNUMBER(A19),FCT_Urbano_Dados!S20,\"\")","v":""}]
[{"$f":"IF(ISNUMBER(FCT_Urbano_Dados!A21),FCT_Urbano_Dados!A21,\"\")","v":""},{"$f":"IF(ISNUMBER($A20),IF(OR($N20=\"CD\",$N20=\"Transição\",$N20=\"n-1\",$N20=\"n\"),(FCT_Urbano_Dados!B21/FCT_Urbano_Dados!$H21)*($I20-$I19),(FCT_Urbano_Dados!B21/FCT_Urbano_Dados!$H21)*(1-UTILITYFACTOR(FCT_Urbano_Dados!$G$13))),\"\")","v":""},{"$f":"IF(ISNUMBER($A20),IF(OR($N20=\"CD\",$N20=\"Transição\",$N20=\"n-1\",$N20=\"n\"),(FCT_Urbano_Dados!C21/FCT_Urbano_Dados!$H21)*($I20-$I19),(FCT_Urbano_Dados!C21/FCT_Urbano_Dados!$H21)*(1-UTILITYFACTOR(FCT_Urbano_Dados!$G$13))),\"\")","v":""},{"$f":"IF(ISNUMBER($A20),IF(OR($N20=\"CD\",$N20=\"Transição\",$N20=\"n-1\",$N20=\"n\"),(FCT_Urbano_Dados!D21/FCT_Urbano_Dados!$H21)*($I20-$I19),(FCT_Urbano_Dados!D21/FCT_Urbano_Dados!$H21)*(1-UTILITYFACTOR(FCT_Urbano_Dados!$G$13))),\"\")","v":""},{"$f":"IF(ISNUMBER($A20),IF(OR($N20=\"CD\",$N20=\"Transição\",$N20=\"n-1\",$N20=\"n\"),(FCT_Urbano_Dados!E21/FCT_Urbano_Dados!$H21)*($I20-$I19),(FCT_Urbano_Dados!E21/FCT_Urbano_Dados!$H21)*(1-UTILITYFACTOR(FCT_Urbano_Dados!$G$13))),\"\")","v":""},{"$f":"IF(ISNUMBER($A20),IF(OR($N20=\"CD\",$N20=\"Transição\",$N20=\"n-1\",$N20=\"n\"),(FCT_Urbano_Dados!G21/FCT_Urbano_Dados!$H21)*($I20-$I19),(FCT_Urbano_Dados!G21/FCT_Urbano_Dados!$H21)*(1-UTILITYFACTOR(FCT_Urbano_Dados!$G$13))),\"\")","v":""},{"$f":"IFERROR(IF(OR($N20=\"CD\",$N20=\"Transição\",$N20=\"n-1\",$N20=\"n\"),'Emissões 6.2.2.1 Urbano'!G20*(I20-I19),'Emissões 6.2.2.1 Urbano'!G20),\"\")","v":""},{"$f":"IF(ISNUMBER(A20),IF(OR($N20=\"CD\",$N20=\"Transição\",$N20=\"n-1\",$N20=\"n\"),'Emissões 6.2.2.1 Urbano'!H20*(I20-I19),(1-UTILITYFACTOR(FCT_Urbano_Dados!$G$13))*'Emissões 6.2.2.1 Urbano'!H20),\"\")","v":""},{"$f":"IF(ISNUMBER(A20),UTILITYFACTOR(A20*dUrbano),\"\")","v":""},{"$f":"IFERROR(IF(ISNUMBER(A20),G20/FCT_Urbano_Dados!H21,\"\"),\"\")","v":""},{"$f":"IFERROR(IF(ISNUMBER(A20),H20/FCT_Urbano_Dados!H21,\"\"),\"\")","v":""},{"$f":"IF(ISNUMBER(A20),100*((J20*0.0036)/VLOOKUP(CST_Urbano!$C$7,Combustíveis,2,FALSE)),\"\")","v":""},{"$f":"IF(ISNUMBER(A20),IF(OR($N20=\"CD\",$N20=\"Transição\",$N20=\"n-1\",$N20=\"n\"),FCT_Urbano_Dados!P21*(I20-I19),(FCT_Urbano_Dados!P21)*(1-UTILITYFACTOR(FCT_Urbano_Dados!$G$13))),\"\")","v":""},{"$f":"IF(ISNUMBER(A20),FCT_Urbano_Dados!S21,\"\")","v":""}]
[{"$f":"IF(ISNUMBER(FCT_Urbano_Dados!A22),FCT_Urbano_Dados!A22,\"\")","v":""},{"$f":"IF(ISNUMBER($A21),IF(OR($N21=\"CD\",$N21=\"Transição\",$N21=\"n-1\",$N21=\"n\"),(FCT_Urbano_Dados!B22/FCT_Urbano_Dados!$H22)*($I21-$I20),(FCT_Urbano_Dados!B22/FCT_Urbano_Dados!$H22)*(1-UTILITYFACTOR(FCT_Urbano_Dados!$G$13))),\"\")","v":""},{"$f":"IF(ISNUMBER($A21),IF(OR($N21=\"CD\",$N21=\"Transição\",$N21=\"n-1\",$N21=\"n\"),(FCT_Urbano_Dados!C22/FCT_Urbano_Dados!$H22)*($I21-$I20),(FCT_Urbano_Dados!C22/FCT_Urbano_Dados!$H22)*(1-UTILITYFACTOR(FCT_Urbano_Dados!$G$13))),\"\")","v":""},{"$f":"IF(ISNUMBER($A21),IF(OR($N21=\"CD\",$N21=\"Transição\",$N21=\"n-1\",$N21=\"n\"),(FCT_Urbano_Dados!D22/FCT_Urbano_Dados!$H22)*($I21-$I20),(FCT_Urbano_Dados!D22/FCT_Urbano_Dados!$H22)*(1-UTILITYFACTOR(FCT_Urbano_Dados!$G$13))),\"\")","v":""},{"$f":"IF(ISNUMBER($A21),IF(OR($N21=\"CD\",$N21=\"Transição\",$N21=\"n-1\",$N21=\"n\"),(FCT_Urbano_Dados!E22/FCT_Urbano_Dados!$H22)*($I21-$I20),(FCT_Urbano_Dados!E22/FCT_Urbano_Dados!$H22)*(1-UTILITYFACTOR(FCT_Urbano_Dados!$G$13))),\"\")","v":""},{"$f":"IF(ISNUMBER($A21),IF(OR($N21=\"CD\",$N21=\"Transição\",$N21=\"n-1\",$N21=\"n\"),(FCT_Urbano_Dados!G22/FCT_Urbano_Dados!$H22)*($I21-$I20),(FCT_Urbano_Dados!G22/FCT_Urbano_Dados!$H22)*(1-UTILITYFACTOR(FCT_Urbano_Dados!$G$13))),\"\")","v":""},{"$f":"IFERROR(IF(OR($N21=\"CD\",$N21=\"Transição\",$N21=\"n-1\",$N21=\"n\"),'Emissões 6.2.2.1 Urbano'!G21*(I21-I20),'Emissões 6.2.2.1 Urbano'!G21),\"\")","v":""},{"$f":"IF(ISNUMBER(A21),IF(OR($N21=\"CD\",$N21=\"Transição\",$N21=\"n-1\",$N21=\"n\"),'Emissões 6.2.2.1 Urbano'!H21*(I21-I20),(1-UTILITYFACTOR(FCT_Urbano_Dados!$G$13))*'Emissões 6.2.2.1 Urbano'!H21),\"\")","v":""},{"$f":"IF(ISNUMBER(A21),UTILITYFACTOR(A21*dUrbano),\"\")","v":""},{"$f":"IFERROR(IF(ISNUMBER(A21),G21/FCT_Urbano_Dados!H22,\"\"),\"\")","v":""},{"$f":"IFERROR(IF(ISNUMBER(A21),H21/FCT_Urbano_Dados!H22,\"\"),\"\")","v":""},{"$f":"IF(ISNUMBER(A21),100*((J21*0.0036)/VLOOKUP(CST_Urbano!$C$7,Combustíveis,2,FALSE)),\"\")","v":""},{"$f":"IF(ISNUMBER(A21),IF(OR($N21=\"CD\",$N21=\"Transição\",$N21=\"n-1\",$N21=\"n\"),FCT_Urbano_Dados!P22*(I21-I20),(FCT_Urbano_Dados!P22)*(1-UTILITYFACTOR(FCT_Urbano_Dados!$G$13))),\"\")","v":""},{"$f":"IF(ISNUMBER(A21),FCT_Urbano_Dados!S22,\"\")","v":""}]
[{"$f":"IF(ISNUMBER(FCT_Urbano_Dados!A23),FCT_Urbano_Dados!A23,\"\")","v":""},{"$f":"IF(ISNUMBER($A22),IF(OR($N22=\"CD\",$N22=\"Transição\",$N22=\"n-1\",$N22=\"n\"),(FCT_Urbano_Dados!B23/FCT_Urbano_Dados!$H23)*($I22-$I21),(FCT_Urbano_Dados!B23/FCT_Urbano_Dados!$H23)*(1-UTILITYFACTOR(FCT_Urbano_Dados!$G$13))),\"\")","v":""},{"$f":"IF(ISNUMBER($A22),IF(OR($N22=\"CD\",$N22=\"Transição\",$N22=\"n-1\",$N22=\"n\"),(FCT_Urbano_Dados!C23/FCT_Urbano_Dados!$H23)*($I22-$I21),(FCT_Urbano_Dados!C23/FCT_Urbano_Dados!$H23)*(1-UTILITYFACTOR(FCT_Urbano_Dados!$G$13))),\"\")","v":""},{"$f":"IF(ISNUMBER($A22),IF(OR($N22=\"CD\",$N22=\"Transição\",$N22=\"n-1\",$N22=\"n\"),(FCT_Urbano_Dados!D23/FCT_Urbano_Dados!$H23)*($I22-$I21),(FCT_Urbano_Dados!D23/FCT_Urbano_Dados!$H23)*(1-UTILITYFACTOR(FCT_Urbano_Dados!$G$13))),\"\")","v":""},{"$f":"IF(ISNUMBER($A22),IF(OR($N22=\"CD\",$N22=\"Transição\",$N22=\"n-1\",$N22=\"n\"),(FCT_Urbano_Dados!E23/FCT_Urbano_Dados!$H23)*($I22-$I21),(FCT_Urbano_Dados!E23/FCT_Urbano_Dados!$H23)*(1-UTILITYFACTOR(FCT_Urbano_Dados!$G$13))),\"\")","v":""},{"$f":"IF(ISNUMBER($A22),IF(OR($N22=\"CD\",$N22=\"Transição\",$N22=\"n-1\",$N22=\"n\"),(FCT_Urbano_Dados!G23/FCT_Urbano_Dados!$H23)*($I22-$I21),(FCT_Urbano_Dados!G23/FCT_Urbano_Dados!$H23)*(1-UTILITYFACTOR(FCT_Urbano_Dados!$G$13))),\"\")","v":""},{"$f":"IFERROR(IF(OR($N22=\"CD\",$N22=\"Transição\",$N22=\"n-1\",$N22=\"n\"),'Emissões 6.2.2.1 Urbano'!G22*(I22-I21),'Emissões 6.2.2.1 Urbano'!G22),\"\")","v":""},{"$f":"IF(ISNUMBER(A22),IF(OR($N22=\"CD\",$N22=\"Transição\",$N22=\"n-1\",$N22=\"n\"),'Emissões 6.2.2.1 Urbano'!H22*(I22-I21),(1-UTILITYFACTOR(FCT_Urbano_Dados!$G$13))*'Emissões 6.2.2.1 Urbano'!H22),\"\")","v":""},{"$f":"IF(ISNUMBER(A22),UTILITYFACTOR(A22*dUrbano),\"\")","v":""},{"$f":"IFERROR(IF(ISNUMBER(A22),G22/FCT_Urbano_Dados!H23,\"\"),\"\")","v":""},{"$f":"IFERROR(IF(ISNUMBER(A22),H22/FCT_Urbano_Dados!H23,\"\"),\"\")","v":""},{"$f":"IF(ISNUMBER(A22),100*((J22*0.0036)/VLOOKUP(CST_Urbano!$C$7,Combustíveis,2,FALSE)),\"\")","v":""},{"$f":"IF(ISNUMBER(A22),IF(OR($N22=\"CD\",$N22=\"Transição\",$N22=\"n-1\",$N22=\"n\"),FCT_Urbano_Dados!P23*(I22-I21),(FCT_Urbano_Dados!P23)*(1-UTILITYFACTOR(FCT_Urbano_Dados!$G$13))),\"\")","v":""},{"$f":"IF(ISNUMBER(A22),FCT_Urbano_Dados!S23,\"\")","v":""}]
[{"$f":"IF(ISNUMBER(FCT_Urbano_Dados!A24),FCT_Urbano_Dados!A24,\"\")","v":""},{"$f":"IF(ISNUMBER($A23),IF(OR($N23=\"CD\",$N23=\"Transição\",$N23=\"n-1\",$N23=\"n\"),(FCT_Urbano_Dados!B24/FCT_Urbano_Dados!$H24)*($I23-$I22),(FCT_Urbano_Dados!B24/FCT_Urbano_Dados!$H24)*(1-UTILITYFACTOR(FCT_Urbano_Dados!$G$13))),\"\")","v":""},{"$f":"IF(ISNUMBER($A23),IF(OR($N23=\"CD\",$N23=\"Transição\",$N23=\"n-1\",$N23=\"n\"),(FCT_Urbano_Dados!C24/FCT_Urbano_Dados!$H24)*($I23-$I22),(FCT_Urbano_Dados!C24/FCT_Urbano_Dados!$H24)*(1-UTILITYFACTOR(FCT_Urbano_Dados!$G$13))),\"\")","v":""},{"$f":"IF(ISNUMBER($A23),IF(OR($N23=\"CD\",$N23=\"Transição\",$N23=\"n-1\",$N23=\"n\"),(FCT_Urbano_Dados!D24/FCT_Urbano_Dados!$H24)*($I23-$I22),(FCT_Urbano_Dados!D24/FCT_Urbano_Dados!$H24)*(1-UTILITYFACTOR(FCT_Urbano_Dados!$G$13))),\"\")","v":""},{"$f":"IF(ISNUMBER($A23),IF(OR($N23=\"CD\",$N23=\"Transição\",$N23=\"n-1\",$N23=\"n\"),(FCT_Urbano_Dados!E24/FCT_Urbano_Dados!$H24)*($I23-$I22),(FCT_Urbano_Dados!E24/FCT_Urbano_Dados!$H24)*(1-UTILITYFACTOR(FCT_Urbano_Dados!$G$13))),\"\")","v":""},{"$f":"IF(ISNUMBER($A23),IF(OR($N23=\"CD\",$N23=\"Transição\",$N23=\"n-1\",$N23=\"n\"),(FCT_Urbano_Dados!G24/FCT_Urbano_Dados!$H24)*($I23-$I22),(FCT_Urbano_Dados!G24/FCT_Urbano_Dados!$H24)*(1-UTILITYFACTOR(FCT_Urbano_Dados!$G$13))),\"\")","v":""},{"$f":"IFERROR(IF(OR($N23=\"CD\",$N23=\"Transição\",$N23=\"n-1\",$N23=\"n\"),'Emissões 6.2.2.1 Urbano'!G23*(I23-I22),'Emissões 6.2.2.1 Urbano'!G23),\"\")","v":""},{"$f":"IF(ISNUMBER(A23),IF(OR($N23=\"CD\",$N23=\"Transição\",$N23=\"n-1\",$N23=\"n\"),'Emissões 6.2.2.1 Urbano'!H23*(I23-I22),(1-UTILITYFACTOR(FCT_Urbano_Dados!$G$13))*'Emissões 6.2.2.1 Urbano'!H23),\"\")","v":""},{"$f":"IF(ISNUMBER(A23),UTILITYFACTOR(A23*dUrbano),\"\")","v":""},{"$f":"IFERROR(IF(ISNUMBER(A23),G23/FCT_Urbano_Dados!H24,\"\"),\"\")","v":""},{"$f":"IFERROR(IF(ISNUMBER(A23),H23/FCT_Urbano_Dados!H24,\"\"),\"\")","v":""},{"$f":"IF(ISNUMBER(A23),100*((J23*0.0036)/VLOOKUP(CST_Urbano!$C$7,Combustíveis,2,FALSE)),\"\")","v":""},{"$f":"IF(ISNUMBER(A23),IF(OR($N23=\"CD\",$N23=\"Transição\",$N23=\"n-1\",$N23=\"n\"),FCT_Urbano_Dados!P24*(I23-I22),(FCT_Urbano_Dados!P24)*(1-UTILITYFACTOR(FCT_Urbano_Dados!$G$13))),\"\")","v":""},{"$f":"IF(ISNUMBER(A23),FCT_Urbano_Dados!S24,\"\")","v":""}]
[{"$f":"IF(ISNUMBER(FCT_Urbano_Dados!A25),FCT_Urbano_Dados!A25,\"\")","v":""},{"$f":"IF(ISNUMBER($A24),IF(OR($N24=\"CD\",$N24=\"Transição\",$N24=\"n-1\",$N24=\"n\"),(FCT_Urbano_Dados!B25/FCT_Urbano_Dados!$H25)*($I24-$I23),(FCT_Urbano_Dados!B25/FCT_Urbano_Dados!$H25)*(1-UTILITYFACTOR(FCT_Urbano_Dados!$G$13))),\"\")","v":""},{"$f":"IF(ISNUMBER($A24),IF(OR($N24=\"CD\",$N24=\"Transição\",$N24=\"n-1\",$N24=\"n\"),(FCT_Urbano_Dados!C25/FCT_Urbano_Dados!$H25)*($I24-$I23),(FCT_Urbano_Dados!C25/FCT_Urbano_Dados!$H25)*(1-UTILITYFACTOR(FCT_Urbano_Dados!$G$13))),\"\")","v":""},{"$f":"IF(ISNUMBER($A24),IF(OR($N24=\"CD\",$N24=\"Transição\",$N24=\"n-1\",$N24=\"n\"),(FCT_Urbano_Dados!D25/FCT_Urbano_Dados!$H25)*($I24-$I23),(FCT_Urbano_Dados!D25/FCT_Urbano_Dados!$H25)*(1-UTILITYFACTOR(FCT_Urbano_Dados!$G$13))),\"\")","v":""},{"$f":"IF(ISNUMBER($A24),IF(OR($N24=\"CD\",$N24=\"Transição\",$N24=\"n-1\",$N24=\"n\"),(FCT_Urbano_Dados!E25/FCT_Urbano_Dados!$H25)*($I24-$I23),(FCT_Urbano_Dados!E25/FCT_Urbano_Dados!$H25)*(1-UTILITYFACTOR(FCT_Urbano_Dados!$G$13))),\"\")","v":""},{"$f":"IF(ISNUMBER($A24),IF(OR($N24=\"CD\",$N24=\"Transição\",$N24=\"n-1\",$N24=\"n\"),(FCT_Urbano_Dados!G25/FCT_Urbano_Dados!$H25)*($I24-$I23),(FCT_Urbano_Dados!G25/FCT_Urbano_Dados!$H25)*(1-UTILITYFACTOR(FCT_Urbano_Dados!$G$13))),\"\")","v":""},{"$f":"IFERROR(IF(OR($N24=\"CD\",$N24=\"Transição\",$N24=\"n-1\",$N24=\"n\"),'Emissões 6.2.2.1 Urbano'!G24*(I24-I23),'Emissões 6.2.2.1 Urbano'!G24),\"\")","v":""},{"$f":"IF(ISNUMBER(A24),IF(OR($N24=\"CD\",$N24=\"Transição\",$N24=\"n-1\",$N24=\"n\"),'Emissões 6.2.2.1 Urbano'!H24*(I24-I23),(1-UTILITYFACTOR(FCT_Urbano_Dados!$G$13))*'Emissões 6.2.2.1 Urbano'!H24),\"\")","v":""},{"$f":"IF(ISNUMBER(A24),UTILITYFACTOR(A24*dUrbano),\"\")","v":""},{"$f":"IFERROR(IF(ISNUMBER(A24),G24/FCT_Urbano_Dados!H25,\"\"),\"\")","v":""},{"$f":"IFERROR(IF(ISNUMBER(A24),H24/FCT_Urbano_Dados!H25,\"\"),\"\")","v":""},{"$f":"IF(ISNUMBER(A24),100*((J24*0.0036)/VLOOKUP(CST_Urbano!$C$7,Combustíveis,2,FALSE)),\"\")","v":""},{"$f":"IF(ISNUMBER(A24),IF(OR($N24=\"CD\",$N24=\"Transição\",$N24=\"n-1\",$N24=\"n\"),FCT_Urbano_Dados!P25*(I24-I23),(FCT_Urbano_Dados!P25)*(1-UTILITYFACTOR(FCT_Urbano_Dados!$G$13))),\"\")","v":""},{"$f":"IF(ISNUMBER(A24),FCT_Urbano_Dados!S25,\"\")","v":""}]
[{"$f":"IF(ISNUMBER(FCT_Urbano_Dados!A26),FCT_Urbano_Dados!A26,\"\")","v":""},{"$f":"IF(ISNUMBER($A25),IF(OR($N25=\"CD\",$N25=\"Transição\",$N25=\"n-1\",$N25=\"n\"),(FCT_Urbano_Dados!B26/FCT_Urbano_Dados!$H26)*($I25-$I24),(FCT_Urbano_Dados!B26/FCT_Urbano_Dados!$H26)*(1-UTILITYFACTOR(FCT_Urbano_Dados!$G$13))),\"\")","v":""},{"$f":"IF(ISNUMBER($A25),IF(OR($N25=\"CD\",$N25=\"Transição\",$N25=\"n-1\",$N25=\"n\"),(FCT_Urbano_Dados!C26/FCT_Urbano_Dados!$H26)*($I25-$I24),(FCT_Urbano_Dados!C26/FCT_Urbano_Dados!$H26)*(1-UTILITYFACTOR(FCT_Urbano_Dados!$G$13))),\"\")","v":""},{"$f":"IF(ISNUMBER($A25),IF(OR($N25=\"CD\",$N25=\"Transição\",$N25=\"n-1\",$N25=\"n\"),(FCT_Urbano_Dados!D26/FCT_Urbano_Dados!$H26)*($I25-$I24),(FCT_Urbano_Dados!D26/FCT_Urbano_Dados!$H26)*(1-UTILITYFACTOR(FCT_Urbano_Dados!$G$13))),\"\")","v":""},{"$f":"IF(ISNUMBER($A25),IF(OR($N25=\"CD\",$N25=\"Transição\",$N25=\"n-1\",$N25=\"n\"),(FCT_Urbano_Dados!E26/FCT_Urbano_Dados!$H26)*($I25-$I24),(FCT_Urbano_Dados!E26/FCT_Urbano_Dados!$H26)*(1-UTILITYFACTOR(FCT_Urbano_Dados!$G$13))),\"\")","v":""},{"$f":"IF(ISNUMBER($A25),IF(OR($N25=\"CD\",$N25=\"Transição\",$N25=\"n-1\",$N25=\"n\"),(FCT_Urbano_Dados!G26/FCT_Urbano_Dados!$H26)*($I25-$I24),(FCT_Urbano_Dados!G26/FCT_Urbano_Dados!$H26)*(1-UTILITYFACTOR(FCT_Urbano_Dados!$G$13))),\"\")","v":""},{"$f":"IFERROR(IF(OR($N25=\"CD\",$N25=\"Transição\",$N25=\"n-1\",$N25=\"n\"),'Emissões 6.2.2.1 Urbano'!G25*(I25-I24),'Emissões 6.2.2.1 Urbano'!G25),\"\")","v":""},{"$f":"IF(ISNUMBER(A25),IF(OR($N25=\"CD\",$N25=\"Transição\",$N25=\"n-1\",$N25=\"n\"),'Emissões 6.2.2.1 Urbano'!H25*(I25-I24),(1-UTILITYFACTOR(FCT_Urbano_Dados!$G$13))*'Emissões 6.2.2.1 Urbano'!H25),\"\")","v":""},{"$f":"IF(ISNUMBER(A25),UTILITYFACTOR(A25*dUrbano),\"\")","v":""},{"$f":"IFERROR(IF(ISNUMBER(A25),G25/FCT_Urbano_Dados!H26,\"\"),\"\")","v":""},{"$f":"IFERROR(IF(ISNUMBER(A25),H25/FCT_Urbano_Dados!H26,\"\"),\"\")","v":""},{"$f":"IF(ISNUMBER(A25),100*((J25*0.0036)/VLOOKUP(CST_Urbano!$C$7,Combustíveis,2,FALSE)),\"\")","v":""},{"$f":"IF(ISNUMBER(A25),IF(OR($N25=\"CD\",$N25=\"Transição\",$N25=\"n-1\",$N25=\"n\"),FCT_Urbano_Dados!P26*(I25-I24),(FCT_Urbano_Dados!P26)*(1-UTILITYFACTOR(FCT_Urbano_Dados!$G$13))),\"\")","v":""},{"$f":"IF(ISNUMBER(A25),FCT_Urbano_Dados!S26,\"\")","v":""}]
[{"$f":"IF(ISNUMBER(FCT_Urbano_Dados!A27),FCT_Urbano_Dados!A27,\"\")","v":""},{"$f":"IF(ISNUMBER($A26),IF(OR($N26=\"CD\",$N26=\"Transição\",$N26=\"n-1\",$N26=\"n\"),(FCT_Urbano_Dados!B27/FCT_Urbano_Dados!$H27)*($I26-$I25),(FCT_Urbano_Dados!B27/FCT_Urbano_Dados!$H27)*(1-UTILITYFACTOR(FCT_Urbano_Dados!$G$13))),\"\")","v":""},{"$f":"IF(ISNUMBER($A26),IF(OR($N26=\"CD\",$N26=\"Transição\",$N26=\"n-1\",$N26=\"n\"),(FCT_Urbano_Dados!C27/FCT_Urbano_Dados!$H27)*($I26-$I25),(FCT_Urbano_Dados!C27/FCT_Urbano_Dados!$H27)*(1-UTILITYFACTOR(FCT_Urbano_Dados!$G$13))),\"\")","v":""},{"$f":"IF(ISNUMBER($A26),IF(OR($N26=\"CD\",$N26=\"Transição\",$N26=\"n-1\",$N26=\"n\"),(FCT_Urbano_Dados!D27/FCT_Urbano_Dados!$H27)*($I26-$I25),(FCT_Urbano_Dados!D27/FCT_Urbano_Dados!$H27)*(1-UTILITYFACTOR(FCT_Urbano_Dados!$G$13))),\"\")","v":""},{"$f":"IF(ISNUMBER($A26),IF(OR($N26=\"CD\",$N26=\"Transição\",$N26=\"n-1\",$N26=\"n\"),(FCT_Urbano_Dados!E27/FCT_Urbano_Dados!$H27)*($I26-$I25),(FCT_Urbano_Dados!E27/FCT_Urbano_Dados!$H27)*(1-UTILITYFACTOR(FCT_Urbano_Dados!$G$13))),\"\")","v":""},{"$f":"IF(ISNUMBER($A26),IF(OR($N26=\"CD\",$N26=\"Transição\",$N26=\"n-1\",$N26=\"n\"),(FCT_Urbano_Dados!G27/FCT_Urbano_Dados!$H27)*($I26-$I25),(FCT_Urbano_Dados!G27/FCT_Urbano_Dados!$H27)*(1-UTILITYFACTOR(FCT_Urbano_Dados!$G$13))),\"\")","v":""},{"$f":"IFERROR(IF(OR($N26=\"CD\",$N26=\"Transição\",$N26=\"n-1\",$N26=\"n\"),'Emissões 6.2.2.1 Urbano'!G26*(I26-I25),'Emissões 6.2.2.1 Urbano'!G26),\"\")","v":""},{"$f":"IF(ISNUMBER(A26),IF(OR($N26=\"CD\",$N26=\"Transição\",$N26=\"n-1\",$N26=\"n\"),'Emissões 6.2.2.1 Urbano'!H26*(I26-I25),(1-UTILITYFACTOR(FCT_Urbano_Dados!$G$13))*'Emissões 6.2.2.1 Urbano'!H26),\"\")","v":""},{"$f":"IF(ISNUMBER(A26),UTILITYFACTOR(A26*dUrbano),\"\")","v":""},{"$f":"IFERROR(IF(ISNUMBER(A26),G26/FCT_Urbano_Dados!H27,\"\"),\"\")","v":""},{"$f":"IFERROR(IF(ISNUMBER(A26),H26/FCT_Urbano_Dados!H27,\"\"),\"\")","v":""},{"$f":"IF(ISNUMBER(A26),100*((J26*0.0036)/VLOOKUP(CST_Urbano!$C$7,Combustíveis,2,FALSE)),\"\")","v":""},{"$f":"IF(ISNUMBER(A26),IF(OR($N26=\"CD\",$N26=\"Transição\",$N26=\"n-1\",$N26=\"n\"),FCT_Urbano_Dados!P27*(I26-I25),(FCT_Urbano_Dados!P27)*(1-UTILITYFACTOR(FCT_Urbano_Dados!$G$13))),\"\")","v":""},{"$f":"IF(ISNUMBER(A26),FCT_Urbano_Dados!S27,\"\")","v":""}]
[{"$f":"IF(ISNUMBER(FCT_Urbano_Dados!A28),FCT_Urbano_Dados!A28,\"\")","v":""},{"$f":"IF(ISNUMBER($A27),IF(OR($N27=\"CD\",$N27=\"Transição\",$N27=\"n-1\",$N27=\"n\"),(FCT_Urbano_Dados!B28/FCT_Urbano_Dados!$H28)*($I27-$I26),(FCT_Urbano_Dados!B28/FCT_Urbano_Dados!$H28)*(1-UTILITYFACTOR(FCT_Urbano_Dados!$G$13))),\"\")","v":""},{"$f":"IF(ISNUMBER($A27),IF(OR($N27=\"CD\",$N27=\"Transição\",$N27=\"n-1\",$N27=\"n\"),(FCT_Urbano_Dados!C28/FCT_Urbano_Dados!$H28)*($I27-$I26),(FCT_Urbano_Dados!C28/FCT_Urbano_Dados!$H28)*(1-UTILITYFACTOR(FCT_Urbano_Dados!$G$13))),\"\")","v":""},{"$f":"IF(ISNUMBER($A27),IF(OR($N27=\"CD\",$N27=\"Transição\",$N27=\"n-1\",$N27=\"n\"),(FCT_Urbano_Dados!D28/FCT_Urbano_Dados!$H28)*($I27-$I26),(FCT_Urbano_Dados!D28/FCT_Urbano_Dados!$H28)*(1-UTILITYFACTOR(FCT_Urbano_Dados!$G$13))),\"\")","v":""},{"$f":"IF(ISNUMBER($A27),IF(OR($N27=\"CD\",$N27=\"Transição\",$N27=\"n-1\",$N27=\"n\"),(FCT_Urbano_Dados!E28/FCT_Urbano_Dados!$H28)*($I27-$I26),(FCT_Urbano_Dados!E28/FCT_Urbano_Dados!$H28)*(1-UTILITYFACTOR(FCT_Urbano_Dados!$G$13))),\"\")","v":""},{"$f":"IF(ISNUMBER($A27),IF(OR($N27=\"CD\",$N27=\"Transição\",$N27=\"n-1\",$N27=\"n\"),(FCT_Urbano_Dados!G28/FCT_Urbano_Dados!$H28)*($I27-$I26),(FCT_Urbano_Dados!G28/FCT_Urbano_Dados!$H28)*(1-UTILITYFACTOR(FCT_Urbano_Dados!$G$13))),\"\")","v":""},{"$f":"IFERROR(IF(OR($N27=\"CD\",$N27=\"Transição\",$N27=\"n-1\",$N27=\"n\"),'Emissões 6.2.2.1 Urbano'!G27*(I27-I26),'Emissões 6.2.2.1 Urbano'!G27),\"\")","v":""},{"$f":"IF(ISNUMBER(A27),IF(OR($N27=\"CD\",$N27=\"Transição\",$N27=\"n-1\",$N27=\"n\"),'Emissões 6.2.2.1 Urbano'!H27*(I27-I26),(1-UTILITYFACTOR(FCT_Urbano_Dados!$G$13))*'Emissões 6.2.2.1 Urbano'!H27),\"\")","v":""},{"$f":"IF(ISNUMBER(A27),UTILITYFACTOR(A27*dUrbano),\"\")","v":""},{"$f":"IFERROR(IF(ISNUMBER(A27),G27/FCT_Urbano_Dados!H28,\"\"),\"\")","v":""},{"$f":"IFERROR(IF(ISNUMBER(A27),H27/FCT_Urbano_Dados!H28,\"\"),\"\")","v":""},{"$f":"IF(ISNUMBER(A27),100*((J27*0.0036)/VLOOKUP(CST_Urbano!$C$7,Combustíveis,2,FALSE)),\"\")","v":""},{"$f":"IF(ISNUMBER(A27),IF(OR($N27=\"CD\",$N27=\"Transição\",$N27=\"n-1\",$N27=\"n\"),FCT_Urbano_Dados!P28*(I27-I26),(FCT_Urbano_Dados!P28)*(1-UTILITYFACTOR(FCT_Urbano_Dados!$G$13))),\"\")","v":""},{"$f":"IF(ISNUMBER(A27),FCT_Urbano_Dados!S28,\"\")","v":""}]
[{"$f":"IF(ISNUMBER(FCT_Urbano_Dados!A29),FCT_Urbano_Dados!A29,\"\")","v":""},{"$f":"IF(ISNUMBER($A28),IF(OR($N28=\"CD\",$N28=\"Transição\",$N28=\"n-1\",$N28=\"n\"),(FCT_Urbano_Dados!B29/FCT_Urbano_Dados!$H29)*($I28-$I27),(FCT_Urbano_Dados!B29/FCT_Urbano_Dados!$H29)*(1-UTILITYFACTOR(FCT_Urbano_Dados!$G$13))),\"\")","v":""},{"$f":"IF(ISNUMBER($A28),IF(OR($N28=\"CD\",$N28=\"Transição\",$N28=\"n-1\",$N28=\"n\"),(FCT_Urbano_Dados!C29/FCT_Urbano_Dados!$H29)*($I28-$I27),(FCT_Urbano_Dados!C29/FCT_Urbano_Dados!$H29)*(1-UTILITYFACTOR(FCT_Urbano_Dados!$G$13))),\"\")","v":""},{"$f":"IF(ISNUMBER($A28),IF(OR($N28=\"CD\",$N28=\"Transição\",$N28=\"n-1\",$N28=\"n\"),(FCT_Urbano_Dados!D29/FCT_Urbano_Dados!$H29)*($I28-$I27),(FCT_Urbano_Dados!D29/FCT_Urbano_Dados!$H29)*(1-UTILITYFACTOR(FCT_Urbano_Dados!$G$13))),\"\")","v":""},{"$f":"IF(ISNUMBER($A28),IF(OR($N28=\"CD\",$N28=\"Transição\",$N28=\"n-1\",$N28=\"n\"),(FCT_Urbano_Dados!E29/FCT_Urbano_Dados!$H29)*($I28-$I27),(FCT_Urbano_Dados!E29/FCT_Urbano_Dados!$H29)*(1-UTILITYFACTOR(FCT_Urbano_Dados!$G$13))),\"\")","v":""},{"$f":"IF(ISNUMBER($A28),IF(OR($N28=\"CD\",$N28=\"Transição\",$N28=\"n-1\",$N28=\"n\"),(FCT_Urbano_Dados!G29/FCT_Urbano_Dados!$H29)*($I28-$I27),(FCT_Urbano_Dados!G29/FCT_Urbano_Dados!$H29)*(1-UTILITYFACTOR(FCT_Urbano_Dados!$G$13))),\"\")","v":""},{"$f":"IFERROR(IF(OR($N28=\"CD\",$N28=\"Transição\",$N28=\"n-1\",$N28=\"n\"),'Emissões 6.2.2.1 Urbano'!G28*(I28-I27),'Emissões 6.2.2.1 Urbano'!G28),\"\")","v":""},{"$f":"IF(ISNUMBER(A28),IF(OR($N28=\"CD\",$N28=\"Transição\",$N28=\"n-1\",$N28=\"n\"),'Emissões 6.2.2.1 Urbano'!H28*(I28-I27),(1-UTILITYFACTOR(FCT_Urbano_Dados!$G$13))*'Emissões 6.2.2.1 Urbano'!H28),\"\")","v":""},{"$f":"IF(ISNUMBER(A28),UTILITYFACTOR(A28*dUrbano),\"\")","v":""},{"$f":"IFERROR(IF(ISNUMBER(A28),G28/FCT_Urbano_Dados!H29,\"\"),\"\")","v":""},{"$f":"IFERROR(IF(ISNUMBER(A28),H28/FCT_Urbano_Dados!H29,\"\"),\"\")","v":""},{"$f":"IF(ISNUMBER(A28),100*((J28*0.0036)/VLOOKUP(CST_Urbano!$C$7,Combustíveis,2,FALSE)),\"\")","v":""},{"$f":"IF(ISNUMBER(A28),IF(OR($N28=\"CD\",$N28=\"Transição\",$N28=\"n-1\",$N28=\"n\"),FCT_Urbano_Dados!P29*(I28-I27),(FCT_Urbano_Dados!P29)*(1-UTILITYFACTOR(FCT_Urbano_Dados!$G$13))),\"\")","v":""},{"$f":"IF(ISNUMBER(A28),FCT_Urbano_Dados!S29,\"\")","v":""}]
[{"$f":"IF(ISNUMBER(FCT_Urbano_Dados!A30),FCT_Urbano_Dados!A30,\"\")","v":""},{"$f":"IF(ISNUMBER($A29),IF(OR($N29=\"CD\",$N29=\"Transição\",$N29=\"n-1\",$N29=\"n\"),(FCT_Urbano_Dados!B30/FCT_Urbano_Dados!$H30)*($I29-$I28),(FCT_Urbano_Dados!B30/FCT_Urbano_Dados!$H30)*(1-UTILITYFACTOR(FCT_Urbano_Dados!$G$13))),\"\")","v":""},{"$f":"IF(ISNUMBER($A29),IF(OR($N29=\"CD\",$N29=\"Transição\",$N29=\"n-1\",$N29=\"n\"),(FCT_Urbano_Dados!C30/FCT_Urbano_Dados!$H30)*($I29-$I28),(FCT_Urbano_Dados!C30/FCT_Urbano_Dados!$H30)*(1-UTILITYFACTOR(FCT_Urbano_Dados!$G$13))),\"\")","v":""},{"$f":"IF(ISNUMBER($A29),IF(OR($N29=\"CD\",$N29=\"Transição\",$N29=\"n-1\",$N29=\"n\"),(FCT_Urbano_Dados!D30/FCT_Urbano_Dados!$H30)*($I29-$I28),(FCT_Urbano_Dados!D30/FCT_Urbano_Dados!$H30)*(1-UTILITYFACTOR(FCT_Urbano_Dados!$G$13))),\"\")","v":""},{"$f":"IF(ISNUMBER($A29),IF(OR($N29=\"CD\",$N29=\"Transição\",$N29=\"n-1\",$N29=\"n\"),(FCT_Urbano_Dados!E30/FCT_Urbano_Dados!$H30)*($I29-$I28),(FCT_Urbano_Dados!E30/FCT_Urbano_Dados!$H30)*(1-UTILITYFACTOR(FCT_Urbano_Dados!$G$13))),\"\")","v":""},{"$f":"IF(ISNUMBER($A29),IF(OR($N29=\"CD\",$N29=\"Transição\",$N29=\"n-1\",$N29=\"n\"),(FCT_Urbano_Dados!G30/FCT_Urbano_Dados!$H30)*($I29-$I28),(FCT_Urbano_Dados!G30/FCT_Urbano_Dados!$H30)*(1-UTILITYFACTOR(FCT_Urbano_Dados!$G$13))),\"\")","v":""},{"$f":"IFERROR(IF(OR($N29=\"CD\",$N29=\"Transição\",$N29=\"n-1\",$N29=\"n\"),'Emissões 6.2.2.1 Urbano'!G29*(I29-I28),'Emissões 6.2.2.1 Urbano'!G29),\"\")","v":""},{"$f":"IF(ISNUMBER(A29),IF(OR($N29=\"CD\",$N29=\"Transição\",$N29=\"n-1\",$N29=\"n\"),'Emissões 6.2.2.1 Urbano'!H29*(I29-I28),(1-UTILITYFACTOR(FCT_Urbano_Dados!$G$13))*'Emissões 6.2.2.1 Urbano'!H29),\"\")","v":""},{"$f":"IF(ISNUMBER(A29),UTILITYFACTOR(A29*dUrbano),\"\")","v":""},{"$f":"IFERROR(IF(ISNUMBER(A29),G29/FCT_Urbano_Dados!H30,\"\"),\"\")","v":""},{"$f":"IFERROR(IF(ISNUMBER(A29),H29/FCT_Urbano_Dados!H30,\"\"),\"\")","v":""},{"$f":"IF(ISNUMBER(A29),100*((J29*0.0036)/VLOOKUP(CST_Urbano!$C$7,Combustíveis,2,FALSE)),\"\")","v":""},{"$f":"IF(ISNUMBER(A29),IF(OR($N29=\"CD\",$N29=\"Transição\",$N29=\"n-1\",$N29=\"n\"),FCT_Urbano_Dados!P30*(I29-I28),(FCT_Urbano_Dados!P30)*(1-UTILITYFACTOR(FCT_Urbano_Dados!$G$13))),\"\")","v":""},{"$f":"IF(ISNUMBER(A29),FCT_Urbano_Dados!S30,\"\")","v":""}]
[{"$f":"IF(ISNUMBER(FCT_Urbano_Dados!A31),FCT_Urbano_Dados!A31,\"\")","v":""},{"$f":"IF(ISNUMBER($A30),IF(OR($N30=\"CD\",$N30=\"Transição\",$N30=\"n-1\",$N30=\"n\"),(FCT_Urbano_Dados!B31/FCT_Urbano_Dados!$H31)*($I30-$I29),(FCT_Urbano_Dados!B31/FCT_Urbano_Dados!$H31)*(1-UTILITYFACTOR(FCT_Urbano_Dados!$G$13))),\"\")","v":""},{"$f":"IF(ISNUMBER($A30),IF(OR($N30=\"CD\",$N30=\"Transição\",$N30=\"n-1\",$N30=\"n\"),(FCT_Urbano_Dados!C31/FCT_Urbano_Dados!$H31)*($I30-$I29),(FCT_Urbano_Dados!C31/FCT_Urbano_Dados!$H31)*(1-UTILITYFACTOR(FCT_Urbano_Dados!$G$13))),\"\")","v":""},{"$f":"IF(ISNUMBER($A30),IF(OR($N30=\"CD\",$N30=\"Transição\",$N30=\"n-1\",$N30=\"n\"),(FCT_Urbano_Dados!D31/FCT_Urbano_Dados!$H31)*($I30-$I29),(FCT_Urbano_Dados!D31/FCT_Urbano_Dados!$H31)*(1-UTILITYFACTOR(FCT_Urbano_Dados!$G$13))),\"\")","v":""},{"$f":"IF(ISNUMBER($A30),IF(OR($N30=\"CD\",$N30=\"Transição\",$N30=\"n-1\",$N30=\"n\"),(FCT_Urbano_Dados!E31/FCT_Urbano_Dados!$H31)*($I30-$I29),(FCT_Urbano_Dados!E31/FCT_Urbano_Dados!$H31)*(1-UTILITYFACTOR(FCT_Urbano_Dados!$G$13))),\"\")","v":""},{"$f":"IF(ISNUMBER($A30),IF(OR($N30=\"CD\",$N30=\"Transição\",$N30=\"n-1\",$N30=\"n\"),(FCT_Urbano_Dados!G31/FCT_Urbano_Dados!$H31)*($I30-$I29),(FCT_Urbano_Dados!G31/FCT_Urbano_Dados!$H31)*(1-UTILITYFACTOR(FCT_Urbano_Dados!$G$13))),\"\")","v":""},{"$f":"IFERROR(IF(OR($N30=\"CD\",$N30=\"Transição\",$N30=\"n-1\",$N30=\"n\"),'Emissões 6.2.2.1 Urbano'!G30*(I30-I29),'Emissões 6.2.2.1 Urbano'!G30),\"\")","v":""},{"$f":"IF(ISNUMBER(A30),IF(OR($N30=\"CD\",$N30=\"Transição\",$N30=\"n-1\",$N30=\"n\"),'Emissões 6.2.2.1 Urbano'!H30*(I30-I29),(1-UTILITYFACTOR(FCT_Urbano_Dados!$G$13))*'Emissões 6.2.2.1 Urbano'!H30),\"\")","v":""},{"$f":"IF(ISNUMBER(A30),UTILITYFACTOR(A30*dUrbano),\"\")","v":""},{"$f":"IFERROR(IF(ISNUMBER(A30),G30/FCT_Urbano_Dados!H31,\"\"),\"\")","v":""},{"$f":"IFERROR(IF(ISNUMBER(A30),H30/FCT_Urbano_Dados!H31,\"\"),\"\")","v":""},{"$f":"IF(ISNUMBER(A30),100*((J30*0.0036)/VLOOKUP(CST_Urbano!$C$7,Combustíveis,2,FALSE)),\"\")","v":""},{"$f":"IF(ISNUMBER(A30),IF(OR($N30=\"CD\",$N30=\"Transição\",$N30=\"n-1\",$N30=\"n\"),FCT_Urbano_Dados!P31*(I30-I29),(FCT_Urbano_Dados!P31)*(1-UTILITYFACTOR(FCT_Urbano_Dados!$G$13))),\"\")","v":""},{"$f":"IF(ISNUMBER(A30),FCT_Urbano_Dados!S31,\"\")","v":""}]
[{"$f":"IF(ISNUMBER(FCT_Urbano_Dados!A32),FCT_Urbano_Dados!A32,\"\")","v":""},{"$f":"IF(ISNUMBER($A31),IF(OR($N31=\"CD\",$N31=\"Transição\",$N31=\"n-1\",$N31=\"n\"),(FCT_Urbano_Dados!B32/FCT_Urbano_Dados!$H32)*($I31-$I30),(FCT_Urbano_Dados!B32/FCT_Urbano_Dados!$H32)*(1-UTILITYFACTOR(FCT_Urbano_Dados!$G$13))),\"\")","v":""},{"$f":"IF(ISNUMBER($A31),IF(OR($N31=\"CD\",$N31=\"Transição\",$N31=\"n-1\",$N31=\"n\"),(FCT_Urbano_Dados!C32/FCT_Urbano_Dados!$H32)*($I31-$I30),(FCT_Urbano_Dados!C32/FCT_Urbano_Dados!$H32)*(1-UTILITYFACTOR(FCT_Urbano_Dados!$G$13))),\"\")","v":""},{"$f":"IF(ISNUMBER($A31),IF(OR($N31=\"CD\",$N31=\"Transição\",$N31=\"n-1\",$N31=\"n\"),(FCT_Urbano_Dados!D32/FCT_Urbano_Dados!$H32)*($I31-$I30),(FCT_Urbano_Dados!D32/FCT_Urbano_Dados!$H32)*(1-UTILITYFACTOR(FCT_Urbano_Dados!$G$13))),\"\")","v":""},{"$f":"IF(ISNUMBER($A31),IF(OR($N31=\"CD\",$N31=\"Transição\",$N31=\"n-1\",$N31=\"n\"),(FCT_Urbano_Dados!E32/FCT_Urbano_Dados!$H32)*($I31-$I30),(FCT_Urbano_Dados!E32/FCT_Urbano_Dados!$H32)*(1-UTILITYFACTOR(FCT_Urbano_Dados!$G$13))),\"\")","v":""},{"$f":"IF(ISNUMBER($A31),IF(OR($N31=\"CD\",$N31=\"Transição\",$N31=\"n-1\",$N31=\"n\"),(FCT_Urbano_Dados!G32/FCT_Urbano_Dados!$H32)*($I31-$I30),(FCT_Urbano_Dados!G32/FCT_Urbano_Dados!$H32)*(1-UTILITYFACTOR(FCT_Urbano_Dados!$G$13))),\"\")","v":""},{"$f":"IFERROR(IF(OR($N31=\"CD\",$N31=\"Transição\",$N31=\"n-1\",$N31=\"n\"),'Emissões 6.2.2.1 Urbano'!G31*(I31-I30),'Emissões 6.2.2.1 Urbano'!G31),\"\")","v":""},{"$f":"IF(ISNUMBER(A31),IF(OR($N31=\"CD\",$N31=\"Transição\",$N31=\"n-1\",$N31=\"n\"),'Emissões 6.2.2.1 Urbano'!H31*(I31-I30),(1-UTILITYFACTOR(FCT_Urbano_Dados!$G$13))*'Emissões 6.2.2.1 Urbano'!H31),\"\")","v":""},{"$f":"IF(ISNUMBER(A31),UTILITYFACTOR(A31*dUrbano),\"\")","v":""},{"$f":"IFERROR(IF(ISNUMBER(A31),G31/FCT_Urbano_Dados!H32,\"\"),\"\")","v":""},{"$f":"IFERROR(IF(ISNUMBER(A31),H31/FCT_Urbano_Dados!H32,\"\"),\"\")","v":""},{"$f":"IF(ISNUMBER(A31),100*((J31*0.0036)/VLOOKUP(CST_Urbano!$C$7,Combustíveis,2,FALSE)),\"\")","v":""},{"$f":"IF(ISNUMBER(A31),IF(OR($N31=\"CD\",$N31=\"Transição\",$N31=\"n-1\",$N31=\"n\"),FCT_Urbano_Dados!P32*(I31-I30),(FCT_Urbano_Dados!P32)*(1-UTILITYFACTOR(FCT_Urbano_Dados!$G$13))),\"\")","v":""},{"$f":"IF(ISNUMBER(A31),FCT_Urbano_Dados!S32,\"\")","v":""}]
[{"$f":"IF(ISNUMBER(FCT_Urbano_Dados!A33),FCT_Urbano_Dados!A33,\"\")","v":""},{"$f":"IF(ISNUMBER($A32),IF(OR($N32=\"CD\",$N32=\"Transição\",$N32=\"n-1\",$N32=\"n\"),(FCT_Urbano_Dados!B33/FCT_Urbano_Dados!$H33)*($I32-$I31),(FCT_Urbano_Dados!B33/FCT_Urbano_Dados!$H33)*(1-UTILITYFACTOR(FCT_Urbano_Dados!$G$13))),\"\")","v":""},{"$f":"IF(ISNUMBER($A32),IF(OR($N32=\"CD\",$N32=\"Transição\",$N32=\"n-1\",$N32=\"n\"),(FCT_Urbano_Dados!C33/FCT_Urbano_Dados!$H33)*($I32-$I31),(FCT_Urbano_Dados!C33/FCT_Urbano_Dados!$H33)*(1-UTILITYFACTOR(FCT_Urbano_Dados!$G$13))),\"\")","v":""},{"$f":"IF(ISNUMBER($A32),IF(OR($N32=\"CD\",$N32=\"Transição\",$N32=\"n-1\",$N32=\"n\"),(FCT_Urbano_Dados!D33/FCT_Urbano_Dados!$H33)*($I32-$I31),(FCT_Urbano_Dados!D33/FCT_Urbano_Dados!$H33)*(1-UTILITYFACTOR(FCT_Urbano_Dados!$G$13))),\"\")","v":""},{"$f":"IF(ISNUMBER($A32),IF(OR($N32=\"CD\",$N32=\"Transição\",$N32=\"n-1\",$N32=\"n\"),(FCT_Urbano_Dados!E33/FCT_Urbano_Dados!$H33)*($I32-$I31),(FCT_Urbano_Dados!E33/FCT_Urbano_Dados!$H33)*(1-UTILITYFACTOR(FCT_Urbano_Dados!$G$13))),\"\")","v":""},{"$f":"IF(ISNUMBER($A32),IF(OR($N32=\"CD\",$N32=\"Transição\",$N32=\"n-1\",$N32=\"n\"),(FCT_Urbano_Dados!G33/FCT_Urbano_Dados!$H33)*($I32-$I31),(FCT_Urbano_Dados!G33/FCT_Urbano_Dados!$H33)*(1-UTILITYFACTOR(FCT_Urbano_Dados!$G$13))),\"\")","v":""},{"$f":"IFERROR(IF(OR($N32=\"CD\",$N32=\"Transição\",$N32=\"n-1\",$N32=\"n\"),'Emissões 6.2.2.1 Urbano'!G32*(I32-I31),'Emissões 6.2.2.1 Urbano'!G32),\"\")","v":""},{"$f":"IF(ISNUMBER(A32),IF(OR($N32=\"CD\",$N32=\"Transição\",$N32=\"n-1\",$N32=\"n\"),'Emissões 6.2.2.1 Urbano'!H32*(I32-I31),(1-UTILITYFACTOR(FCT_Urbano_Dados!$G$13))*'Emissões 6.2.2.1 Urbano'!H32),\"\")","v":""},{"$f":"IF(ISNUMBER(A32),UTILITYFACTOR(A32*dUrbano),\"\")","v":""},{"$f":"IFERROR(IF(ISNUMBER(A32),G32/FCT_Urbano_Dados!H33,\"\"),\"\")","v":""},{"$f":"IFERROR(IF(ISNUMBER(A32),H32/FCT_Urbano_Dados!H33,\"\"),\"\")","v":""},{"$f":"IF(ISNUMBER(A32),100*((J32*0.0036)/VLOOKUP(CST_Urbano!$C$7,Combustíveis,2,FALSE)),\"\")","v":""},{"$f":"IF(ISNUMBER(A32),IF(OR($N32=\"CD\",$N32=\"Transição\",$N32=\"n-1\",$N32=\"n\"),FCT_Urbano_Dados!P33*(I32-I31),(FCT_Urbano_Dados!P33)*(1-UTILITYFACTOR(FCT_Urbano_Dados!$G$13))),\"\")","v":""},{"$f":"IF(ISNUMBER(A32),FCT_Urbano_Dados!S33,\"\")","v":""}]
[{"$f":"IF(ISNUMBER(FCT_Urbano_Dados!A34),FCT_Urbano_Dados!A34,\"\")","v":""},{"$f":"IF(ISNUMBER($A33),IF(OR($N33=\"CD\",$N33=\"Transição\",$N33=\"n-1\",$N33=\"n\"),(FCT_Urbano_Dados!B34/FCT_Urbano_Dados!$H34)*($I33-$I32),(FCT_Urbano_Dados!B34/FCT_Urbano_Dados!$H34)*(1-UTILITYFACTOR(FCT_Urbano_Dados!$G$13))),\"\")","v":""},{"$f":"IF(ISNUMBER($A33),IF(OR($N33=\"CD\",$N33=\"Transição\",$N33=\"n-1\",$N33=\"n\"),(FCT_Urbano_Dados!C34/FCT_Urbano_Dados!$H34)*($I33-$I32),(FCT_Urbano_Dados!C34/FCT_Urbano_Dados!$H34)*(1-UTILITYFACTOR(FCT_Urbano_Dados!$G$13))),\"\")","v":""},{"$f":"IF(ISNUMBER($A33),IF(OR($N33=\"CD\",$N33=\"Transição\",$N33=\"n-1\",$N33=\"n\"),(FCT_Urbano_Dados!D34/FCT_Urbano_Dados!$H34)*($I33-$I32),(FCT_Urbano_Dados!D34/FCT_Urbano_Dados!$H34)*(1-UTILITYFACTOR(FCT_Urbano_Dados!$G$13))),\"\")","v":""},{"$f":"IF(ISNUMBER($A33),IF(OR($N33=\"CD\",$N33=\"Transição\",$N33=\"n-1\",$N33=\"n\"),(FCT_Urbano_Dados!E34/FCT_Urbano_Dados!$H34)*($I33-$I32),(FCT_Urbano_Dados!E34/FCT_Urbano_Dados!$H34)*(1-UTILITYFACTOR(FCT_Urbano_Dados!$G$13))),\"\")","v":""},{"$f":"IF(ISNUMBER($A33),IF(OR($N33=\"CD\",$N33=\"Transição\",$N33=\"n-1\",$N33=\"n\"),(FCT_Urbano_Dados!G34/FCT_Urbano_Dados!$H34)*($I33-$I32),(FCT_Urbano_Dados!G34/FCT_Urbano_Dados!$H34)*(1-UTILITYFACTOR(FCT_Urbano_Dados!$G$13))),\"\")","v":""},{"$f":"IFERROR(IF(OR($N33=\"CD\",$N33=\"Transição\",$N33=\"n-1\",$N33=\"n\"),'Emissões 6.2.2.1 Urbano'!G33*(I33-I32),'Emissões 6.2.2.1 Urbano'!G33),\"\")","v":""},{"$f":"IF(ISNUMBER(A33),IF(OR($N33=\"CD\",$N33=\"Transição\",$N33=\"n-1\",$N33=\"n\"),'Emissões 6.2.2.1 Urbano'!H33*(I33-I32),(1-UTILITYFACTOR(FCT_Urbano_Dados!$G$13))*'Emissões 6.2.2.1 Urbano'!H33),\"\")","v":""},{"$f":"IF(ISNUMBER(A33),UTILITYFACTOR(A33*dUrbano),\"\")","v":""},{"$f":"IFERROR(IF(ISNUMBER(A33),G33/FCT_Urbano_Dados!H34,\"\"),\"\")","v":""},{"$f":"IFERROR(IF(ISNUMBER(A33),H33/FCT_Urbano_Dados!H34,\"\"),\"\")","v":""},{"$f":"IF(ISNUMBER(A33),100*((J33*0.0036)/VLOOKUP(CST_Urbano!$C$7,Combustíveis,2,FALSE)),\"\")","v":""},{"$f":"IF(ISNUMBER(A33),IF(OR($N33=\"CD\",$N33=\"Transição\",$N33=\"n-1\",$N33=\"n\"),FCT_Urbano_Dados!P34*(I33-I32),(FCT_Urbano_Dados!P34)*(1-UTILITYFACTOR(FCT_Urbano_Dados!$G$13))),\"\")","v":""},{"$f":"IF(ISNUMBER(A33),FCT_Urbano_Dados!S34,\"\")","v":""}]
[{"$f":"IF(ISNUMBER(FCT_Urbano_Dados!A35),FCT_Urbano_Dados!A35,\"\")","v":""},{"$f":"IF(ISNUMBER($A34),IF(OR($N34=\"CD\",$N34=\"Transição\",$N34=\"n-1\",$N34=\"n\"),(FCT_Urbano_Dados!B35/FCT_Urbano_Dados!$H35)*($I34-$I33),(FCT_Urbano_Dados!B35/FCT_Urbano_Dados!$H35)*(1-UTILITYFACTOR(FCT_Urbano_Dados!$G$13))),\"\")","v":""},{"$f":"IF(ISNUMBER($A34),IF(OR($N34=\"CD\",$N34=\"Transição\",$N34=\"n-1\",$N34=\"n\"),(FCT_Urbano_Dados!C35/FCT_Urbano_Dados!$H35)*($I34-$I33),(FCT_Urbano_Dados!C35/FCT_Urbano_Dados!$H35)*(1-UTILITYFACTOR(FCT_Urbano_Dados!$G$13))),\"\")","v":""},{"$f":"IF(ISNUMBER($A34),IF(OR($N34=\"CD\",$N34=\"Transição\",$N34=\"n-1\",$N34=\"n\"),(FCT_Urbano_Dados!D35/FCT_Urbano_Dados!$H35)*($I34-$I33),(FCT_Urbano_Dados!D35/FCT_Urbano_Dados!$H35)*(1-UTILITYFACTOR(FCT_Urbano_Dados!$G$13))),\"\")","v":""},{"$f":"IF(ISNUMBER($A34),IF(OR($N34=\"CD\",$N34=\"Transição\",$N34=\"n-1\",$N34=\"n\"),(FCT_Urbano_Dados!E35/FCT_Urbano_Dados!$H35)*($I34-$I33),(FCT_Urbano_Dados!E35/FCT_Urbano_Dados!$H35)*(1-UTILITYFACTOR(FCT_Urbano_Dados!$G$13))),\"\")","v":""},{"$f":"IF(ISNUMBER($A34),IF(OR($N34=\"CD\",$N34=\"Transição\",$N34=\"n-1\",$N34=\"n\"),(FCT_Urbano_Dados!G35/FCT_Urbano_Dados!$H35)*($I34-$I33),(FCT_Urbano_Dados!G35/FCT_Urbano_Dados!$H35)*(1-UTILITYFACTOR(FCT_Urbano_Dados!$G$13))),\"\")","v":""},{"$f":"IFERROR(IF(OR($N34=\"CD\",$N34=\"Transição\",$N34=\"n-1\",$N34=\"n\"),'Emissões 6.2.2.1 Urbano'!G34*(I34-I33),'Emissões 6.2.2.1 Urbano'!G34),\"\")","v":""},{"$f":"IF(ISNUMBER(A34),IF(OR($N34=\"CD\",$N34=\"Transição\",$N34=\"n-1\",$N34=\"n\"),'Emissões 6.2.2.1 Urbano'!H34*(I34-I33),(1-UTILITYFACTOR(FCT_Urbano_Dados!$G$13))*'Emissões 6.2.2.1 Urbano'!H34),\"\")","v":""},{"$f":"IF(ISNUMBER(A34),UTILITYFACTOR(A34*dUrbano),\"\")","v":""},{"$f":"IFERROR(IF(ISNUMBER(A34),G34/FCT_Urbano_Dados!H35,\"\"),\"\")","v":""},{"$f":"IFERROR(IF(ISNUMBER(A34),H34/FCT_Urbano_Dados!H35,\"\"),\"\")","v":""},{"$f":"IF(ISNUMBER(A34),100*((J34*0.0036)/VLOOKUP(CST_Urbano!$C$7,Combustíveis,2,FALSE)),\"\")","v":""},{"$f":"IF(ISNUMBER(A34),IF(OR($N34=\"CD\",$N34=\"Transição\",$N34=\"n-1\",$N34=\"n\"),FCT_Urbano_Dados!P35*(I34-I33),(FCT_Urbano_Dados!P35)*(1-UTILITYFACTOR(FCT_Urbano_Dados!$G$13))),\"\")","v":""},{"$f":"IF(ISNUMBER(A34),FCT_Urbano_Dados!S35,\"\")","v":""}]
[{"$f":"IF(ISNUMBER(FCT_Urbano_Dados!A36),FCT_Urbano_Dados!A36,\"\")","v":""},{"$f":"IF(ISNUMBER($A35),IF(OR($N35=\"CD\",$N35=\"Transição\",$N35=\"n-1\",$N35=\"n\"),(FCT_Urbano_Dados!B36/FCT_Urbano_Dados!$H36)*($I35-$I34),(FCT_Urbano_Dados!B36/FCT_Urbano_Dados!$H36)*(1-UTILITYFACTOR(FCT_Urbano_Dados!$G$13))),\"\")","v":""},{"$f":"IF(ISNUMBER($A35),IF(OR($N35=\"CD\",$N35=\"Transição\",$N35=\"n-1\",$N35=\"n\"),(FCT_Urbano_Dados!C36/FCT_Urbano_Dados!$H36)*($I35-$I34),(FCT_Urbano_Dados!C36/FCT_Urbano_Dados!$H36)*(1-UTILITYFACTOR(FCT_Urbano_Dados!$G$13))),\"\")","v":""},{"$f":"IF(ISNUMBER($A35),IF(OR($N35=\"CD\",$N35=\"Transição\",$N35=\"n-1\",$N35=\"n\"),(FCT_Urbano_Dados!D36/FCT_Urbano_Dados!$H36)*($I35-$I34),(FCT_Urbano_Dados!D36/FCT_Urbano_Dados!$H36)*(1-UTILITYFACTOR(FCT_Urbano_Dados!$G$13))),\"\")","v":""},{"$f":"IF(ISNUMBER($A35),IF(OR($N35=\"CD\",$N35=\"Transição\",$N35=\"n-1\",$N35=\"n\"),(FCT_Urbano_Dados!E36/FCT_Urbano_Dados!$H36)*($I35-$I34),(FCT_Urbano_Dados!E36/FCT_Urbano_Dados!$H36)*(1-UTILITYFACTOR(FCT_Urbano_Dados!$G$13))),\"\")","v":""},{"$f":"IF(ISNUMBER($A35),IF(OR($N35=\"CD\",$N35=\"Transição\",$N35=\"n-1\",$N35=\"n\"),(FCT_Urbano_Dados!G36/FCT_Urbano_Dados!$H36)*($I35-$I34),(FCT_Urbano_Dados!G36/FCT_Urbano_Dados!$H36)*(1-UTILITYFACTOR(FCT_Urbano_Dados!$G$13))),\"\")","v":""},{"$f":"IFERROR(IF(OR($N35=\"CD\",$N35=\"Transição\",$N35=\"n-1\",$N35=\"n\"),'Emissões 6.2.2.1 Urbano'!G35*(I35-I34),'Emissões 6.2.2.1 Urbano'!G35),\"\")","v":""},{"$f":"IF(ISNUMBER(A35),IF(OR($N35=\"CD\",$N35=\"Transição\",$N35=\"n-1\",$N35=\"n\"),'Emissões 6.2.2.1 Urbano'!H35*(I35-I34),(1-UTILITYFACTOR(FCT_Urbano_Dados!$G$13))*'Emissões 6.2.2.1 Urbano'!H35),\"\")","v":""},{"$f":"IF(ISNUMBER(A35),UTILITYFACTOR(A35*dUrbano),\"\")","v":""},{"$f":"IFERROR(IF(ISNUMBER(A35),G35/FCT_Urbano_Dados!H36,\"\"),\"\")","v":""},{"$f":"IFERROR(IF(ISNUMBER(A35),H35/FCT_Urbano_Dados!H36,\"\"),\"\")","v":""},{"$f":"IF(ISNUMBER(A35),100*((J35*0.0036)/VLOOKUP(CST_Urbano!$C$7,Combustíveis,2,FALSE)),\"\")","v":""},{"$f":"IF(ISNUMBER(A35),IF(OR($N35=\"CD\",$N35=\"Transição\",$N35=\"n-1\",$N35=\"n\"),FCT_Urbano_Dados!P36*(I35-I34),(FCT_Urbano_Dados!P36)*(1-UTILITYFACTOR(FCT_Urbano_Dados!$G$13))),\"\")","v":""},{"$f":"IF(ISNUMBER(A35),FCT_Urbano_Dados!S36,\"\")","v":""}]
[{"$f":"IF(ISNUMBER(FCT_Urbano_Dados!A37),FCT_Urbano_Dados!A37,\"\")","v":""},{"$f":"IF(ISNUMBER($A36),IF(OR($N36=\"CD\",$N36=\"Transição\",$N36=\"n-1\",$N36=\"n\"),(FCT_Urbano_Dados!B37/FCT_Urbano_Dados!$H37)*($I36-$I35),(FCT_Urbano_Dados!B37/FCT_Urbano_Dados!$H37)*(1-UTILITYFACTOR(FCT_Urbano_Dados!$G$13))),\"\")","v":""},{"$f":"IF(ISNUMBER($A36),IF(OR($N36=\"CD\",$N36=\"Transição\",$N36=\"n-1\",$N36=\"n\"),(FCT_Urbano_Dados!C37/FCT_Urbano_Dados!$H37)*($I36-$I35),(FCT_Urbano_Dados!C37/FCT_Urbano_Dados!$H37)*(1-UTILITYFACTOR(FCT_Urbano_Dados!$G$13))),\"\")","v":""},{"$f":"IF(ISNUMBER($A36),IF(OR($N36=\"CD\",$N36=\"Transição\",$N36=\"n-1\",$N36=\"n\"),(FCT_Urbano_Dados!D37/FCT_Urbano_Dados!$H37)*($I36-$I35),(FCT_Urbano_Dados!D37/FCT_Urbano_Dados!$H37)*(1-UTILITYFACTOR(FCT_Urbano_Dados!$G$13))),\"\")","v":""},{"$f":"IF(ISNUMBER($A36),IF(OR($N36=\"CD\",$N36=\"Transição\",$N36=\"n-1\",$N36=\"n\"),(FCT_Urbano_Dados!E37/FCT_Urbano_Dados!$H37)*($I36-$I35),(FCT_Urbano_Dados!E37/FCT_Urbano_Dados!$H37)*(1-UTILITYFACTOR(FCT_Urbano_Dados!$G$13))),\"\")","v":""},{"$f":"IF(ISNUMBER($A36),IF(OR($N36=\"CD\",$N36=\"Transição\",$N36=\"n-1\",$N36=\"n\"),(FCT_Urbano_Dados!G37/FCT_Urbano_Dados!$H37)*($I36-$I35),(FCT_Urbano_Dados!G37/FCT_Urbano_Dados!$H37)*(1-UTILITYFACTOR(FCT_Urbano_Dados!$G$13))),\"\")","v":""},{"$f":"IFERROR(IF(OR($N36=\"CD\",$N36=\"Transição\",$N36=\"n-1\",$N36=\"n\"),'Emissões 6.2.2.1 Urbano'!G36*(I36-I35),'Emissões 6.2.2.1 Urbano'!G36),\"\")","v":""},{"$f":"IF(ISNUMBER(A36),IF(OR($N36=\"CD\",$N36=\"Transição\",$N36=\"n-1\",$N36=\"n\"),'Emissões 6.2.2.1 Urbano'!H36*(I36-I35),(1-UTILITYFACTOR(FCT_Urbano_Dados!$G$13))*'Emissões 6.2.2.1 Urbano'!H36),\"\")","v":""},{"$f":"IF(ISNUMBER(A36),UTILITYFACTOR(A36*dUrbano),\"\")","v":""},{"$f":"IFERROR(IF(ISNUMBER(A36),G36/FCT_Urbano_Dados!H37,\"\"),\"\")","v":""},{"$f":"IFERROR(IF(ISNUMBER(A36),H36/FCT_Urbano_Dados!H37,\"\"),\"\")","v":""},{"$f":"IF(ISNUMBER(A36),100*((J36*0.0036)/VLOOKUP(CST_Urbano!$C$7,Combustíveis,2,FALSE)),\"\")","v":""},{"$f":"IF(ISNUMBER(A36),IF(OR($N36=\"CD\",$N36=\"Transição\",$N36=\"n-1\",$N36=\"n\"),FCT_Urbano_Dados!P37*(I36-I35),(FCT_Urbano_Dados!P37)*(1-UTILITYFACTOR(FCT_Urbano_Dados!$G$13))),\"\")","v":""},{"$f":"IF(ISNUMBER(A36),FCT_Urbano_Dados!S37,\"\")","v":""}]
[{"$f":"IF(ISNUMBER(FCT_Urbano_Dados!A38),FCT_Urbano_Dados!A38,\"\")","v":""},{"$f":"IF(ISNUMBER($A37),IF(OR($N37=\"CD\",$N37=\"Transição\",$N37=\"n-1\",$N37=\"n\"),(FCT_Urbano_Dados!B38/FCT_Urbano_Dados!$H38)*($I37-$I36),(FCT_Urbano_Dados!B38/FCT_Urbano_Dados!$H38)*(1-UTILITYFACTOR(FCT_Urbano_Dados!$G$13))),\"\")","v":""},{"$f":"IF(ISNUMBER($A37),IF(OR($N37=\"CD\",$N37=\"Transição\",$N37=\"n-1\",$N37=\"n\"),(FCT_Urbano_Dados!C38/FCT_Urbano_Dados!$H38)*($I37-$I36),(FCT_Urbano_Dados!C38/FCT_Urbano_Dados!$H38)*(1-UTILITYFACTOR(FCT_Urbano_Dados!$G$13))),\"\")","v":""},{"$f":"IF(ISNUMBER($A37),IF(OR($N37=\"CD\",$N37=\"Transição\",$N37=\"n-1\",$N37=\"n\"),(FCT_Urbano_Dados!D38/FCT_Urbano_Dados!$H38)*($I37-$I36),(FCT_Urbano_Dados!D38/FCT_Urbano_Dados!$H38)*(1-UTILITYFACTOR(FCT_Urbano_Dados!$G$13))),\"\")","v":""},{"$f":"IF(ISNUMBER($A37),IF(OR($N37=\"CD\",$N37=\"Transição\",$N37=\"n-1\",$N37=\"n\"),(FCT_Urbano_Dados!E38/FCT_Urbano_Dados!$H38)*($I37-$I36),(FCT_Urbano_Dados!E38/FCT_Urbano_Dados!$H38)*(1-UTILITYFACTOR(FCT_Urbano_Dados!$G$13))),\"\")","v":""},{"$f":"IF(ISNUMBER($A37),IF(OR($N37=\"CD\",$N37=\"Transição\",$N37=\"n-1\",$N37=\"n\"),(FCT_Urbano_Dados!G38/FCT_Urbano_Dados!$H38)*($I37-$I36),(FCT_Urbano_Dados!G38/FCT_Urbano_Dados!$H38)*(1-UTILITYFACTOR(FCT_Urbano_Dados!$G$13))),\"\")","v":""},{"$f":"IFERROR(IF(OR($N37=\"CD\",$N37=\"Transição\",$N37=\"n-1\",$N37=\"n\"),'Emissões 6.2.2.1 Urbano'!G37*(I37-I36),'Emissões 6.2.2.1 Urbano'!G37),\"\")","v":""},{"$f":"IF(ISNUMBER(A37),IF(OR($N37=\"CD\",$N37=\"Transição\",$N37=\"n-1\",$N37=\"n\"),'Emissões 6.2.2.1 Urbano'!H37*(I37-I36),(1-UTILITYFACTOR(FCT_Urbano_Dados!$G$13))*'Emissões 6.2.2.1 Urbano'!H37),\"\")","v":""},{"$f":"IF(ISNUMBER(A37),UTILITYFACTOR(A37*dUrbano),\"\")","v":""},{"$f":"IFERROR(IF(ISNUMBER(A37),G37/FCT_Urbano_Dados!H38,\"\"),\"\")","v":""},{"$f":"IFERROR(IF(ISNUMBER(A37),H37/FCT_Urbano_Dados!H38,\"\"),\"\")","v":""},{"$f":"IF(ISNUMBER(A37),100*((J37*0.0036)/VLOOKUP(CST_Urbano!$C$7,Combustíveis,2,FALSE)),\"\")","v":""},{"$f":"IF(ISNUMBER(A37),IF(OR($N37=\"CD\",$N37=\"Transição\",$N37=\"n-1\",$N37=\"n\"),FCT_Urbano_Dados!P38*(I37-I36),(FCT_Urbano_Dados!P38)*(1-UTILITYFACTOR(FCT_Urbano_Dados!$G$13))),\"\")","v":""},{"$f":"IF(ISNUMBER(A37),FCT_Urbano_Dados!S38,\"\")","v":""}]
[{"$f":"IF(ISNUMBER(FCT_Urbano_Dados!A39),FCT_Urbano_Dados!A39,\"\")","v":""},{"$f":"IF(ISNUMBER($A38),IF(OR($N38=\"CD\",$N38=\"Transição\",$N38=\"n-1\",$N38=\"n\"),(FCT_Urbano_Dados!B39/FCT_Urbano_Dados!$H39)*($I38-$I37),(FCT_Urbano_Dados!B39/FCT_Urbano_Dados!$H39)*(1-UTILITYFACTOR(FCT_Urbano_Dados!$G$13))),\"\")","v":""},{"$f":"IF(ISNUMBER($A38),IF(OR($N38=\"CD\",$N38=\"Transição\",$N38=\"n-1\",$N38=\"n\"),(FCT_Urbano_Dados!C39/FCT_Urbano_Dados!$H39)*($I38-$I37),(FCT_Urbano_Dados!C39/FCT_Urbano_Dados!$H39)*(1-UTILITYFACTOR(FCT_Urbano_Dados!$G$13))),\"\")","v":""},{"$f":"IF(ISNUMBER($A38),IF(OR($N38=\"CD\",$N38=\"Transição\",$N38=\"n-1\",$N38=\"n\"),(FCT_Urbano_Dados!D39/FCT_Urbano_Dados!$H39)*($I38-$I37),(FCT_Urbano_Dados!D39/FCT_Urbano_Dados!$H39)*(1-UTILITYFACTOR(FCT_Urbano_Dados!$G$13))),\"\")","v":""},{"$f":"IF(ISNUMBER($A38),IF(OR($N38=\"CD\",$N38=\"Transição\",$N38=\"n-1\",$N38=\"n\"),(FCT_Urbano_Dados!E39/FCT_Urbano_Dados!$H39)*($I38-$I37),(FCT_Urbano_Dados!E39/FCT_Urbano_Dados!$H39)*(1-UTILITYFACTOR(FCT_Urbano_Dados!$G$13))),\"\")","v":""},{"$f":"IF(ISNUMBER($A38),IF(OR($N38=\"CD\",$N38=\"Transição\",$N38=\"n-1\",$N38=\"n\"),(FCT_Urbano_Dados!G39/FCT_Urbano_Dados!$H39)*($I38-$I37),(FCT_Urbano_Dados!G39/FCT_Urbano_Dados!$H39)*(1-UTILITYFACTOR(FCT_Urbano_Dados!$G$13))),\"\")","v":""},{"$f":"IFERROR(IF(OR($N38=\"CD\",$N38=\"Transição\",$N38=\"n-1\",$N38=\"n\"),'Emissões 6.2.2.1 Urbano'!G38*(I38-I37),'Emissões 6.2.2.1 Urbano'!G38),\"\")","v":""},{"$f":"IF(ISNUMBER(A38),IF(OR($N38=\"CD\",$N38=\"Transição\",$N38=\"n-1\",$N38=\"n\"),'Emissões 6.2.2.1 Urbano'!H38*(I38-I37),(1-UTILITYFACTOR(FCT_Urbano_Dados!$G$13))*'Emissões 6.2.2.1 Urbano'!H38),\"\")","v":""},{"$f":"IF(ISNUMBER(A38),UTILITYFACTOR(A38*dUrbano),\"\")","v":""},{"$f":"IFERROR(IF(ISNUMBER(A38),G38/FCT_Urbano_Dados!H39,\"\"),\"\")","v":""},{"$f":"IFERROR(IF(ISNUMBER(A38),H38/FCT_Urbano_Dados!H39,\"\"),\"\")","v":""},{"$f":"IF(ISNUMBER(A38),100*((J38*0.0036)/VLOOKUP(CST_Urbano!$C$7,Combustíveis,2,FALSE)),\"\")","v":""},{"$f":"IF(ISNUMBER(A38),IF(OR($N38=\"CD\",$N38=\"Transição\",$N38=\"n-1\",$N38=\"n\"),FCT_Urbano_Dados!P39*(I38-I37),(FCT_Urbano_Dados!P39)*(1-UTILITYFACTOR(FCT_Urbano_Dados!$G$13))),\"\")","v":""},{"$f":"IF(ISNUMBER(A38),FCT_Urbano_Dados!S39,\"\")","v":""}]
[{"$f":"IF(ISNUMBER(FCT_Urbano_Dados!A40),FCT_Urbano_Dados!A40,\"\")","v":""},{"$f":"IF(ISNUMBER($A39),IF(OR($N39=\"CD\",$N39=\"Transição\",$N39=\"n-1\",$N39=\"n\"),(FCT_Urbano_Dados!B40/FCT_Urbano_Dados!$H40)*($I39-$I38),(FCT_Urbano_Dados!B40/FCT_Urbano_Dados!$H40)*(1-UTILITYFACTOR(FCT_Urbano_Dados!$G$13))),\"\")","v":""},{"$f":"IF(ISNUMBER($A39),IF(OR($N39=\"CD\",$N39=\"Transição\",$N39=\"n-1\",$N39=\"n\"),(FCT_Urbano_Dados!C40/FCT_Urbano_Dados!$H40)*($I39-$I38),(FCT_Urbano_Dados!C40/FCT_Urbano_Dados!$H40)*(1-UTILITYFACTOR(FCT_Urbano_Dados!$G$13))),\"\")","v":""},{"$f":"IF(ISNUMBER($A39),IF(OR($N39=\"CD\",$N39=\"Transição\",$N39=\"n-1\",$N39=\"n\"),(FCT_Urbano_Dados!D40/FCT_Urbano_Dados!$H40)*($I39-$I38),(FCT_Urbano_Dados!D40/FCT_Urbano_Dados!$H40)*(1-UTILITYFACTOR(FCT_Urbano_Dados!$G$13))),\"\")","v":""},{"$f":"IF(ISNUMBER($A39),IF(OR($N39=\"CD\",$N39=\"Transição\",$N39=\"n-1\",$N39=\"n\"),(FCT_Urbano_Dados!E40/FCT_Urbano_Dados!$H40)*($I39-$I38),(FCT_Urbano_Dados!E40/FCT_Urbano_Dados!$H40)*(1-UTILITYFACTOR(FCT_Urbano_Dados!$G$13))),\"\")","v":""},{"$f":"IF(ISNUMBER($A39),IF(OR($N39=\"CD\",$N39=\"Transição\",$N39=\"n-1\",$N39=\"n\"),(FCT_Urbano_Dados!G40/FCT_Urbano_Dados!$H40)*($I39-$I38),(FCT_Urbano_Dados!G40/FCT_Urbano_Dados!$H40)*(1-UTILITYFACTOR(FCT_Urbano_Dados!$G$13))),\"\")","v":""},{"$f":"IFERROR(IF(OR($N39=\"CD\",$N39=\"Transição\",$N39=\"n-1\",$N39=\"n\"),'Emissões 6.2.2.1 Urbano'!G39*(I39-I38),'Emissões 6.2.2.1 Urbano'!G39),\"\")","v":""},{"$f":"IF(ISNUMBER(A39),IF(OR($N39=\"CD\",$N39=\"Transição\",$N39=\"n-1\",$N39=\"n\"),'Emissões 6.2.2.1 Urbano'!H39*(I39-I38),(1-UTILITYFACTOR(FCT_Urbano_Dados!$G$13))*'Emissões 6.2.2.1 Urbano'!H39),\"\")","v":""},{"$f":"IF(ISNUMBER(A39),UTILITYFACTOR(A39*dUrbano),\"\")","v":""},{"$f":"IFERROR(IF(ISNUMBER(A39),G39/FCT_Urbano_Dados!H40,\"\"),\"\")","v":""},{"$f":"IFERROR(IF(ISNUMBER(A39),H39/FCT_Urbano_Dados!H40,\"\"),\"\")","v":""},{"$f":"IF(ISNUMBER(A39),100*((J39*0.0036)/VLOOKUP(CST_Urbano!$C$7,Combustíveis,2,FALSE)),\"\")","v":""},{"$f":"IF(ISNUMBER(A39),IF(OR($N39=\"CD\",$N39=\"Transição\",$N39=\"n-1\",$N39=\"n\"),FCT_Urbano_Dados!P40*(I39-I38),(FCT_Urbano_Dados!P40)*(1-UTILITYFACTOR(FCT_Urbano_Dados!$G$13))),\"\")","v":""},{"$f":"IF(ISNUMBER(A39),FCT_Urbano_Dados!S40,\"\")","v":""}]
[{"$f":"IF(ISNUMBER(FCT_Urbano_Dados!A41),FCT_Urbano_Dados!A41,\"\")","v":""},{"$f":"IF(ISNUMBER($A40),IF(OR($N40=\"CD\",$N40=\"Transição\",$N40=\"n-1\",$N40=\"n\"),(FCT_Urbano_Dados!B41/FCT_Urbano_Dados!$H41)*($I40-$I39),(FCT_Urbano_Dados!B41/FCT_Urbano_Dados!$H41)*(1-UTILITYFACTOR(FCT_Urbano_Dados!$G$13))),\"\")","v":""},{"$f":"IF(ISNUMBER($A40),IF(OR($N40=\"CD\",$N40=\"Transição\",$N40=\"n-1\",$N40=\"n\"),(FCT_Urbano_Dados!C41/FCT_Urbano_Dados!$H41)*($I40-$I39),(FCT_Urbano_Dados!C41/FCT_Urbano_Dados!$H41)*(1-UTILITYFACTOR(FCT_Urbano_Dados!$G$13))),\"\")","v":""},{"$f":"IF(ISNUMBER($A40),IF(OR($N40=\"CD\",$N40=\"Transição\",$N40=\"n-1\",$N40=\"n\"),(FCT_Urbano_Dados!D41/FCT_Urbano_Dados!$H41)*($I40-$I39),(FCT_Urbano_Dados!D41/FCT_Urbano_Dados!$H41)*(1-UTILITYFACTOR(FCT_Urbano_Dados!$G$13))),\"\")","v":""},{"$f":"IF(ISNUMBER($A40),IF(OR($N40=\"CD\",$N40=\"Transição\",$N40=\"n-1\",$N40=\"n\"),(FCT_Urbano_Dados!E41/FCT_Urbano_Dados!$H41)*($I40-$I39),(FCT_Urbano_Dados!E41/FCT_Urbano_Dados!$H41)*(1-UTILITYFACTOR(FCT_Urbano_Dados!$G$13))),\"\")","v":""},{"$f":"IF(ISNUMBER($A40),IF(OR($N40=\"CD\",$N40=\"Transição\",$N40=\"n-1\",$N40=\"n\"),(FCT_Urbano_Dados!G41/FCT_Urbano_Dados!$H41)*($I40-$I39),(FCT_Urbano_Dados!G41/FCT_Urbano_Dados!$H41)*(1-UTILITYFACTOR(FCT_Urbano_Dados!$G$13))),\"\")","v":""},{"$f":"IFERROR(IF(OR($N40=\"CD\",$N40=\"Transição\",$N40=\"n-1\",$N40=\"n\"),'Emissões 6.2.2.1 Urbano'!G40*(I40-I39),'Emissões 6.2.2.1 Urbano'!G40),\"\")","v":""},{"$f":"IF(ISNUMBER(A40),IF(OR($N40=\"CD\",$N40=\"Transição\",$N40=\"n-1\",$N40=\"n\"),'Emissões 6.2.2.1 Urbano'!H40*(I40-I39),(1-UTILITYFACTOR(FCT_Urbano_Dados!$G$13))*'Emissões 6.2.2.1 Urbano'!H40),\"\")","v":""},{"$f":"IF(ISNUMBER(A40),UTILITYFACTOR(A40*dUrbano),\"\")","v":""},{"$f":"IFERROR(IF(ISNUMBER(A40),G40/FCT_Urbano_Dados!H41,\"\"),\"\")","v":""},{"$f":"IFERROR(IF(ISNUMBER(A40),H40/FCT_Urbano_Dados!H41,\"\"),\"\")","v":""},{"$f":"IF(ISNUMBER(A40),100*((J40*0.0036)/VLOOKUP(CST_Urbano!$C$7,Combustíveis,2,FALSE)),\"\")","v":""},{"$f":"IF(ISNUMBER(A40),IF(OR($N40=\"CD\",$N40=\"Transição\",$N40=\"n-1\",$N40=\"n\"),FCT_Urbano_Dados!P41*(I40-I39),(FCT_Urbano_Dados!P41)*(1-UTILITYFACTOR(FCT_Urbano_Dados!$G$13))),\"\")","v":""},{"$f":"IF(ISNUMBER(A40),FCT_Urbano_Dados!S41,\"\")","v":""}]
[{"$f":"IF(ISNUMBER(FCT_Urbano_Dados!A42),FCT_Urbano_Dados!A42,\"\")","v":""},{"$f":"IF(ISNUMBER($A41),IF(OR($N41=\"CD\",$N41=\"Transição\",$N41=\"n-1\",$N41=\"n\"),(FCT_Urbano_Dados!B42/FCT_Urbano_Dados!$H42)*($I41-$I40),(FCT_Urbano_Dados!B42/FCT_Urbano_Dados!$H42)*(1-UTILITYFACTOR(FCT_Urbano_Dados!$G$13))),\"\")","v":""},{"$f":"IF(ISNUMBER($A41),IF(OR($N41=\"CD\",$N41=\"Transição\",$N41=\"n-1\",$N41=\"n\"),(FCT_Urbano_Dados!C42/FCT_Urbano_Dados!$H42)*($I41-$I40),(FCT_Urbano_Dados!C42/FCT_Urbano_Dados!$H42)*(1-UTILITYFACTOR(FCT_Urbano_Dados!$G$13))),\"\")","v":""},{"$f":"IF(ISNUMBER($A41),IF(OR($N41=\"CD\",$N41=\"Transição\",$N41=\"n-1\",$N41=\"n\"),(FCT_Urbano_Dados!D42/FCT_Urbano_Dados!$H42)*($I41-$I40),(FCT_Urbano_Dados!D42/FCT_Urbano_Dados!$H42)*(1-UTILITYFACTOR(FCT_Urbano_Dados!$G$13))),\"\")","v":""},{"$f":"IF(ISNUMBER($A41),IF(OR($N41=\"CD\",$N41=\"Transição\",$N41=\"n-1\",$N41=\"n\"),(FCT_Urbano_Dados!E42/FCT_Urbano_Dados!$H42)*($I41-$I40),(FCT_Urbano_Dados!E42/FCT_Urbano_Dados!$H42)*(1-UTILITYFACTOR(FCT_Urbano_Dados!$G$13))),\"\")","v":""},{"$f":"IF(ISNUMBER($A41),IF(OR($N41=\"CD\",$N41=\"Transição\",$N41=\"n-1\",$N41=\"n\"),(FCT_Urbano_Dados!G42/FCT_Urbano_Dados!$H42)*($I41-$I40),(FCT_Urbano_Dados!G42/FCT_Urbano_Dados!$H42)*(1-UTILITYFACTOR(FCT_Urbano_Dados!$G$13))),\"\")","v":""},{"$f":"IFERROR(IF(OR($N41=\"CD\",$N41=\"Transição\",$N41=\"n-1\",$N41=\"n\"),'Emissões 6.2.2.1 Urbano'!G41*(I41-I40),'Emissões 6.2.2.1 Urbano'!G41),\"\")","v":""},{"$f":"IF(ISNUMBER(A41),IF(OR($N41=\"CD\",$N41=\"Transição\",$N41=\"n-1\",$N41=\"n\"),'Emissões 6.2.2.1 Urbano'!H41*(I41-I40),(1-UTILITYFACTOR(FCT_Urbano_Dados!$G$13))*'Emissões 6.2.2.1 Urbano'!H41),\"\")","v":""},{"$f":"IF(ISNUMBER(A41),UTILITYFACTOR(A41*dUrbano),\"\")","v":""},{"$f":"IFERROR(IF(ISNUMBER(A41),G41/FCT_Urbano_Dados!H42,\"\"),\"\")","v":""},{"$f":"IFERROR(IF(ISNUMBER(A41),H41/FCT_Urbano_Dados!H42,\"\"),\"\")","v":""},{"$f":"IF(ISNUMBER(A41),100*((J41*0.0036)/VLOOKUP(CST_Urbano!$C$7,Combustíveis,2,FALSE)),\"\")","v":""},{"$f":"IF(ISNUMBER(A41),IF(OR($N41=\"CD\",$N41=\"Transição\",$N41=\"n-1\",$N41=\"n\"),FCT_Urbano_Dados!P42*(I41-I40),(FCT_Urbano_Dados!P42)*(1-UTILITYFACTOR(FCT_Urbano_Dados!$G$13))),\"\")","v":""},{"$f":"IF(ISNUMBER(A41),FCT_Urbano_Dados!S42,\"\")","v":""}]
[{"$f":"IF(ISNUMBER(FCT_Urbano_Dados!A43),FCT_Urbano_Dados!A43,\"\")","v":""},{"$f":"IF(ISNUMBER($A42),IF(OR($N42=\"CD\",$N42=\"Transição\",$N42=\"n-1\",$N42=\"n\"),(FCT_Urbano_Dados!B43/FCT_Urbano_Dados!$H43)*($I42-$I41),(FCT_Urbano_Dados!B43/FCT_Urbano_Dados!$H43)*(1-UTILITYFACTOR(FCT_Urbano_Dados!$G$13))),\"\")","v":""},{"$f":"IF(ISNUMBER($A42),IF(OR($N42=\"CD\",$N42=\"Transição\",$N42=\"n-1\",$N42=\"n\"),(FCT_Urbano_Dados!C43/FCT_Urbano_Dados!$H43)*($I42-$I41),(FCT_Urbano_Dados!C43/FCT_Urbano_Dados!$H43)*(1-UTILITYFACTOR(FCT_Urbano_Dados!$G$13))),\"\")","v":""},{"$f":"IF(ISNUMBER($A42),IF(OR($N42=\"CD\",$N42=\"Transição\",$N42=\"n-1\",$N42=\"n\"),(FCT_Urbano_Dados!D43/FCT_Urbano_Dados!$H43)*($I42-$I41),(FCT_Urbano_Dados!D43/FCT_Urbano_Dados!$H43)*(1-UTILITYFACTOR(FCT_Urbano_Dados!$G$13))),\"\")","v":""},{"$f":"IF(ISNUMBER($A42),IF(OR($N42=\"CD\",$N42=\"Transição\",$N42=\"n-1\",$N42=\"n\"),(FCT_Urbano_Dados!E43/FCT_Urbano_Dados!$H43)*($I42-$I41),(FCT_Urbano_Dados!E43/FCT_Urbano_Dados!$H43)*(1-UTILITYFACTOR(FCT_Urbano_Dados!$G$13))),\"\")","v":""},{"$f":"IF(ISNUMBER($A42),IF(OR($N42=\"CD\",$N42=\"Transição\",$N42=\"n-1\",$N42=\"n\"),(FCT_Urbano_Dados!G43/FCT_Urbano_Dados!$H43)*($I42-$I41),(FCT_Urbano_Dados!G43/FCT_Urbano_Dados!$H43)*(1-UTILITYFACTOR(FCT_Urbano_Dados!$G$13))),\"\")","v":""},{"$f":"IFERROR(IF(OR($N42=\"CD\",$N42=\"Transição\",$N42=\"n-1\",$N42=\"n\"),'Emissões 6.2.2.1 Urbano'!G42*(I42-I41),'Emissões 6.2.2.1 Urbano'!G42),\"\")","v":""},{"$f":"IF(ISNUMBER(A42),IF(OR($N42=\"CD\",$N42=\"Transição\",$N42=\"n-1\",$N42=\"n\"),'Emissões 6.2.2.1 Urbano'!H42*(I42-I41),(1-UTILITYFACTOR(FCT_Urbano_Dados!$G$13))*'Emissões 6.2.2.1 Urbano'!H42),\"\")","v":""},{"$f":"IF(ISNUMBER(A42),UTILITYFACTOR(A42*dUrbano),\"\")","v":""},{"$f":"IFERROR(IF(ISNUMBER(A42),G42/FCT_Urbano_Dados!H43,\"\"),\"\")","v":""},{"$f":"IFERROR(IF(ISNUMBER(A42),H42/FCT_Urbano_Dados!H43,\"\"),\"\")","v":""},{"$f":"IF(ISNUMBER(A42),100*((J42*0.0036)/VLOOKUP(CST_Urbano!$C$7,Combustíveis,2,FALSE)),\"\")","v":""},{"$f":"IF(ISNUMBER(A42),IF(OR($N42=\"CD\",$N42=\"Transição\",$N42=\"n-1\",$N42=\"n\"),FCT_Urbano_Dados!P43*(I42-I41),(FCT_Urbano_Dados!P43)*(1-UTILITYFACTOR(FCT_Urbano_Dados!$G$13))),\"\")","v":""},{"$f":"IF(ISNUMBER(A42),FCT_Urbano_Dados!S43,\"\")","v":""}]
[{"$f":"IF(ISNUMBER(FCT_Urbano_Dados!A44),FCT_Urbano_Dados!A44,\"\")","v":""},{"$f":"IF(ISNUMBER($A43),IF(OR($N43=\"CD\",$N43=\"Transição\",$N43=\"n-1\",$N43=\"n\"),(FCT_Urbano_Dados!B44/FCT_Urbano_Dados!$H44)*($I43-$I42),(FCT_Urbano_Dados!B44/FCT_Urbano_Dados!$H44)*(1-UTILITYFACTOR(FCT_Urbano_Dados!$G$13))),\"\")","v":""},{"$f":"IF(ISNUMBER($A43),IF(OR($N43=\"CD\",$N43=\"Transição\",$N43=\"n-1\",$N43=\"n\"),(FCT_Urbano_Dados!C44/FCT_Urbano_Dados!$H44)*($I43-$I42),(FCT_Urbano_Dados!C44/FCT_Urbano_Dados!$H44)*(1-UTILITYFACTOR(FCT_Urbano_Dados!$G$13))),\"\")","v":""},{"$f":"IF(ISNUMBER($A43),IF(OR($N43=\"CD\",$N43=\"Transição\",$N43=\"n-1\",$N43=\"n\"),(FCT_Urbano_Dados!D44/FCT_Urbano_Dados!$H44)*($I43-$I42),(FCT_Urbano_Dados!D44/FCT_Urbano_Dados!$H44)*(1-UTILITYFACTOR(FCT_Urbano_Dados!$G$13))),\"\")","v":""},{"$f":"IF(ISNUMBER($A43),IF(OR($N43=\"CD\",$N43=\"Transição\",$N43=\"n-1\",$N43=\"n\"),(FCT_Urbano_Dados!E44/FCT_Urbano_Dados!$H44)*($I43-$I42),(FCT_Urbano_Dados!E44/FCT_Urbano_Dados!$H44)*(1-UTILITYFACTOR(FCT_Urbano_Dados!$G$13))),\"\")","v":""},{"$f":"IF(ISNUMBER($A43),IF(OR($N43=\"CD\",$N43=\"Transição\",$N43=\"n-1\",$N43=\"n\"),(FCT_Urbano_Dados!G44/FCT_Urbano_Dados!$H44)*($I43-$I42),(FCT_Urbano_Dados!G44/FCT_Urbano_Dados!$H44)*(1-UTILITYFACTOR(FCT_Urbano_Dados!$G$13))),\"\")","v":""},{"$f":"IFERROR(IF(OR($N43=\"CD\",$N43=\"Transição\",$N43=\"n-1\",$N43=\"n\"),'Emissões 6.2.2.1 Urbano'!G43*(I43-I42),'Emissões 6.2.2.1 Urbano'!G43),\"\")","v":""},{"$f":"IF(ISNUMBER(A43),IF(OR($N43=\"CD\",$N43=\"Transição\",$N43=\"n-1\",$N43=\"n\"),'Emissões 6.2.2.1 Urbano'!H43*(I43-I42),(1-UTILITYFACTOR(FCT_Urbano_Dados!$G$13))*'Emissões 6.2.2.1 Urbano'!H43),\"\")","v":""},{"$f":"IF(ISNUMBER(A43),UTILITYFACTOR(A43*dUrbano),\"\")","v":""},{"$f":"IFERROR(IF(ISNUMBER(A43),G43/FCT_Urbano_Dados!H44,\"\"),\"\")","v":""},{"$f":"IFERROR(IF(ISNUMBER(A43),H43/FCT_Urbano_Dados!H44,\"\"),\"\")","v":""},{"$f":"IF(ISNUMBER(A43),100*((J43*0.0036)/VLOOKUP(CST_Urbano!$C$7,Combustíveis,2,FALSE)),\"\")","v":""},{"$f":"IF(ISNUMBER(A43),IF(OR($N43=\"CD\",$N43=\"Transição\",$N43=\"n-1\",$N43=\"n\"),FCT_Urbano_Dados!P44*(I43-I42),(FCT_Urbano_Dados!P44)*(1-UTILITYFACTOR(FCT_Urbano_Dados!$G$13))),\"\")","v":""},{"$f":"IF(ISNUMBER(A43),FCT_Urbano_Dados!S44,\"\")","v":""}]
[{"$f":"IF(ISNUMBER(FCT_Urbano_Dados!A45),FCT_Urbano_Dados!A45,\"\")","v":""},{"$f":"IF(ISNUMBER($A44),IF(OR($N44=\"CD\",$N44=\"Transição\",$N44=\"n-1\",$N44=\"n\"),(FCT_Urbano_Dados!B45/FCT_Urbano_Dados!$H45)*($I44-$I43),(FCT_Urbano_Dados!B45/FCT_Urbano_Dados!$H45)*(1-UTILITYFACTOR(FCT_Urbano_Dados!$G$13))),\"\")","v":""},{"$f":"IF(ISNUMBER($A44),IF(OR($N44=\"CD\",$N44=\"Transição\",$N44=\"n-1\",$N44=\"n\"),(FCT_Urbano_Dados!C45/FCT_Urbano_Dados!$H45)*($I44-$I43),(FCT_Urbano_Dados!C45/FCT_Urbano_Dados!$H45)*(1-UTILITYFACTOR(FCT_Urbano_Dados!$G$13))),\"\")","v":""},{"$f":"IF(ISNUMBER($A44),IF(OR($N44=\"CD\",$N44=\"Transição\",$N44=\"n-1\",$N44=\"n\"),(FCT_Urbano_Dados!D45/FCT_Urbano_Dados!$H45)*($I44-$I43),(FCT_Urbano_Dados!D45/FCT_Urbano_Dados!$H45)*(1-UTILITYFACTOR(FCT_Urbano_Dados!$G$13))),\"\")","v":""},{"$f":"IF(ISNUMBER($A44),IF(OR($N44=\"CD\",$N44=\"Transição\",$N44=\"n-1\",$N44=\"n\"),(FCT_Urbano_Dados!E45/FCT_Urbano_Dados!$H45)*($I44-$I43),(FCT_Urbano_Dados!E45/FCT_Urbano_Dados!$H45)*(1-UTILITYFACTOR(FCT_Urbano_Dados!$G$13))),\"\")","v":""},{"$f":"IF(ISNUMBER($A44),IF(OR($N44=\"CD\",$N44=\"Transição\",$N44=\"n-1\",$N44=\"n\"),(FCT_Urbano_Dados!G45/FCT_Urbano_Dados!$H45)*($I44-$I43),(FCT_Urbano_Dados!G45/FCT_Urbano_Dados!$H45)*(1-UTILITYFACTOR(FCT_Urbano_Dados!$G$13))),\"\")","v":""},{"$f":"IFERROR(IF(OR($N44=\"CD\",$N44=\"Transição\",$N44=\"n-1\",$N44=\"n\"),'Emissões 6.2.2.1 Urbano'!G44*(I44-I43),'Emissões 6.2.2.1 Urbano'!G44),\"\")","v":""},{"$f":"IF(ISNUMBER(A44),IF(OR($N44=\"CD\",$N44=\"Transição\",$N44=\"n-1\",$N44=\"n\"),'Emissões 6.2.2.1 Urbano'!H44*(I44-I43),(1-UTILITYFACTOR(FCT_Urbano_Dados!$G$13))*'Emissões 6.2.2.1 Urbano'!H44),\"\")","v":""},{"$f":"IF(ISNUMBER(A44),UTILITYFACTOR(A44*dUrbano),\"\")","v":""},{"$f":"IFERROR(IF(ISNUMBER(A44),G44/FCT_Urbano_Dados!H45,\"\"),\"\")","v":""},{"$f":"IFERROR(IF(ISNUMBER(A44),H44/FCT_Urbano_Dados!H45,\"\"),\"\")","v":""},{"$f":"IF(ISNUMBER(A44),100*((J44*0.0036)/VLOOKUP(CST_Urbano!$C$7,Combustíveis,2,FALSE)),\"\")","v":""},{"$f":"IF(ISNUMBER(A44),IF(OR($N44=\"CD\",$N44=\"Transição\",$N44=\"n-1\",$N44=\"n\"),FCT_Urbano_Dados!P45*(I44-I43),(FCT_Urbano_Dados!P45)*(1-UTILITYFACTOR(FCT_Urbano_Dados!$G$13))),\"\")","v":""},{"$f":"IF(ISNUMBER(A44),FCT_Urbano_Dados!S45,\"\")","v":""}]
[{"$f":"IF(ISNUMBER(FCT_Urbano_Dados!A46),FCT_Urbano_Dados!A46,\"\")","v":""},{"$f":"IF(ISNUMBER($A45),IF(OR($N45=\"CD\",$N45=\"Transição\",$N45=\"n-1\",$N45=\"n\"),(FCT_Urbano_Dados!B46/FCT_Urbano_Dados!$H46)*($I45-$I44),(FCT_Urbano_Dados!B46/FCT_Urbano_Dados!$H46)*(1-UTILITYFACTOR(FCT_Urbano_Dados!$G$13))),\"\")","v":""},{"$f":"IF(ISNUMBER($A45),IF(OR($N45=\"CD\",$N45=\"Transição\",$N45=\"n-1\",$N45=\"n\"),(FCT_Urbano_Dados!C46/FCT_Urbano_Dados!$H46)*($I45-$I44),(FCT_Urbano_Dados!C46/FCT_Urbano_Dados!$H46)*(1-UTILITYFACTOR(FCT_Urbano_Dados!$G$13))),\"\")","v":""},{"$f":"IF(ISNUMBER($A45),IF(OR($N45=\"CD\",$N45=\"Transição\",$N45=\"n-1\",$N45=\"n\"),(FCT_Urbano_Dados!D46/FCT_Urbano_Dados!$H46)*($I45-$I44),(FCT_Urbano_Dados!D46/FCT_Urbano_Dados!$H46)*(1-UTILITYFACTOR(FCT_Urbano_Dados!$G$13))),\"\")","v":""},{"$f":"IF(ISNUMBER($A45),IF(OR($N45=\"CD\",$N45=\"Transição\",$N45=\"n-1\",$N45=\"n\"),(FCT_Urbano_Dados!E46/FCT_Urbano_Dados!$H46)*($I45-$I44),(FCT_Urbano_Dados!E46/FCT_Urbano_Dados!$H46)*(1-UTILITYFACTOR(FCT_Urbano_Dados!$G$13))),\"\")","v":""},{"$f":"IF(ISNUMBER($A45),IF(OR($N45=\"CD\",$N45=\"Transição\",$N45=\"n-1\",$N45=\"n\"),(FCT_Urbano_Dados!G46/FCT_Urbano_Dados!$H46)*($I45-$I44),(FCT_Urbano_Dados!G46/FCT_Urbano_Dados!$H46)*(1-UTILITYFACTOR(FCT_Urbano_Dados!$G$13))),\"\")","v":""},{"$f":"IFERROR(IF(OR($N45=\"CD\",$N45=\"Transição\",$N45=\"n-1\",$N45=\"n\"),'Emissões 6.2.2.1 Urbano'!G45*(I45-I44),'Emissões 6.2.2.1 Urbano'!G45),\"\")","v":""},{"$f":"IF(ISNUMBER(A45),IF(OR($N45=\"CD\",$N45=\"Transição\",$N45=\"n-1\",$N45=\"n\"),'Emissões 6.2.2.1 Urbano'!H45*(I45-I44),(1-UTILITYFACTOR(FCT_Urbano_Dados!$G$13))*'Emissões 6.2.2.1 Urbano'!H45),\"\")","v":""},{"$f":"IF(ISNUMBER(A45),UTILITYFACTOR(A45*dUrbano),\"\")","v":""},{"$f":"IFERROR(IF(ISNUMBER(A45),G45/FCT_Urbano_Dados!H46,\"\"),\"\")","v":""},{"$f":"IFERROR(IF(ISNUMBER(A45),H45/FCT_Urbano_Dados!H46,\"\"),\"\")","v":""},{"$f":"IF(ISNUMBER(A45),100*((J45*0.0036)/VLOOKUP(CST_Urbano!$C$7,Combustíveis,2,FALSE)),\"\")","v":""},{"$f":"IF(ISNUMBER(A45),IF(OR($N45=\"CD\",$N45=\"Transição\",$N45=\"n-1\",$N45=\"n\"),FCT_Urbano_Dados!P46*(I45-I44),(FCT_Urbano_Dados!P46)*(1-UTILITYFACTOR(FCT_Urbano_Dados!$G$13))),\"\")","v":""},{"$f":"IF(ISNUMBER(A45),FCT_Urbano_Dados!S46,\"\")","v":""}]
[{"$f":"IF(ISNUMBER(FCT_Urbano_Dados!A47),FCT_Urbano_Dados!A47,\"\")","v":""},{"$f":"IF(ISNUMBER($A46),IF(OR($N46=\"CD\",$N46=\"Transição\",$N46=\"n-1\",$N46=\"n\"),(FCT_Urbano_Dados!B47/FCT_Urbano_Dados!$H47)*($I46-$I45),(FCT_Urbano_Dados!B47/FCT_Urbano_Dados!$H47)*(1-UTILITYFACTOR(FCT_Urbano_Dados!$G$13))),\"\")","v":""},{"$f":"IF(ISNUMBER($A46),IF(OR($N46=\"CD\",$N46=\"Transição\",$N46=\"n-1\",$N46=\"n\"),(FCT_Urbano_Dados!C47/FCT_Urbano_Dados!$H47)*($I46-$I45),(FCT_Urbano_Dados!C47/FCT_Urbano_Dados!$H47)*(1-UTILITYFACTOR(FCT_Urbano_Dados!$G$13))),\"\")","v":""},{"$f":"IF(ISNUMBER($A46),IF(OR($N46=\"CD\",$N46=\"Transição\",$N46=\"n-1\",$N46=\"n\"),(FCT_Urbano_Dados!D47/FCT_Urbano_Dados!$H47)*($I46-$I45),(FCT_Urbano_Dados!D47/FCT_Urbano_Dados!$H47)*(1-UTILITYFACTOR(FCT_Urbano_Dados!$G$13))),\"\")","v":""},{"$f":"IF(ISNUMBER($A46),IF(OR($N46=\"CD\",$N46=\"Transição\",$N46=\"n-1\",$N46=\"n\"),(FCT_Urbano_Dados!E47/FCT_Urbano_Dados!$H47)*($I46-$I45),(FCT_Urbano_Dados!E47/FCT_Urbano_Dados!$H47)*(1-UTILITYFACTOR(FCT_Urbano_Dados!$G$13))),\"\")","v":""},{"$f":"IF(ISNUMBER($A46),IF(OR($N46=\"CD\",$N46=\"Transição\",$N46=\"n-1\",$N46=\"n\"),(FCT_Urbano_Dados!G47/FCT_Urbano_Dados!$H47)*($I46-$I45),(FCT_Urbano_Dados!G47/FCT_Urbano_Dados!$H47)*(1-UTILITYFACTOR(FCT_Urbano_Dados!$G$13))),\"\")","v":""},{"$f":"IFERROR(IF(OR($N46=\"CD\",$N46=\"Transição\",$N46=\"n-1\",$N46=\"n\"),'Emissões 6.2.2.1 Urbano'!G46*(I46-I45),'Emissões 6.2.2.1 Urbano'!G46),\"\")","v":""},{"$f":"IF(ISNUMBER(A46),IF(OR($N46=\"CD\",$N46=\"Transição\",$N46=\"n-1\",$N46=\"n\"),'Emissões 6.2.2.1 Urbano'!H46*(I46-I45),(1-UTILITYFACTOR(FCT_Urbano_Dados!$G$13))*'Emissões 6.2.2.1 Urbano'!H46),\"\")","v":""},{"$f":"IF(ISNUMBER(A46),UTILITYFACTOR(A46*dUrbano),\"\")","v":""},{"$f":"IFERROR(IF(ISNUMBER(A46),G46/FCT_Urbano_Dados!H47,\"\"),\"\")","v":""},{"$f":"IFERROR(IF(ISNUMBER(A46),H46/FCT_Urbano_Dados!H47,\"\"),\"\")","v":""},{"$f":"IF(ISNUMBER(A46),100*((J46*0.0036)/VLOOKUP(CST_Urbano!$C$7,Combustíveis,2,FALSE)),\"\")","v":""},{"$f":"IF(ISNUMBER(A46),IF(OR($N46=\"CD\",$N46=\"Transição\",$N46=\"n-1\",$N46=\"n\"),FCT_Urbano_Dados!P47*(I46-I45),(FCT_Urbano_Dados!P47)*(1-UTILITYFACTOR(FCT_Urbano_Dados!$G$13))),\"\")","v":""},{"$f":"IF(ISNUMBER(A46),FCT_Urbano_Dados!S47,\"\")","v":""}]
[{"$f":"IF(ISNUMBER(FCT_Urbano_Dados!A48),FCT_Urbano_Dados!A48,\"\")","v":""},{"$f":"IF(ISNUMBER($A47),IF(OR($N47=\"CD\",$N47=\"Transição\",$N47=\"n-1\",$N47=\"n\"),(FCT_Urbano_Dados!B48/FCT_Urbano_Dados!$H48)*($I47-$I46),(FCT_Urbano_Dados!B48/FCT_Urbano_Dados!$H48)*(1-UTILITYFACTOR(FCT_Urbano_Dados!$G$13))),\"\")","v":""},{"$f":"IF(ISNUMBER($A47),IF(OR($N47=\"CD\",$N47=\"Transição\",$N47=\"n-1\",$N47=\"n\"),(FCT_Urbano_Dados!C48/FCT_Urbano_Dados!$H48)*($I47-$I46),(FCT_Urbano_Dados!C48/FCT_Urbano_Dados!$H48)*(1-UTILITYFACTOR(FCT_Urbano_Dados!$G$13))),\"\")","v":""},{"$f":"IF(ISNUMBER($A47),IF(OR($N47=\"CD\",$N47=\"Transição\",$N47=\"n-1\",$N47=\"n\"),(FCT_Urbano_Dados!D48/FCT_Urbano_Dados!$H48)*($I47-$I46),(FCT_Urbano_Dados!D48/FCT_Urbano_Dados!$H48)*(1-UTILITYFACTOR(FCT_Urbano_Dados!$G$13))),\"\")","v":""},{"$f":"IF(ISNUMBER($A47),IF(OR($N47=\"CD\",$N47=\"Transição\",$N47=\"n-1\",$N47=\"n\"),(FCT_Urbano_Dados!E48/FCT_Urbano_Dados!$H48)*($I47-$I46),(FCT_Urbano_Dados!E48/FCT_Urbano_Dados!$H48)*(1-UTILITYFACTOR(FCT_Urbano_Dados!$G$13))),\"\")","v":""},{"$f":"IF(ISNUMBER($A47),IF(OR($N47=\"CD\",$N47=\"Transição\",$N47=\"n-1\",$N47=\"n\"),(FCT_Urbano_Dados!G48/FCT_Urbano_Dados!$H48)*($I47-$I46),(FCT_Urbano_Dados!G48/FCT_Urbano_Dados!$H48)*(1-UTILITYFACTOR(FCT_Urbano_Dados!$G$13))),\"\")","v":""},{"$f":"IFERROR(IF(OR($N47=\"CD\",$N47=\"Transição\",$N47=\"n-1\",$N47=\"n\"),'Emissões 6.2.2.1 Urbano'!G47*(I47-I46),'Emissões 6.2.2.1 Urbano'!G47),\"\")","v":""},{"$f":"IF(ISNUMBER(A47),IF(OR($N47=\"CD\",$N47=\"Transição\",$N47=\"n-1\",$N47=\"n\"),'Emissões 6.2.2.1 Urbano'!H47*(I47-I46),(1-UTILITYFACTOR(FCT_Urbano_Dados!$G$13))*'Emissões 6.2.2.1 Urbano'!H47),\"\")","v":""},{"$f":"IF(ISNUMBER(A47),UTILITYFACTOR(A47*dUrbano),\"\")","v":""},{"$f":"IFERROR(IF(ISNUMBER(A47),G47/FCT_Urbano_Dados!H48,\"\"),\"\")","v":""},{"$f":"IFERROR(IF(ISNUMBER(A47),H47/FCT_Urbano_Dados!H48,\"\"),\"\")","v":""},{"$f":"IF(ISNUMBER(A47),100*((J47*0.0036)/VLOOKUP(CST_Urbano!$C$7,Combustíveis,2,FALSE)),\"\")","v":""},{"$f":"IF(ISNUMBER(A47),IF(OR($N47=\"CD\",$N47=\"Transição\",$N47=\"n-1\",$N47=\"n\"),FCT_Urbano_Dados!P48*(I47-I46),(FCT_Urbano_Dados!P48)*(1-UTILITYFACTOR(FCT_Urbano_Dados!$G$13))),\"\")","v":""},{"$f":"IF(ISNUMBER(A47),FCT_Urbano_Dados!S48,\"\")","v":""}]
[{"$f":"IF(ISNUMBER(FCT_Urbano_Dados!A49),FCT_Urbano_Dados!A49,\"\")","v":""},{"$f":"IF(ISNUMBER($A48),IF(OR($N48=\"CD\",$N48=\"Transição\",$N48=\"n-1\",$N48=\"n\"),(FCT_Urbano_Dados!B49/FCT_Urbano_Dados!$H49)*($I48-$I47),(FCT_Urbano_Dados!B49/FCT_Urbano_Dados!$H49)*(1-UTILITYFACTOR(FCT_Urbano_Dados!$G$13))),\"\")","v":""},{"$f":"IF(ISNUMBER($A48),IF(OR($N48=\"CD\",$N48=\"Transição\",$N48=\"n-1\",$N48=\"n\"),(FCT_Urbano_Dados!C49/FCT_Urbano_Dados!$H49)*($I48-$I47),(FCT_Urbano_Dados!C49/FCT_Urbano_Dados!$H49)*(1-UTILITYFACTOR(FCT_Urbano_Dados!$G$13))),\"\")","v":""},{"$f":"IF(ISNUMBER($A48),IF(OR($N48=\"CD\",$N48=\"Transição\",$N48=\"n-1\",$N48=\"n\"),(FCT_Urbano_Dados!D49/FCT_Urbano_Dados!$H49)*($I48-$I47),(FCT_Urbano_Dados!D49/FCT_Urbano_Dados!$H49)*(1-UTILITYFACTOR(FCT_Urbano_Dados!$G$13))),\"\")","v":""},{"$f":"IF(ISNUMBER($A48),IF(OR($N48=\"CD\",$N48=\"Transição\",$N48=\"n-1\",$N48=\"n\"),(FCT_Urbano_Dados!E49/FCT_Urbano_Dados!$H49)*($I48-$I47),(FCT_Urbano_Dados!E49/FCT_Urbano_Dados!$H49)*(1-UTILITYFACTOR(FCT_Urbano_Dados!$G$13))),\"\")","v":""},{"$f":"IF(ISNUMBER($A48),IF(OR($N48=\"CD\",$N48=\"Transição\",$N48=\"n-1\",$N48=\"n\"),(FCT_Urbano_Dados!G49/FCT_Urbano_Dados!$H49)*($I48-$I47),(FCT_Urbano_Dados!G49/FCT_Urbano_Dados!$H49)*(1-UTILITYFACTOR(FCT_Urbano_Dados!$G$13))),\"\")","v":""},{"$f":"IFERROR(IF(OR($N48=\"CD\",$N48=\"Transição\",$N48=\"n-1\",$N48=\"n\"),'Emissões 6.2.2.1 Urbano'!G48*(I48-I47),'Emissões 6.2.2.1 Urbano'!G48),\"\")","v":""},{"$f":"IF(ISNUMBER(A48),IF(OR($N48=\"CD\",$N48=\"Transição\",$N48=\"n-1\",$N48=\"n\"),'Emissões 6.2.2.1 Urbano'!H48*(I48-I47),(1-UTILITYFACTOR(FCT_Urbano_Dados!$G$13))*'Emissões 6.2.2.1 Urbano'!H48),\"\")","v":""},{"$f":"IF(ISNUMBER(A48),UTILITYFACTOR(A48*dUrbano),\"\")","v":""},{"$f":"IFERROR(IF(ISNUMBER(A48),G48/FCT_Urbano_Dados!H49,\"\"),\"\")","v":""},{"$f":"IFERROR(IF(ISNUMBER(A48),H48/FCT_Urbano_Dados!H49,\"\"),\"\")","v":""},{"$f":"IF(ISNUMBER(A48),100*((J48*0.0036)/VLOOKUP(CST_Urbano!$C$7,Combustíveis,2,FALSE)),\"\")","v":""},{"$f":"IF(ISNUMBER(A48),IF(OR($N48=\"CD\",$N48=\"Transição\",$N48=\"n-1\",$N48=\"n\"),FCT_Urbano_Dados!P49*(I48-I47),(FCT_Urbano_Dados!P49)*(1-UTILITYFACTOR(FCT_Urbano_Dados!$G$13))),\"\")","v":""},{"$f":"IF(ISNUMBER(A48),FCT_Urbano_Dados!S49,\"\")","v":""}]
[{"$f":"IF(ISNUMBER(FCT_Urbano_Dados!A50),FCT_Urbano_Dados!A50,\"\")","v":""},{"$f":"IF(ISNUMBER($A49),IF(OR($N49=\"CD\",$N49=\"Transição\",$N49=\"n-1\",$N49=\"n\"),(FCT_Urbano_Dados!B50/FCT_Urbano_Dados!$H50)*($I49-$I48),(FCT_Urbano_Dados!B50/FCT_Urbano_Dados!$H50)*(1-UTILITYFACTOR(FCT_Urbano_Dados!$G$13))),\"\")","v":""},{"$f":"IF(ISNUMBER($A49),IF(OR($N49=\"CD\",$N49=\"Transição\",$N49=\"n-1\",$N49=\"n\"),(FCT_Urbano_Dados!C50/FCT_Urbano_Dados!$H50)*($I49-$I48),(FCT_Urbano_Dados!C50/FCT_Urbano_Dados!$H50)*(1-UTILITYFACTOR(FCT_Urbano_Dados!$G$13))),\"\")","v":""},{"$f":"IF(ISNUMBER($A49),IF(OR($N49=\"CD\",$N49=\"Transição\",$N49=\"n-1\",$N49=\"n\"),(FCT_Urbano_Dados!D50/FCT_Urbano_Dados!$H50)*($I49-$I48),(FCT_Urbano_Dados!D50/FCT_Urbano_Dados!$H50)*(1-UTILITYFACTOR(FCT_Urbano_Dados!$G$13))),\"\")","v":""},{"$f":"IF(ISNUMBER($A49),IF(OR($N49=\"CD\",$N49=\"Transição\",$N49=\"n-1\",$N49=\"n\"),(FCT_Urbano_Dados!E50/FCT_Urbano_Dados!$H50)*($I49-$I48),(FCT_Urbano_Dados!E50/FCT_Urbano_Dados!$H50)*(1-UTILITYFACTOR(FCT_Urbano_Dados!$G$13))),\"\")","v":""},{"$f":"IF(ISNUMBER($A49),IF(OR($N49=\"CD\",$N49=\"Transição\",$N49=\"n-1\",$N49=\"n\"),(FCT_Urbano_Dados!G50/FCT_Urbano_Dados!$H50)*($I49-$I48),(FCT_Urbano_Dados!G50/FCT_Urbano_Dados!$H50)*(1-UTILITYFACTOR(FCT_Urbano_Dados!$G$13))),\"\")","v":""},{"$f":"IFERROR(IF(OR($N49=\"CD\",$N49=\"Transição\",$N49=\"n-1\",$N49=\"n\"),'Emissões 6.2.2.1 Urbano'!G49*(I49-I48),'Emissões 6.2.2.1 Urbano'!G49),\"\")","v":""},{"$f":"IF(ISNUMBER(A49),IF(OR($N49=\"CD\",$N49=\"Transição\",$N49=\"n-1\",$N49=\"n\"),'Emissões 6.2.2.1 Urbano'!H49*(I49-I48),(1-UTILITYFACTOR(FCT_Urbano_Dados!$G$13))*'Emissões 6.2.2.1 Urbano'!H49),\"\")","v":""},{"$f":"IF(ISNUMBER(A49),UTILITYFACTOR(A49*dUrbano),\"\")","v":""},{"$f":"IFERROR(IF(ISNUMBER(A49),G49/FCT_Urbano_Dados!H50,\"\"),\"\")","v":""},{"$f":"IFERROR(IF(ISNUMBER(A49),H49/FCT_Urbano_Dados!H50,\"\"),\"\")","v":""},{"$f":"IF(ISNUMBER(A49),100*((J49*0.0036)/VLOOKUP(CST_Urbano!$C$7,Combustíveis,2,FALSE)),\"\")","v":""},{"$f":"IF(ISNUMBER(A49),IF(OR($N49=\"CD\",$N49=\"Transição\",$N49=\"n-1\",$N49=\"n\"),FCT_Urbano_Dados!P50*(I49-I48),(FCT_Urbano_Dados!P50)*(1-UTILITYFACTOR(FCT_Urbano_Dados!$G$13))),\"\")","v":""},{"$f":"IF(ISNUMBER(A49),FCT_Urbano_Dados!S50,\"\")","v":""}]
[{"$f":"IF(ISNUMBER(FCT_Urbano_Dados!A51),FCT_Urbano_Dados!A51,\"\")","v":""},{"$f":"IF(ISNUMBER($A50),IF(OR($N50=\"CD\",$N50=\"Transição\",$N50=\"n-1\",$N50=\"n\"),(FCT_Urbano_Dados!B51/FCT_Urbano_Dados!$H51)*($I50-$I49),(FCT_Urbano_Dados!B51/FCT_Urbano_Dados!$H51)*(1-UTILITYFACTOR(FCT_Urbano_Dados!$G$13))),\"\")","v":""},{"$f":"IF(ISNUMBER($A50),IF(OR($N50=\"CD\",$N50=\"Transição\",$N50=\"n-1\",$N50=\"n\"),(FCT_Urbano_Dados!C51/FCT_Urbano_Dados!$H51)*($I50-$I49),(FCT_Urbano_Dados!C51/FCT_Urbano_Dados!$H51)*(1-UTILITYFACTOR(FCT_Urbano_Dados!$G$13))),\"\")","v":""},{"$f":"IF(ISNUMBER($A50),IF(OR($N50=\"CD\",$N50=\"Transição\",$N50=\"n-1\",$N50=\"n\"),(FCT_Urbano_Dados!D51/FCT_Urbano_Dados!$H51)*($I50-$I49),(FCT_Urbano_Dados!D51/FCT_Urbano_Dados!$H51)*(1-UTILITYFACTOR(FCT_Urbano_Dados!$G$13))),\"\")","v":""},{"$f":"IF(ISNUMBER($A50),IF(OR($N50=\"CD\",$N50=\"Transição\",$N50=\"n-1\",$N50=\"n\"),(FCT_Urbano_Dados!E51/FCT_Urbano_Dados!$H51)*($I50-$I49),(FCT_Urbano_Dados!E51/FCT_Urbano_Dados!$H51)*(1-UTILITYFACTOR(FCT_Urbano_Dados!$G$13))),\"\")","v":""},{"$f":"IF(ISNUMBER($A50),IF(OR($N50=\"CD\",$N50=\"Transição\",$N50=\"n-1\",$N50=\"n\"),(FCT_Urbano_Dados!G51/FCT_Urbano_Dados!$H51)*($I50-$I49),(FCT_Urbano_Dados!G51/FCT_Urbano_Dados!$H51)*(1-UTILITYFACTOR(FCT_Urbano_Dados!$G$13))),\"\")","v":""},{"$f":"IFERROR(IF(OR($N50=\"CD\",$N50=\"Transição\",$N50=\"n-1\",$N50=\"n\"),'Emissões 6.2.2.1 Urbano'!G50*(I50-I49),'Emissões 6.2.2.1 Urbano'!G50),\"\")","v":""},{"$f":"IF(ISNUMBER(A50),IF(OR($N50=\"CD\",$N50=\"Transição\",$N50=\"n-1\",$N50=\"n\"),'Emissões 6.2.2.1 Urbano'!H50*(I50-I49),(1-UTILITYFACTOR(FCT_Urbano_Dados!$G$13))*'Emissões 6.2.2.1 Urbano'!H50),\"\")","v":""},{"$f":"IF(ISNUMBER(A50),UTILITYFACTOR(A50*dUrbano),\"\")","v":""},{"$f":"IFERROR(IF(ISNUMBER(A50),G50/FCT_Urbano_Dados!H51,\"\"),\"\")","v":""},{"$f":"IFERROR(IF(ISNUMBER(A50),H50/FCT_Urbano_Dados!H51,\"\"),\"\")","v":""},{"$f":"IF(ISNUMBER(A50),100*((J50*0.0036)/VLOOKUP(CST_Urbano!$C$7,Combustíveis,2,FALSE)),\"\")","v":""},{"$f":"IF(ISNUMBER(A50),IF(OR($N50=\"CD\",$N50=\"Transição\",$N50=\"n-1\",$N50=\"n\"),FCT_Urbano_Dados!P51*(I50-I49),(FCT_Urbano_Dados!P51)*(1-UTILITYFACTOR(FCT_Urbano_Dados!$G$13))),\"\")","v":""},{"$f":"IF(ISNUMBER(A50),FCT_Urbano_Dados!S51,\"\")","v":""}]
[{"$f":"IF(ISNUMBER(FCT_Urbano_Dados!A52),FCT_Urbano_Dados!A52,\"\")","v":""},{"$f":"IF(ISNUMBER($A51),IF(OR($N51=\"CD\",$N51=\"Transição\",$N51=\"n-1\",$N51=\"n\"),(FCT_Urbano_Dados!B52/FCT_Urbano_Dados!$H52)*($I51-$I50),(FCT_Urbano_Dados!B52/FCT_Urbano_Dados!$H52)*(1-UTILITYFACTOR(FCT_Urbano_Dados!$G$13))),\"\")","v":""},{"$f":"IF(ISNUMBER($A51),IF(OR($N51=\"CD\",$N51=\"Transição\",$N51=\"n-1\",$N51=\"n\"),(FCT_Urbano_Dados!C52/FCT_Urbano_Dados!$H52)*($I51-$I50),(FCT_Urbano_Dados!C52/FCT_Urbano_Dados!$H52)*(1-UTILITYFACTOR(FCT_Urbano_Dados!$G$13))),\"\")","v":""},{"$f":"IF(ISNUMBER($A51),IF(OR($N51=\"CD\",$N51=\"Transição\",$N51=\"n-1\",$N51=\"n\"),(FCT_Urbano_Dados!D52/FCT_Urbano_Dados!$H52)*($I51-$I50),(FCT_Urbano_Dados!D52/FCT_Urbano_Dados!$H52)*(1-UTILITYFACTOR(FCT_Urbano_Dados!$G$13))),\"\")","v":""},{"$f":"IF(ISNUMBER($A51),IF(OR($N51=\"CD\",$N51=\"Transição\",$N51=\"n-1\",$N51=\"n\"),(FCT_Urbano_Dados!E52/FCT_Urbano_Dados!$H52)*($I51-$I50),(FCT_Urbano_Dados!E52/FCT_Urbano_Dados!$H52)*(1-UTILITYFACTOR(FCT_Urbano_Dados!$G$13))),\"\")","v":""},{"$f":"IF(ISNUMBER($A51),IF(OR($N51=\"CD\",$N51=\"Transição\",$N51=\"n-1\",$N51=\"n\"),(FCT_Urbano_Dados!G52/FCT_Urbano_Dados!$H52)*($I51-$I50),(FCT_Urbano_Dados!G52/FCT_Urbano_Dados!$H52)*(1-UTILITYFACTOR(FCT_Urbano_Dados!$G$13))),\"\")","v":""},{"$f":"IFERROR(IF(OR($N51=\"CD\",$N51=\"Transição\",$N51=\"n-1\",$N51=\"n\"),'Emissões 6.2.2.1 Urbano'!G51*(I51-I50),'Emissões 6.2.2.1 Urbano'!G51),\"\")","v":""},{"$f":"IF(ISNUMBER(A51),IF(OR($N51=\"CD\",$N51=\"Transição\",$N51=\"n-1\",$N51=\"n\"),'Emissões 6.2.2.1 Urbano'!H51*(I51-I50),(1-UTILITYFACTOR(FCT_Urbano_Dados!$G$13))*'Emissões 6.2.2.1 Urbano'!H51),\"\")","v":""},{"$f":"IF(ISNUMBER(A51),UTILITYFACTOR(A51*dUrbano),\"\")","v":""},{"$f":"IFERROR(IF(ISNUMBER(A51),G51/FCT_Urbano_Dados!H52,\"\"),\"\")","v":""},{"$f":"IFERROR(IF(ISNUMBER(A51),H51/FCT_Urbano_Dados!H52,\"\"),\"\")","v":""},{"$f":"IF(ISNUMBER(A51),100*((J51*0.0036)/VLOOKUP(CST_Urbano!$C$7,Combustíveis,2,FALSE)),\"\")","v":""},{"$f":"IF(ISNUMBER(A51),IF(OR($N51=\"CD\",$N51=\"Transição\",$N51=\"n-1\",$N51=\"n\"),FCT_Urbano_Dados!P52*(I51-I50),(FCT_Urbano_Dados!P52)*(1-UTILITYFACTOR(FCT_Urbano_Dados!$G$13))),\"\")","v":""},{"$f":"IF(ISNUMBER(A51),FCT_Urbano_Dados!S52,\"\")","v":""}]
[{"$f":"IF(ISNUMBER(FCT_Urbano_Dados!A53),FCT_Urbano_Dados!A53,\"\")","v":""},{"$f":"IF(ISNUMBER($A52),IF(OR($N52=\"CD\",$N52=\"Transição\",$N52=\"n-1\",$N52=\"n\"),(FCT_Urbano_Dados!B53/FCT_Urbano_Dados!$H53)*($I52-$I51),(FCT_Urbano_Dados!B53/FCT_Urbano_Dados!$H53)*(1-UTILITYFACTOR(FCT_Urbano_Dados!$G$13))),\"\")","v":""},{"$f":"IF(ISNUMBER($A52),IF(OR($N52=\"CD\",$N52=\"Transição\",$N52=\"n-1\",$N52=\"n\"),(FCT_Urbano_Dados!C53/FCT_Urbano_Dados!$H53)*($I52-$I51),(FCT_Urbano_Dados!C53/FCT_Urbano_Dados!$H53)*(1-UTILITYFACTOR(FCT_Urbano_Dados!$G$13))),\"\")","v":""},{"$f":"IF(ISNUMBER($A52),IF(OR($N52=\"CD\",$N52=\"Transição\",$N52=\"n-1\",$N52=\"n\"),(FCT_Urbano_Dados!D53/FCT_Urbano_Dados!$H53)*($I52-$I51),(FCT_Urbano_Dados!D53/FCT_Urbano_Dados!$H53)*(1-UTILITYFACTOR(FCT_Urbano_Dados!$G$13))),\"\")","v":""},{"$f":"IF(ISNUMBER($A52),IF(OR($N52=\"CD\",$N52=\"Transição\",$N52=\"n-1\",$N52=\"n\"),(FCT_Urbano_Dados!E53/FCT_Urbano_Dados!$H53)*($I52-$I51),(FCT_Urbano_Dados!E53/FCT_Urbano_Dados!$H53)*(1-UTILITYFACTOR(FCT_Urbano_Dados!$G$13))),\"\")","v":""},{"$f":"IF(ISNUMBER($A52),IF(OR($N52=\"CD\",$N52=\"Transição\",$N52=\"n-1\",$N52=\"n\"),(FCT_Urbano_Dados!G53/FCT_Urbano_Dados!$H53)*($I52-$I51),(FCT_Urbano_Dados!G53/FCT_Urbano_Dados!$H53)*(1-UTILITYFACTOR(FCT_Urbano_Dados!$G$13))),\"\")","v":""},{"$f":"IFERROR(IF(OR($N52=\"CD\",$N52=\"Transição\",$N52=\"n-1\",$N52=\"n\"),'Emissões 6.2.2.1 Urbano'!G52*(I52-I51),'Emissões 6.2.2.1 Urbano'!G52),\"\")","v":""},{"$f":"IF(ISNUMBER(A52),IF(OR($N52=\"CD\",$N52=\"Transição\",$N52=\"n-1\",$N52=\"n\"),'Emissões 6.2.2.1 Urbano'!H52*(I52-I51),(1-UTILITYFACTOR(FCT_Urbano_Dados!$G$13))*'Emissões 6.2.2.1 Urbano'!H52),\"\")","v":""},{"$f":"IF(ISNUMBER(A52),UTILITYFACTOR(A52*dUrbano),\"\")","v":""},{"$f":"IFERROR(IF(ISNUMBER(A52),G52/FCT_Urbano_Dados!H53,\"\"),\"\")","v":""},{"$f":"IFERROR(IF(ISNUMBER(A52),H52/FCT_Urbano_Dados!H53,\"\"),\"\")","v":""},{"$f":"IF(ISNUMBER(A52),100*((J52*0.0036)/VLOOKUP(CST_Urbano!$C$7,Combustíveis,2,FALSE)),\"\")","v":""},{"$f":"IF(ISNUMBER(A52),IF(OR($N52=\"CD\",$N52=\"Transição\",$N52=\"n-1\",$N52=\"n\"),FCT_Urbano_Dados!P53*(I52-I51),(FCT_Urbano_Dados!P53)*(1-UTILITYFACTOR(FCT_Urbano_Dados!$G$13))),\"\")","v":""},{"$f":"IF(ISNUMBER(A52),FCT_Urbano_Dados!S53,\"\")","v":""}]
[{"$f":"IF(ISNUMBER(FCT_Urbano_Dados!A54),FCT_Urbano_Dados!A54,\"\")","v":""},{"$f":"IF(ISNUMBER($A53),IF(OR($N53=\"CD\",$N53=\"Transição\",$N53=\"n-1\",$N53=\"n\"),(FCT_Urbano_Dados!B54/FCT_Urbano_Dados!$H54)*($I53-$I52),(FCT_Urbano_Dados!B54/FCT_Urbano_Dados!$H54)*(1-UTILITYFACTOR(FCT_Urbano_Dados!$G$13))),\"\")","v":""},{"$f":"IF(ISNUMBER($A53),IF(OR($N53=\"CD\",$N53=\"Transição\",$N53=\"n-1\",$N53=\"n\"),(FCT_Urbano_Dados!C54/FCT_Urbano_Dados!$H54)*($I53-$I52),(FCT_Urbano_Dados!C54/FCT_Urbano_Dados!$H54)*(1-UTILITYFACTOR(FCT_Urbano_Dados!$G$13))),\"\")","v":""},{"$f":"IF(ISNUMBER($A53),IF(OR($N53=\"CD\",$N53=\"Transição\",$N53=\"n-1\",$N53=\"n\"),(FCT_Urbano_Dados!D54/FCT_Urbano_Dados!$H54)*($I53-$I52),(FCT_Urbano_Dados!D54/FCT_Urbano_Dados!$H54)*(1-UTILITYFACTOR(FCT_Urbano_Dados!$G$13))),\"\")","v":""},{"$f":"IF(ISNUMBER($A53),IF(OR($N53=\"CD\",$N53=\"Transição\",$N53=\"n-1\",$N53=\"n\"),(FCT_Urbano_Dados!E54/FCT_Urbano_Dados!$H54)*($I53-$I52),(FCT_Urbano_Dados!E54/FCT_Urbano_Dados!$H54)*(1-UTILITYFACTOR(FCT_Urbano_Dados!$G$13))),\"\")","v":""},{"$f":"IF(ISNUMBER($A53),IF(OR($N53=\"CD\",$N53=\"Transição\",$N53=\"n-1\",$N53=\"n\"),(FCT_Urbano_Dados!G54/FCT_Urbano_Dados!$H54)*($I53-$I52),(FCT_Urbano_Dados!G54/FCT_Urbano_Dados!$H54)*(1-UTILITYFACTOR(FCT_Urbano_Dados!$G$13))),\"\")","v":""},{"$f":"IFERROR(IF(OR($N53=\"CD\",$N53=\"Transição\",$N53=\"n-1\",$N53=\"n\"),'Emissões 6.2.2.1 Urbano'!G53*(I53-I52),'Emissões 6.2.2.1 Urbano'!G53),\"\")","v":""},{"$f":"IF(ISNUMBER(A53),IF(OR($N53=\"CD\",$N53=\"Transição\",$N53=\"n-1\",$N53=\"n\"),'Emissões 6.2.2.1 Urbano'!H53*(I53-I52),(1-UTILITYFACTOR(FCT_Urbano_Dados!$G$13))*'Emissões 6.2.2.1 Urbano'!H53),\"\")","v":""},{"$f":"IF(ISNUMBER(A53),UTILITYFACTOR(A53*dUrbano),\"\")","v":""},{"$f":"IFERROR(IF(ISNUMBER(A53),G53/FCT_Urbano_Dados!H54,\"\"),\"\")","v":""},{"$f":"IFERROR(IF(ISNUMBER(A53),H53/FCT_Urbano_Dados!H54,\"\"),\"\")","v":""},{"$f":"IF(ISNUMBER(A53),100*((J53*0.0036)/VLOOKUP(CST_Urbano!$C$7,Combustíveis,2,FALSE)),\"\")","v":""},{"$f":"IF(ISNUMBER(A53),IF(OR($N53=\"CD\",$N53=\"Transição\",$N53=\"n-1\",$N53=\"n\"),FCT_Urbano_Dados!P54*(I53-I52),(FCT_Urbano_Dados!P54)*(1-UTILITYFACTOR(FCT_Urbano_Dados!$G$13))),\"\")","v":""},{"$f":"IF(ISNUMBER(A53),FCT_Urbano_Dados!S54,\"\")","v":""}]
[{"$f":"IF(ISNUMBER(FCT_Urbano_Dados!A55),FCT_Urbano_Dados!A55,\"\")","v":""},{"$f":"IF(ISNUMBER($A54),IF(OR($N54=\"CD\",$N54=\"Transição\",$N54=\"n-1\",$N54=\"n\"),(FCT_Urbano_Dados!B55/FCT_Urbano_Dados!$H55)*($I54-$I53),(FCT_Urbano_Dados!B55/FCT_Urbano_Dados!$H55)*(1-UTILITYFACTOR(FCT_Urbano_Dados!$G$13))),\"\")","v":""},{"$f":"IF(ISNUMBER($A54),IF(OR($N54=\"CD\",$N54=\"Transição\",$N54=\"n-1\",$N54=\"n\"),(FCT_Urbano_Dados!C55/FCT_Urbano_Dados!$H55)*($I54-$I53),(FCT_Urbano_Dados!C55/FCT_Urbano_Dados!$H55)*(1-UTILITYFACTOR(FCT_Urbano_Dados!$G$13))),\"\")","v":""},{"$f":"IF(ISNUMBER($A54),IF(OR($N54=\"CD\",$N54=\"Transição\",$N54=\"n-1\",$N54=\"n\"),(FCT_Urbano_Dados!D55/FCT_Urbano_Dados!$H55)*($I54-$I53),(FCT_Urbano_Dados!D55/FCT_Urbano_Dados!$H55)*(1-UTILITYFACTOR(FCT_Urbano_Dados!$G$13))),\"\")","v":""},{"$f":"IF(ISNUMBER($A54),IF(OR($N54=\"CD\",$N54=\"Transição\",$N54=\"n-1\",$N54=\"n\"),(FCT_Urbano_Dados!E55/FCT_Urbano_Dados!$H55)*($I54-$I53),(FCT_Urbano_Dados!E55/FCT_Urbano_Dados!$H55)*(1-UTILITYFACTOR(FCT_Urbano_Dados!$G$13))),\"\")","v":""},{"$f":"IF(ISNUMBER($A54),IF(OR($N54=\"CD\",$N54=\"Transição\",$N54=\"n-1\",$N54=\"n\"),(FCT_Urbano_Dados!G55/FCT_Urbano_Dados!$H55)*($I54-$I53),(FCT_Urbano_Dados!G55/FCT_Urbano_Dados!$H55)*(1-UTILITYFACTOR(FCT_Urbano_Dados!$G$13))),\"\")","v":""},{"$f":"IFERROR(IF(OR($N54=\"CD\",$N54=\"Transição\",$N54=\"n-1\",$N54=\"n\"),'Emissões 6.2.2.1 Urbano'!G54*(I54-I53),'Emissões 6.2.2.1 Urbano'!G54),\"\")","v":""},{"$f":"IF(ISNUMBER(A54),IF(OR($N54=\"CD\",$N54=\"Transição\",$N54=\"n-1\",$N54=\"n\"),'Emissões 6.2.2.1 Urbano'!H54*(I54-I53),(1-UTILITYFACTOR(FCT_Urbano_Dados!$G$13))*'Emissões 6.2.2.1 Urbano'!H54),\"\")","v":""},{"$f":"IF(ISNUMBER(A54),UTILITYFACTOR(A54*dUrbano),\"\")","v":""},{"$f":"IFERROR(IF(ISNUMBER(A54),G54/FCT_Urbano_Dados!H55,\"\"),\"\")","v":""},{"$f":"IFERROR(IF(ISNUMBER(A54),H54/FCT_Urbano_Dados!H55,\"\"),\"\")","v":""},{"$f":"IF(ISNUMBER(A54),100*((J54*0.0036)/VLOOKUP(CST_Urbano!$C$7,Combustíveis,2,FALSE)),\"\")","v":""},{"$f":"IF(ISNUMBER(A54),IF(OR($N54=\"CD\",$N54=\"Transição\",$N54=\"n-1\",$N54=\"n\"),FCT_Urbano_Dados!P55*(I54-I53),(FCT_Urbano_Dados!P55)*(1-UTILITYFACTOR(FCT_Urbano_Dados!$G$13))),\"\")","v":""},{"$f":"IF(ISNUMBER(A54),FCT_Urbano_Dados!S55,\"\")","v":""}]
[{"$f":"IF(ISNUMBER(FCT_Urbano_Dados!A56),FCT_Urbano_Dados!A56,\"\")","v":""},{"$f":"IF(ISNUMBER($A55),IF(OR($N55=\"CD\",$N55=\"Transição\",$N55=\"n-1\",$N55=\"n\"),(FCT_Urbano_Dados!B56/FCT_Urbano_Dados!$H56)*($I55-$I54),(FCT_Urbano_Dados!B56/FCT_Urbano_Dados!$H56)*(1-UTILITYFACTOR(FCT_Urbano_Dados!$G$13))),\"\")","v":""},{"$f":"IF(ISNUMBER($A55),IF(OR($N55=\"CD\",$N55=\"Transição\",$N55=\"n-1\",$N55=\"n\"),(FCT_Urbano_Dados!C56/FCT_Urbano_Dados!$H56)*($I55-$I54),(FCT_Urbano_Dados!C56/FCT_Urbano_Dados!$H56)*(1-UTILITYFACTOR(FCT_Urbano_Dados!$G$13))),\"\")","v":""},{"$f":"IF(ISNUMBER($A55),IF(OR($N55=\"CD\",$N55=\"Transição\",$N55=\"n-1\",$N55=\"n\"),(FCT_Urbano_Dados!D56/FCT_Urbano_Dados!$H56)*($I55-$I54),(FCT_Urbano_Dados!D56/FCT_Urbano_Dados!$H56)*(1-UTILITYFACTOR(FCT_Urbano_Dados!$G$13))),\"\")","v":""},{"$f":"IF(ISNUMBER($A55),IF(OR($N55=\"CD\",$N55=\"Transição\",$N55=\"n-1\",$N55=\"n\"),(FCT_Urbano_Dados!E56/FCT_Urbano_Dados!$H56)*($I55-$I54),(FCT_Urbano_Dados!E56/FCT_Urbano_Dados!$H56)*(1-UTILITYFACTOR(FCT_Urbano_Dados!$G$13))),\"\")","v":""},{"$f":"IF(ISNUMBER($A55),IF(OR($N55=\"CD\",$N55=\"Transição\",$N55=\"n-1\",$N55=\"n\"),(FCT_Urbano_Dados!G56/FCT_Urbano_Dados!$H56)*($I55-$I54),(FCT_Urbano_Dados!G56/FCT_Urbano_Dados!$H56)*(1-UTILITYFACTOR(FCT_Urbano_Dados!$G$13))),\"\")","v":""},{"$f":"IFERROR(IF(OR($N55=\"CD\",$N55=\"Transição\",$N55=\"n-1\",$N55=\"n\"),'Emissões 6.2.2.1 Urbano'!G55*(I55-I54),'Emissões 6.2.2.1 Urbano'!G55),\"\")","v":""},{"$f":"IF(ISNUMBER(A55),IF(OR($N55=\"CD\",$N55=\"Transição\",$N55=\"n-1\",$N55=\"n\"),'Emissões 6.2.2.1 Urbano'!H55*(I55-I54),(1-UTILITYFACTOR(FCT_Urbano_Dados!$G$13))*'Emissões 6.2.2.1 Urbano'!H55),\"\")","v":""},{"$f":"IF(ISNUMBER(A55),UTILITYFACTOR(A55*dUrbano),\"\")","v":""},{"$f":"IFERROR(IF(ISNUMBER(A55),G55/FCT_Urbano_Dados!H56,\"\"),\"\")","v":""},{"$f":"IFERROR(IF(ISNUMBER(A55),H55/FCT_Urbano_Dados!H56,\"\"),\"\")","v":""},{"$f":"IF(ISNUMBER(A55),100*((J55*0.0036)/VLOOKUP(CST_Urbano!$C$7,Combustíveis,2,FALSE)),\"\")","v":""},{"$f":"IF(ISNUMBER(A55),IF(OR($N55=\"CD\",$N55=\"Transição\",$N55=\"n-1\",$N55=\"n\"),FCT_Urbano_Dados!P56*(I55-I54),(FCT_Urbano_Dados!P56)*(1-UTILITYFACTOR(FCT_Urbano_Dados!$G$13))),\"\")","v":""},{"$f":"IF(ISNUMBER(A55),FCT_Urbano_Dados!S56,\"\")","v":""}]
[{"$f":"IF(ISNUMBER(FCT_Urbano_Dados!A57),FCT_Urbano_Dados!A57,\"\")","v":""},{"$f":"IF(ISNUMBER($A56),IF(OR($N56=\"CD\",$N56=\"Transição\",$N56=\"n-1\",$N56=\"n\"),(FCT_Urbano_Dados!B57/FCT_Urbano_Dados!$H57)*($I56-$I55),(FCT_Urbano_Dados!B57/FCT_Urbano_Dados!$H57)*(1-UTILITYFACTOR(FCT_Urbano_Dados!$G$13))),\"\")","v":""},{"$f":"IF(ISNUMBER($A56),IF(OR($N56=\"CD\",$N56=\"Transição\",$N56=\"n-1\",$N56=\"n\"),(FCT_Urbano_Dados!C57/FCT_Urbano_Dados!$H57)*($I56-$I55),(FCT_Urbano_Dados!C57/FCT_Urbano_Dados!$H57)*(1-UTILITYFACTOR(FCT_Urbano_Dados!$G$13))),\"\")","v":""},{"$f":"IF(ISNUMBER($A56),IF(OR($N56=\"CD\",$N56=\"Transição\",$N56=\"n-1\",$N56=\"n\"),(FCT_Urbano_Dados!D57/FCT_Urbano_Dados!$H57)*($I56-$I55),(FCT_Urbano_Dados!D57/FCT_Urbano_Dados!$H57)*(1-UTILITYFACTOR(FCT_Urbano_Dados!$G$13))),\"\")","v":""},{"$f":"IF(ISNUMBER($A56),IF(OR($N56=\"CD\",$N56=\"Transição\",$N56=\"n-1\",$N56=\"n\"),(FCT_Urbano_Dados!E57/FCT_Urbano_Dados!$H57)*($I56-$I55),(FCT_Urbano_Dados!E57/FCT_Urbano_Dados!$H57)*(1-UTILITYFACTOR(FCT_Urbano_Dados!$G$13))),\"\")","v":""},{"$f":"IF(ISNUMBER($A56),IF(OR($N56=\"CD\",$N56=\"Transição\",$N56=\"n-1\",$N56=\"n\"),(FCT_Urbano_Dados!G57/FCT_Urbano_Dados!$H57)*($I56-$I55),(FCT_Urbano_Dados!G57/FCT_Urbano_Dados!$H57)*(1-UTILITYFACTOR(FCT_Urbano_Dados!$G$13))),\"\")","v":""},{"$f":"IFERROR(IF(OR($N56=\"CD\",$N56=\"Transição\",$N56=\"n-1\",$N56=\"n\"),'Emissões 6.2.2.1 Urbano'!G56*(I56-I55),'Emissões 6.2.2.1 Urbano'!G56),\"\")","v":""},{"$f":"IF(ISNUMBER(A56),IF(OR($N56=\"CD\",$N56=\"Transição\",$N56=\"n-1\",$N56=\"n\"),'Emissões 6.2.2.1 Urbano'!H56*(I56-I55),(1-UTILITYFACTOR(FCT_Urbano_Dados!$G$13))*'Emissões 6.2.2.1 Urbano'!H56),\"\")","v":""},{"$f":"IF(ISNUMBER(A56),UTILITYFACTOR(A56*dUrbano),\"\")","v":""},{"$f":"IFERROR(IF(ISNUMBER(A56),G56/FCT_Urbano_Dados!H57,\"\"),\"\")","v":""},{"$f":"IFERROR(IF(ISNUMBER(A56),H56/FCT_Urbano_Dados!H57,\"\"),\"\")","v":""},{"$f":"IF(ISNUMBER(A56),100*((J56*0.0036)/VLOOKUP(CST_Urbano!$C$7,Combustíveis,2,FALSE)),\"\")","v":""},{"$f":"IF(ISNUMBER(A56),IF(OR($N56=\"CD\",$N56=\"Transição\",$N56=\"n-1\",$N56=\"n\"),FCT_Urbano_Dados!P57*(I56-I55),(FCT_Urbano_Dados!P57)*(1-UTILITYFACTOR(FCT_Urbano_Dados!$G$13))),\"\")","v":""},{"$f":"IF(ISNUMBER(A56),FCT_Urbano_Dados!S57,\"\")","v":""}]
[{"$f":"IF(ISNUMBER(FCT_Urbano_Dados!A58),FCT_Urbano_Dados!A58,\"\")","v":""},{"$f":"IF(ISNUMBER($A57),IF(OR($N57=\"CD\",$N57=\"Transição\",$N57=\"n-1\",$N57=\"n\"),(FCT_Urbano_Dados!B58/FCT_Urbano_Dados!$H58)*($I57-$I56),(FCT_Urbano_Dados!B58/FCT_Urbano_Dados!$H58)*(1-UTILITYFACTOR(FCT_Urbano_Dados!$G$13))),\"\")","v":""},{"$f":"IF(ISNUMBER($A57),IF(OR($N57=\"CD\",$N57=\"Transição\",$N57=\"n-1\",$N57=\"n\"),(FCT_Urbano_Dados!C58/FCT_Urbano_Dados!$H58)*($I57-$I56),(FCT_Urbano_Dados!C58/FCT_Urbano_Dados!$H58)*(1-UTILITYFACTOR(FCT_Urbano_Dados!$G$13))),\"\")","v":""},{"$f":"IF(ISNUMBER($A57),IF(OR($N57=\"CD\",$N57=\"Transição\",$N57=\"n-1\",$N57=\"n\"),(FCT_Urbano_Dados!D58/FCT_Urbano_Dados!$H58)*($I57-$I56),(FCT_Urbano_Dados!D58/FCT_Urbano_Dados!$H58)*(1-UTILITYFACTOR(FCT_Urbano_Dados!$G$13))),\"\")","v":""},{"$f":"IF(ISNUMBER($A57),IF(OR($N57=\"CD\",$N57=\"Transição\",$N57=\"n-1\",$N57=\"n\"),(FCT_Urbano_Dados!E58/FCT_Urbano_Dados!$H58)*($I57-$I56),(FCT_Urbano_Dados!E58/FCT_Urbano_Dados!$H58)*(1-UTILITYFACTOR(FCT_Urbano_Dados!$G$13))),\"\")","v":""},{"$f":"IF(ISNUMBER($A57),IF(OR($N57=\"CD\",$N57=\"Transição\",$N57=\"n-1\",$N57=\"n\"),(FCT_Urbano_Dados!G58/FCT_Urbano_Dados!$H58)*($I57-$I56),(FCT_Urbano_Dados!G58/FCT_Urbano_Dados!$H58)*(1-UTILITYFACTOR(FCT_Urbano_Dados!$G$13))),\"\")","v":""},{"$f":"IFERROR(IF(OR($N57=\"CD\",$N57=\"Transição\",$N57=\"n-1\",$N57=\"n\"),'Emissões 6.2.2.1 Urbano'!G57*(I57-I56),'Emissões 6.2.2.1 Urbano'!G57),\"\")","v":""},{"$f":"IF(ISNUMBER(A57),IF(OR($N57=\"CD\",$N57=\"Transição\",$N57=\"n-1\",$N57=\"n\"),'Emissões 6.2.2.1 Urbano'!H57*(I57-I56),(1-UTILITYFACTOR(FCT_Urbano_Dados!$G$13))*'Emissões 6.2.2.1 Urbano'!H57),\"\")","v":""},{"$f":"IF(ISNUMBER(A57),UTILITYFACTOR(A57*dUrbano),\"\")","v":""},{"$f":"IFERROR(IF(ISNUMBER(A57),G57/FCT_Urbano_Dados!H58,\"\"),\"\")","v":""},{"$f":"IFERROR(IF(ISNUMBER(A57),H57/FCT_Urbano_Dados!H58,\"\"),\"\")","v":""},{"$f":"IF(ISNUMBER(A57),100*((J57*0.0036)/VLOOKUP(CST_Urbano!$C$7,Combustíveis,2,FALSE)),\"\")","v":""},{"$f":"IF(ISNUMBER(A57),IF(OR($N57=\"CD\",$N57=\"Transição\",$N57=\"n-1\",$N57=\"n\"),FCT_Urbano_Dados!P58*(I57-I56),(FCT_Urbano_Dados!P58)*(1-UTILITYFACTOR(FCT_Urbano_Dados!$G$13))),\"\")","v":""},{"$f":"IF(ISNUMBER(A57),FCT_Urbano_Dados!S58,\"\")","v":""}]
[{"$f":"IF(ISNUMBER(FCT_Urbano_Dados!A59),FCT_Urbano_Dados!A59,\"\")","v":""},{"$f":"IF(ISNUMBER($A58),IF(OR($N58=\"CD\",$N58=\"Transição\",$N58=\"n-1\",$N58=\"n\"),(FCT_Urbano_Dados!B59/FCT_Urbano_Dados!$H59)*($I58-$I57),(FCT_Urbano_Dados!B59/FCT_Urbano_Dados!$H59)*(1-UTILITYFACTOR(FCT_Urbano_Dados!$G$13))),\"\")","v":""},{"$f":"IF(ISNUMBER($A58),IF(OR($N58=\"CD\",$N58=\"Transição\",$N58=\"n-1\",$N58=\"n\"),(FCT_Urbano_Dados!C59/FCT_Urbano_Dados!$H59)*($I58-$I57),(FCT_Urbano_Dados!C59/FCT_Urbano_Dados!$H59)*(1-UTILITYFACTOR(FCT_Urbano_Dados!$G$13))),\"\")","v":""},{"$f":"IF(ISNUMBER($A58),IF(OR($N58=\"CD\",$N58=\"Transição\",$N58=\"n-1\",$N58=\"n\"),(FCT_Urbano_Dados!D59/FCT_Urbano_Dados!$H59)*($I58-$I57),(FCT_Urbano_Dados!D59/FCT_Urbano_Dados!$H59)*(1-UTILITYFACTOR(FCT_Urbano_Dados!$G$13))),\"\")","v":""},{"$f":"IF(ISNUMBER($A58),IF(OR($N58=\"CD\",$N58=\"Transição\",$N58=\"n-1\",$N58=\"n\"),(FCT_Urbano_Dados!E59/FCT_Urbano_Dados!$H59)*($I58-$I57),(FCT_Urbano_Dados!E59/FCT_Urbano_Dados!$H59)*(1-UTILITYFACTOR(FCT_Urbano_Dados!$G$13))),\"\")","v":""},{"$f":"IF(ISNUMBER($A58),IF(OR($N58=\"CD\",$N58=\"Transição\",$N58=\"n-1\",$N58=\"n\"),(FCT_Urbano_Dados!G59/FCT_Urbano_Dados!$H59)*($I58-$I57),(FCT_Urbano_Dados!G59/FCT_Urbano_Dados!$H59)*(1-UTILITYFACTOR(FCT_Urbano_Dados!$G$13))),\"\")","v":""},{"$f":"IFERROR(IF(OR($N58=\"CD\",$N58=\"Transição\",$N58=\"n-1\",$N58=\"n\"),'Emissões 6.2.2.1 Urbano'!G58*(I58-I57),'Emissões 6.2.2.1 Urbano'!G58),\"\")","v":""},{"$f":"IF(ISNUMBER(A58),IF(OR($N58=\"CD\",$N58=\"Transição\",$N58=\"n-1\",$N58=\"n\"),'Emissões 6.2.2.1 Urbano'!H58*(I58-I57),(1-UTILITYFACTOR(FCT_Urbano_Dados!$G$13))*'Emissões 6.2.2.1 Urbano'!H58),\"\")","v":""},{"$f":"IF(ISNUMBER(A58),UTILITYFACTOR(A58*dUrbano),\"\")","v":""},{"$f":"IFERROR(IF(ISNUMBER(A58),G58/FCT_Urbano_Dados!H59,\"\"),\"\")","v":""},{"$f":"IFERROR(IF(ISNUMBER(A58),H58/FCT_Urbano_Dados!H59,\"\"),\"\")","v":""},{"$f":"IF(ISNUMBER(A58),100*((J58*0.0036)/VLOOKUP(CST_Urbano!$C$7,Combustíveis,2,FALSE)),\"\")","v":""},{"$f":"IF(ISNUMBER(A58),IF(OR($N58=\"CD\",$N58=\"Transição\",$N58=\"n-1\",$N58=\"n\"),FCT_Urbano_Dados!P59*(I58-I57),(FCT_Urbano_Dados!P59)*(1-UTILITYFACTOR(FCT_Urbano_Dados!$G$13))),\"\")","v":""},{"$f":"IF(ISNUMBER(A58),FCT_Urbano_Dados!S59,\"\")","v":""}]
[{"$f":"IF(ISNUMBER(FCT_Urbano_Dados!A60),FCT_Urbano_Dados!A60,\"\")","v":""},{"$f":"IF(ISNUMBER($A59),IF(OR($N59=\"CD\",$N59=\"Transição\",$N59=\"n-1\",$N59=\"n\"),(FCT_Urbano_Dados!B60/FCT_Urbano_Dados!$H60)*($I59-$I58),(FCT_Urbano_Dados!B60/FCT_Urbano_Dados!$H60)*(1-UTILITYFACTOR(FCT_Urbano_Dados!$G$13))),\"\")","v":""},{"$f":"IF(ISNUMBER($A59),IF(OR($N59=\"CD\",$N59=\"Transição\",$N59=\"n-1\",$N59=\"n\"),(FCT_Urbano_Dados!C60/FCT_Urbano_Dados!$H60)*($I59-$I58),(FCT_Urbano_Dados!C60/FCT_Urbano_Dados!$H60)*(1-UTILITYFACTOR(FCT_Urbano_Dados!$G$13))),\"\")","v":""},{"$f":"IF(ISNUMBER($A59),IF(OR($N59=\"CD\",$N59=\"Transição\",$N59=\"n-1\",$N59=\"n\"),(FCT_Urbano_Dados!D60/FCT_Urbano_Dados!$H60)*($I59-$I58),(FCT_Urbano_Dados!D60/FCT_Urbano_Dados!$H60)*(1-UTILITYFACTOR(FCT_Urbano_Dados!$G$13))),\"\")","v":""},{"$f":"IF(ISNUMBER($A59),IF(OR($N59=\"CD\",$N59=\"Transição\",$N59=\"n-1\",$N59=\"n\"),(FCT_Urbano_Dados!E60/FCT_Urbano_Dados!$H60)*($I59-$I58),(FCT_Urbano_Dados!E60/FCT_Urbano_Dados!$H60)*(1-UTILITYFACTOR(FCT_Urbano_Dados!$G$13))),\"\")","v":""},{"$f":"IF(ISNUMBER($A59),IF(OR($N59=\"CD\",$N59=\"Transição\",$N59=\"n-1\",$N59=\"n\"),(FCT_Urbano_Dados!G60/FCT_Urbano_Dados!$H60)*($I59-$I58),(FCT_Urbano_Dados!G60/FCT_Urbano_Dados!$H60)*(1-UTILITYFACTOR(FCT_Urbano_Dados!$G$13))),\"\")","v":""},{"$f":"IFERROR(IF(OR($N59=\"CD\",$N59=\"Transição\",$N59=\"n-1\",$N59=\"n\"),'Emissões 6.2.2.1 Urbano'!G59*(I59-I58),'Emissões 6.2.2.1 Urbano'!G59),\"\")","v":""},{"$f":"IF(ISNUMBER(A59),IF(OR($N59=\"CD\",$N59=\"Transição\",$N59=\"n-1\",$N59=\"n\"),'Emissões 6.2.2.1 Urbano'!H59*(I59-I58),(1-UTILITYFACTOR(FCT_Urbano_Dados!$G$13))*'Emissões 6.2.2.1 Urbano'!H59),\"\")","v":""},{"$f":"IF(ISNUMBER(A59),UTILITYFACTOR(A59*dUrbano),\"\")","v":""},{"$f":"IFERROR(IF(ISNUMBER(A59),G59/FCT_Urbano_Dados!H60,\"\"),\"\")","v":""},{"$f":"IFERROR(IF(ISNUMBER(A59),H59/FCT_Urbano_Dados!H60,\"\"),\"\")","v":""},{"$f":"IF(ISNUMBER(A59),100*((J59*0.0036)/VLOOKUP(CST_Urbano!$C$7,Combustíveis,2,FALSE)),\"\")","v":""},{"$f":"IF(ISNUMBER(A59),IF(OR($N59=\"CD\",$N59=\"Transição\",$N59=\"n-1\",$N59=\"n\"),FCT_Urbano_Dados!P60*(I59-I58),(FCT_Urbano_Dados!P60)*(1-UTILITYFACTOR(FCT_Urbano_Dados!$G$13))),\"\")","v":""},{"$f":"IF(ISNUMBER(A59),FCT_Urbano_Dados!S60,\"\")","v":""}]
[{"$f":"IF(ISNUMBER(FCT_Urbano_Dados!A61),FCT_Urbano_Dados!A61,\"\")","v":""},{"$f":"IF(ISNUMBER($A60),IF(OR($N60=\"CD\",$N60=\"Transição\",$N60=\"n-1\",$N60=\"n\"),(FCT_Urbano_Dados!B61/FCT_Urbano_Dados!$H61)*($I60-$I59),(FCT_Urbano_Dados!B61/FCT_Urbano_Dados!$H61)*(1-UTILITYFACTOR(FCT_Urbano_Dados!$G$13))),\"\")","v":""},{"$f":"IF(ISNUMBER($A60),IF(OR($N60=\"CD\",$N60=\"Transição\",$N60=\"n-1\",$N60=\"n\"),(FCT_Urbano_Dados!C61/FCT_Urbano_Dados!$H61)*($I60-$I59),(FCT_Urbano_Dados!C61/FCT_Urbano_Dados!$H61)*(1-UTILITYFACTOR(FCT_Urbano_Dados!$G$13))),\"\")","v":""},{"$f":"IF(ISNUMBER($A60),IF(OR($N60=\"CD\",$N60=\"Transição\",$N60=\"n-1\",$N60=\"n\"),(FCT_Urbano_Dados!D61/FCT_Urbano_Dados!$H61)*($I60-$I59),(FCT_Urbano_Dados!D61/FCT_Urbano_Dados!$H61)*(1-UTILITYFACTOR(FCT_Urbano_Dados!$G$13))),\"\")","v":""},{"$f":"IF(ISNUMBER($A60),IF(OR($N60=\"CD\",$N60=\"Transição\",$N60=\"n-1\",$N60=\"n\"),(FCT_Urbano_Dados!E61/FCT_Urbano_Dados!$H61)*($I60-$I59),(FCT_Urbano_Dados!E61/FCT_Urbano_Dados!$H61)*(1-UTILITYFACTOR(FCT_Urbano_Dados!$G$13))),\"\")","v":""},{"$f":"IF(ISNUMBER($A60),IF(OR($N60=\"CD\",$N60=\"Transição\",$N60=\"n-1\",$N60=\"n\"),(FCT_Urbano_Dados!G61/FCT_Urbano_Dados!$H61)*($I60-$I59),(FCT_Urbano_Dados!G61/FCT_Urbano_Dados!$H61)*(1-UTILITYFACTOR(FCT_Urbano_Dados!$G$13))),\"\")","v":""},{"$f":"IFERROR(IF(OR($N60=\"CD\",$N60=\"Transição\",$N60=\"n-1\",$N60=\"n\"),'Emissões 6.2.2.1 Urbano'!G60*(I60-I59),'Emissões 6.2.2.1 Urbano'!G60),\"\")","v":""},{"$f":"IF(ISNUMBER(A60),IF(OR($N60=\"CD\",$N60=\"Transição\",$N60=\"n-1\",$N60=\"n\"),'Emissões 6.2.2.1 Urbano'!H60*(I60-I59),(1-UTILITYFACTOR(FCT_Urbano_Dados!$G$13))*'Emissões 6.2.2.1 Urbano'!H60),\"\")","v":""},{"$f":"IF(ISNUMBER(A60),UTILITYFACTOR(A60*dUrbano),\"\")","v":""},{"$f":"IFERROR(IF(ISNUMBER(A60),G60/FCT_Urbano_Dados!H61,\"\"),\"\")","v":""},{"$f":"IFERROR(IF(ISNUMBER(A60),H60/FCT_Urbano_Dados!H61,\"\"),\"\")","v":""},{"$f":"IF(ISNUMBER(A60),100*((J60*0.0036)/VLOOKUP(CST_Urbano!$C$7,Combustíveis,2,FALSE)),\"\")","v":""},{"$f":"IF(ISNUMBER(A60),IF(OR($N60=\"CD\",$N60=\"Transição\",$N60=\"n-1\",$N60=\"n\"),FCT_Urbano_Dados!P61*(I60-I59),(FCT_Urbano_Dados!P61)*(1-UTILITYFACTOR(FCT_Urbano_Dados!$G$13))),\"\")","v":""},{"$f":"IF(ISNUMBER(A60),FCT_Urbano_Dados!S61,\"\")","v":""}]
[{"$f":"IF(ISNUMBER(FCT_Urbano_Dados!A62),FCT_Urbano_Dados!A62,\"\")","v":""},{"$f":"IF(ISNUMBER($A61),IF(OR($N61=\"CD\",$N61=\"Transição\",$N61=\"n-1\",$N61=\"n\"),(FCT_Urbano_Dados!B62/FCT_Urbano_Dados!$H62)*($I61-$I60),(FCT_Urbano_Dados!B62/FCT_Urbano_Dados!$H62)*(1-UTILITYFACTOR(FCT_Urbano_Dados!$G$13))),\"\")","v":""},{"$f":"IF(ISNUMBER($A61),IF(OR($N61=\"CD\",$N61=\"Transição\",$N61=\"n-1\",$N61=\"n\"),(FCT_Urbano_Dados!C62/FCT_Urbano_Dados!$H62)*($I61-$I60),(FCT_Urbano_Dados!C62/FCT_Urbano_Dados!$H62)*(1-UTILITYFACTOR(FCT_Urbano_Dados!$G$13))),\"\")","v":""},{"$f":"IF(ISNUMBER($A61),IF(OR($N61=\"CD\",$N61=\"Transição\",$N61=\"n-1\",$N61=\"n\"),(FCT_Urbano_Dados!D62/FCT_Urbano_Dados!$H62)*($I61-$I60),(FCT_Urbano_Dados!D62/FCT_Urbano_Dados!$H62)*(1-UTILITYFACTOR(FCT_Urbano_Dados!$G$13))),\"\")","v":""},{"$f":"IF(ISNUMBER($A61),IF(OR($N61=\"CD\",$N61=\"Transição\",$N61=\"n-1\",$N61=\"n\"),(FCT_Urbano_Dados!E62/FCT_Urbano_Dados!$H62)*($I61-$I60),(FCT_Urbano_Dados!E62/FCT_Urbano_Dados!$H62)*(1-UTILITYFACTOR(FCT_Urbano_Dados!$G$13))),\"\")","v":""},{"$f":"IF(ISNUMBER($A61),IF(OR($N61=\"CD\",$N61=\"Transição\",$N61=\"n-1\",$N61=\"n\"),(FCT_Urbano_Dados!G62/FCT_Urbano_Dados!$H62)*($I61-$I60),(FCT_Urbano_Dados!G62/FCT_Urbano_Dados!$H62)*(1-UTILITYFACTOR(FCT_Urbano_Dados!$G$13))),\"\")","v":""},{"$f":"IFERROR(IF(OR($N61=\"CD\",$N61=\"Transição\",$N61=\"n-1\",$N61=\"n\"),'Emissões 6.2.2.1 Urbano'!G61*(I61-I60),'Emissões 6.2.2.1 Urbano'!G61),\"\")","v":""},{"$f":"IF(ISNUMBER(A61),IF(OR($N61=\"CD\",$N61=\"Transição\",$N61=\"n-1\",$N61=\"n\"),'Emissões 6.2.2.1 Urbano'!H61*(I61-I60),(1-UTILITYFACTOR(FCT_Urbano_Dados!$G$13))*'Emissões 6.2.2.1 Urbano'!H61),\"\")","v":""},{"$f":"IF(ISNUMBER(A61),UTILITYFACTOR(A61*dUrbano),\"\")","v":""},{"$f":"IFERROR(IF(ISNUMBER(A61),G61/FCT_Urbano_Dados!H62,\"\"),\"\")","v":""},{"$f":"IFERROR(IF(ISNUMBER(A61),H61/FCT_Urbano_Dados!H62,\"\"),\"\")","v":""},{"$f":"IF(ISNUMBER(A61),100*((J61*0.0036)/VLOOKUP(CST_Urbano!$C$7,Combustíveis,2,FALSE)),\"\")","v":""},{"$f":"IF(ISNUMBER(A61),IF(OR($N61=\"CD\",$N61=\"Transição\",$N61=\"n-1\",$N61=\"n\"),FCT_Urbano_Dados!P62*(I61-I60),(FCT_Urbano_Dados!P62)*(1-UTILITYFACTOR(FCT_Urbano_Dados!$G$13))),\"\")","v":""},{"$f":"IF(ISNUMBER(A61),FCT_Urbano_Dados!S62,\"\")","v":""}]
[{"$f":"IF(ISNUMBER(FCT_Urbano_Dados!A63),FCT_Urbano_Dados!A63,\"\")","v":""},{"$f":"IF(ISNUMBER($A62),IF(OR($N62=\"CD\",$N62=\"Transição\",$N62=\"n-1\",$N62=\"n\"),(FCT_Urbano_Dados!B63/FCT_Urbano_Dados!$H63)*($I62-$I61),(FCT_Urbano_Dados!B63/FCT_Urbano_Dados!$H63)*(1-UTILITYFACTOR(FCT_Urbano_Dados!$G$13))),\"\")","v":""},{"$f":"IF(ISNUMBER($A62),IF(OR($N62=\"CD\",$N62=\"Transição\",$N62=\"n-1\",$N62=\"n\"),(FCT_Urbano_Dados!C63/FCT_Urbano_Dados!$H63)*($I62-$I61),(FCT_Urbano_Dados!C63/FCT_Urbano_Dados!$H63)*(1-UTILITYFACTOR(FCT_Urbano_Dados!$G$13))),\"\")","v":""},{"$f":"IF(ISNUMBER($A62),IF(OR($N62=\"CD\",$N62=\"Transição\",$N62=\"n-1\",$N62=\"n\"),(FCT_Urbano_Dados!D63/FCT_Urbano_Dados!$H63)*($I62-$I61),(FCT_Urbano_Dados!D63/FCT_Urbano_Dados!$H63)*(1-UTILITYFACTOR(FCT_Urbano_Dados!$G$13))),\"\")","v":""},{"$f":"IF(ISNUMBER($A62),IF(OR($N62=\"CD\",$N62=\"Transição\",$N62=\"n-1\",$N62=\"n\"),(FCT_Urbano_Dados!E63/FCT_Urbano_Dados!$H63)*($I62-$I61),(FCT_Urbano_Dados!E63/FCT_Urbano_Dados!$H63)*(1-UTILITYFACTOR(FCT_Urbano_Dados!$G$13))),\"\")","v":""},{"$f":"IF(ISNUMBER($A62),IF(OR($N62=\"CD\",$N62=\"Transição\",$N62=\"n-1\",$N62=\"n\"),(FCT_Urbano_Dados!G63/FCT_Urbano_Dados!$H63)*($I62-$I61),(FCT_Urbano_Dados!G63/FCT_Urbano_Dados!$H63)*(1-UTILITYFACTOR(FCT_Urbano_Dados!$G$13))),\"\")","v":""},{"$f":"IFERROR(IF(OR($N62=\"CD\",$N62=\"Transição\",$N62=\"n-1\",$N62=\"n\"),'Emissões 6.2.2.1 Urbano'!G62*(I62-I61),'Emissões 6.2.2.1 Urbano'!G62),\"\")","v":""},{"$f":"IF(ISNUMBER(A62),IF(OR($N62=\"CD\",$N62=\"Transição\",$N62=\"n-1\",$N62=\"n\"),'Emissões 6.2.2.1 Urbano'!H62*(I62-I61),(1-UTILITYFACTOR(FCT_Urbano_Dados!$G$13))*'Emissões 6.2.2.1 Urbano'!H62),\"\")","v":""},{"$f":"IF(ISNUMBER(A62),UTILITYFACTOR(A62*dUrbano),\"\")","v":""},{"$f":"IFERROR(IF(ISNUMBER(A62),G62/FCT_Urbano_Dados!H63,\"\"),\"\")","v":""},{"$f":"IFERROR(IF(ISNUMBER(A62),H62/FCT_Urbano_Dados!H63,\"\"),\"\")","v":""},{"$f":"IF(ISNUMBER(A62),100*((J62*0.0036)/VLOOKUP(CST_Urbano!$C$7,Combustíveis,2,FALSE)),\"\")","v":""},{"$f":"IF(ISNUMBER(A62),IF(OR($N62=\"CD\",$N62=\"Transição\",$N62=\"n-1\",$N62=\"n\"),FCT_Urbano_Dados!P63*(I62-I61),(FCT_Urbano_Dados!P63)*(1-UTILITYFACTOR(FCT_Urbano_Dados!$G$13))),\"\")","v":""},{"$f":"IF(ISNUMBER(A62),FCT_Urbano_Dados!S63,\"\")","v":""}]
[{"$f":"IF(ISNUMBER(FCT_Urbano_Dados!A64),FCT_Urbano_Dados!A64,\"\")","v":""},{"$f":"IF(ISNUMBER($A63),IF(OR($N63=\"CD\",$N63=\"Transição\",$N63=\"n-1\",$N63=\"n\"),(FCT_Urbano_Dados!B64/FCT_Urbano_Dados!$H64)*($I63-$I62),(FCT_Urbano_Dados!B64/FCT_Urbano_Dados!$H64)*(1-UTILITYFACTOR(FCT_Urbano_Dados!$G$13))),\"\")","v":""},{"$f":"IF(ISNUMBER($A63),IF(OR($N63=\"CD\",$N63=\"Transição\",$N63=\"n-1\",$N63=\"n\"),(FCT_Urbano_Dados!C64/FCT_Urbano_Dados!$H64)*($I63-$I62),(FCT_Urbano_Dados!C64/FCT_Urbano_Dados!$H64)*(1-UTILITYFACTOR(FCT_Urbano_Dados!$G$13))),\"\")","v":""},{"$f":"IF(ISNUMBER($A63),IF(OR($N63=\"CD\",$N63=\"Transição\",$N63=\"n-1\",$N63=\"n\"),(FCT_Urbano_Dados!D64/FCT_Urbano_Dados!$H64)*($I63-$I62),(FCT_Urbano_Dados!D64/FCT_Urbano_Dados!$H64)*(1-UTILITYFACTOR(FCT_Urbano_Dados!$G$13))),\"\")","v":""},{"$f":"IF(ISNUMBER($A63),IF(OR($N63=\"CD\",$N63=\"Transição\",$N63=\"n-1\",$N63=\"n\"),(FCT_Urbano_Dados!E64/FCT_Urbano_Dados!$H64)*($I63-$I62),(FCT_Urbano_Dados!E64/FCT_Urbano_Dados!$H64)*(1-UTILITYFACTOR(FCT_Urbano_Dados!$G$13))),\"\")","v":""},{"$f":"IF(ISNUMBER($A63),IF(OR($N63=\"CD\",$N63=\"Transição\",$N63=\"n-1\",$N63=\"n\"),(FCT_Urbano_Dados!G64/FCT_Urbano_Dados!$H64)*($I63-$I62),(FCT_Urbano_Dados!G64/FCT_Urbano_Dados!$H64)*(1-UTILITYFACTOR(FCT_Urbano_Dados!$G$13))),\"\")","v":""},{"$f":"IFERROR(IF(OR($N63=\"CD\",$N63=\"Transição\",$N63=\"n-1\",$N63=\"n\"),'Emissões 6.2.2.1 Urbano'!G63*(I63-I62),'Emissões 6.2.2.1 Urbano'!G63),\"\")","v":""},{"$f":"IF(ISNUMBER(A63),IF(OR($N63=\"CD\",$N63=\"Transição\",$N63=\"n-1\",$N63=\"n\"),'Emissões 6.2.2.1 Urbano'!H63*(I63-I62),(1-UTILITYFACTOR(FCT_Urbano_Dados!$G$13))*'Emissões 6.2.2.1 Urbano'!H63),\"\")","v":""},{"$f":"IF(ISNUMBER(A63),UTILITYFACTOR(A63*dUrbano),\"\")","v":""},{"$f":"IFERROR(IF(ISNUMBER(A63),G63/FCT_Urbano_Dados!H64,\"\"),\"\")","v":""},{"$f":"IFERROR(IF(ISNUMBER(A63),H63/FCT_Urbano_Dados!H64,\"\"),\"\")","v":""},{"$f":"IF(ISNUMBER(A63),100*((J63*0.0036)/VLOOKUP(CST_Urbano!$C$7,Combustíveis,2,FALSE)),\"\")","v":""},{"$f":"IF(ISNUMBER(A63),IF(OR($N63=\"CD\",$N63=\"Transição\",$N63=\"n-1\",$N63=\"n\"),FCT_Urbano_Dados!P64*(I63-I62),(FCT_Urbano_Dados!P64)*(1-UTILITYFACTOR(FCT_Urbano_Dados!$G$13))),\"\")","v":""},{"$f":"IF(ISNUMBER(A63),FCT_Urbano_Dados!S64,\"\")","v":""}]
[{"$f":"IF(ISNUMBER(FCT_Urbano_Dados!A65),FCT_Urbano_Dados!A65,\"\")","v":""},{"$f":"IF(ISNUMBER($A64),IF(OR($N64=\"CD\",$N64=\"Transição\",$N64=\"n-1\",$N64=\"n\"),(FCT_Urbano_Dados!B65/FCT_Urbano_Dados!$H65)*($I64-$I63),(FCT_Urbano_Dados!B65/FCT_Urbano_Dados!$H65)*(1-UTILITYFACTOR(FCT_Urbano_Dados!$G$13))),\"\")","v":""},{"$f":"IF(ISNUMBER($A64),IF(OR($N64=\"CD\",$N64=\"Transição\",$N64=\"n-1\",$N64=\"n\"),(FCT_Urbano_Dados!C65/FCT_Urbano_Dados!$H65)*($I64-$I63),(FCT_Urbano_Dados!C65/FCT_Urbano_Dados!$H65)*(1-UTILITYFACTOR(FCT_Urbano_Dados!$G$13))),\"\")","v":""},{"$f":"IF(ISNUMBER($A64),IF(OR($N64=\"CD\",$N64=\"Transição\",$N64=\"n-1\",$N64=\"n\"),(FCT_Urbano_Dados!D65/FCT_Urbano_Dados!$H65)*($I64-$I63),(FCT_Urbano_Dados!D65/FCT_Urbano_Dados!$H65)*(1-UTILITYFACTOR(FCT_Urbano_Dados!$G$13))),\"\")","v":""},{"$f":"IF(ISNUMBER($A64),IF(OR($N64=\"CD\",$N64=\"Transição\",$N64=\"n-1\",$N64=\"n\"),(FCT_Urbano_Dados!E65/FCT_Urbano_Dados!$H65)*($I64-$I63),(FCT_Urbano_Dados!E65/FCT_Urbano_Dados!$H65)*(1-UTILITYFACTOR(FCT_Urbano_Dados!$G$13))),\"\")","v":""},{"$f":"IF(ISNUMBER($A64),IF(OR($N64=\"CD\",$N64=\"Transição\",$N64=\"n-1\",$N64=\"n\"),(FCT_Urbano_Dados!G65/FCT_Urbano_Dados!$H65)*($I64-$I63),(FCT_Urbano_Dados!G65/FCT_Urbano_Dados!$H65)*(1-UTILITYFACTOR(FCT_Urbano_Dados!$G$13))),\"\")","v":""},{"$f":"IFERROR(IF(OR($N64=\"CD\",$N64=\"Transição\",$N64=\"n-1\",$N64=\"n\"),'Emissões 6.2.2.1 Urbano'!G64*(I64-I63),'Emissões 6.2.2.1 Urbano'!G64),\"\")","v":""},{"$f":"IF(ISNUMBER(A64),IF(OR($N64=\"CD\",$N64=\"Transição\",$N64=\"n-1\",$N64=\"n\"),'Emissões 6.2.2.1 Urbano'!H64*(I64-I63),(1-UTILITYFACTOR(FCT_Urbano_Dados!$G$13))*'Emissões 6.2.2.1 Urbano'!H64),\"\")","v":""},{"$f":"IF(ISNUMBER(A64),UTILITYFACTOR(A64*dUrbano),\"\")","v":""},{"$f":"IFERROR(IF(ISNUMBER(A64),G64/FCT_Urbano_Dados!H65,\"\"),\"\")","v":""},{"$f":"IFERROR(IF(ISNUMBER(A64),H64/FCT_Urbano_Dados!H65,\"\"),\"\")","v":""},{"$f":"IF(ISNUMBER(A64),100*((J64*0.0036)/VLOOKUP(CST_Urbano!$C$7,Combustíveis,2,FALSE)),\"\")","v":""},{"$f":"IF(ISNUMBER(A64),IF(OR($N64=\"CD\",$N64=\"Transição\",$N64=\"n-1\",$N64=\"n\"),FCT_Urbano_Dados!P65*(I64-I63),(FCT_Urbano_Dados!P65)*(1-UTILITYFACTOR(FCT_Urbano_Dados!$G$13))),\"\")","v":""},{"$f":"IF(ISNUMBER(A64),FCT_Urbano_Dados!S65,\"\")","v":""}]
[{"$f":"IF(ISNUMBER(FCT_Urbano_Dados!A66),FCT_Urbano_Dados!A66,\"\")","v":""},{"$f":"IF(ISNUMBER($A65),IF(OR($N65=\"CD\",$N65=\"Transição\",$N65=\"n-1\",$N65=\"n\"),(FCT_Urbano_Dados!B66/FCT_Urbano_Dados!$H66)*($I65-$I64),(FCT_Urbano_Dados!B66/FCT_Urbano_Dados!$H66)*(1-UTILITYFACTOR(FCT_Urbano_Dados!$G$13))),\"\")","v":""},{"$f":"IF(ISNUMBER($A65),IF(OR($N65=\"CD\",$N65=\"Transição\",$N65=\"n-1\",$N65=\"n\"),(FCT_Urbano_Dados!C66/FCT_Urbano_Dados!$H66)*($I65-$I64),(FCT_Urbano_Dados!C66/FCT_Urbano_Dados!$H66)*(1-UTILITYFACTOR(FCT_Urbano_Dados!$G$13))),\"\")","v":""},{"$f":"IF(ISNUMBER($A65),IF(OR($N65=\"CD\",$N65=\"Transição\",$N65=\"n-1\",$N65=\"n\"),(FCT_Urbano_Dados!D66/FCT_Urbano_Dados!$H66)*($I65-$I64),(FCT_Urbano_Dados!D66/FCT_Urbano_Dados!$H66)*(1-UTILITYFACTOR(FCT_Urbano_Dados!$G$13))),\"\")","v":""},{"$f":"IF(ISNUMBER($A65),IF(OR($N65=\"CD\",$N65=\"Transição\",$N65=\"n-1\",$N65=\"n\"),(FCT_Urbano_Dados!E66/FCT_Urbano_Dados!$H66)*($I65-$I64),(FCT_Urbano_Dados!E66/FCT_Urbano_Dados!$H66)*(1-UTILITYFACTOR(FCT_Urbano_Dados!$G$13))),\"\")","v":""},{"$f":"IF(ISNUMBER($A65),IF(OR($N65=\"CD\",$N65=\"Transição\",$N65=\"n-1\",$N65=\"n\"),(FCT_Urbano_Dados!G66/FCT_Urbano_Dados!$H66)*($I65-$I64),(FCT_Urbano_Dados!G66/FCT_Urbano_Dados!$H66)*(1-UTILITYFACTOR(FCT_Urbano_Dados!$G$13))),\"\")","v":""},{"$f":"IFERROR(IF(OR($N65=\"CD\",$N65=\"Transição\",$N65=\"n-1\",$N65=\"n\"),'Emissões 6.2.2.1 Urbano'!G65*(I65-I64),'Emissões 6.2.2.1 Urbano'!G65),\"\")","v":""},{"$f":"IF(ISNUMBER(A65),IF(OR($N65=\"CD\",$N65=\"Transição\",$N65=\"n-1\",$N65=\"n\"),'Emissões 6.2.2.1 Urbano'!H65*(I65-I64),(1-UTILITYFACTOR(FCT_Urbano_Dados!$G$13))*'Emissões 6.2.2.1 Urbano'!H65),\"\")","v":""},{"$f":"IF(ISNUMBER(A65),UTILITYFACTOR(A65*dUrbano),\"\")","v":""},{"$f":"IFERROR(IF(ISNUMBER(A65),G65/FCT_Urbano_Dados!H66,\"\"),\"\")","v":""},{"$f":"IFERROR(IF(ISNUMBER(A65),H65/FCT_Urbano_Dados!H66,\"\"),\"\")","v":""},{"$f":"IF(ISNUMBER(A65),100*((J65*0.0036)/VLOOKUP(CST_Urbano!$C$7,Combustíveis,2,FALSE)),\"\")","v":""},{"$f":"IF(ISNUMBER(A65),IF(OR($N65=\"CD\",$N65=\"Transição\",$N65=\"n-1\",$N65=\"n\"),FCT_Urbano_Dados!P66*(I65-I64),(FCT_Urbano_Dados!P66)*(1-UTILITYFACTOR(FCT_Urbano_Dados!$G$13))),\"\")","v":""},{"$f":"IF(ISNUMBER(A65),FCT_Urbano_Dados!S66,\"\")","v":""}]
[{"$f":"IF(ISNUMBER(FCT_Urbano_Dados!A67),FCT_Urbano_Dados!A67,\"\")","v":""},{"$f":"IF(ISNUMBER($A66),IF(OR($N66=\"CD\",$N66=\"Transição\",$N66=\"n-1\",$N66=\"n\"),(FCT_Urbano_Dados!B67/FCT_Urbano_Dados!$H67)*($I66-$I65),(FCT_Urbano_Dados!B67/FCT_Urbano_Dados!$H67)*(1-UTILITYFACTOR(FCT_Urbano_Dados!$G$13))),\"\")","v":""},{"$f":"IF(ISNUMBER($A66),IF(OR($N66=\"CD\",$N66=\"Transição\",$N66=\"n-1\",$N66=\"n\"),(FCT_Urbano_Dados!C67/FCT_Urbano_Dados!$H67)*($I66-$I65),(FCT_Urbano_Dados!C67/FCT_Urbano_Dados!$H67)*(1-UTILITYFACTOR(FCT_Urbano_Dados!$G$13))),\"\")","v":""},{"$f":"IF(ISNUMBER($A66),IF(OR($N66=\"CD\",$N66=\"Transição\",$N66=\"n-1\",$N66=\"n\"),(FCT_Urbano_Dados!D67/FCT_Urbano_Dados!$H67)*($I66-$I65),(FCT_Urbano_Dados!D67/FCT_Urbano_Dados!$H67)*(1-UTILITYFACTOR(FCT_Urbano_Dados!$G$13))),\"\")","v":""},{"$f":"IF(ISNUMBER($A66),IF(OR($N66=\"CD\",$N66=\"Transição\",$N66=\"n-1\",$N66=\"n\"),(FCT_Urbano_Dados!E67/FCT_Urbano_Dados!$H67)*($I66-$I65),(FCT_Urbano_Dados!E67/FCT_Urbano_Dados!$H67)*(1-UTILITYFACTOR(FCT_Urbano_Dados!$G$13))),\"\")","v":""},{"$f":"IF(ISNUMBER($A66),IF(OR($N66=\"CD\",$N66=\"Transição\",$N66=\"n-1\",$N66=\"n\"),(FCT_Urbano_Dados!G67/FCT_Urbano_Dados!$H67)*($I66-$I65),(FCT_Urbano_Dados!G67/FCT_Urbano_Dados!$H67)*(1-UTILITYFACTOR(FCT_Urbano_Dados!$G$13))),\"\")","v":""},{"$f":"IFERROR(IF(OR($N66=\"CD\",$N66=\"Transição\",$N66=\"n-1\",$N66=\"n\"),'Emissões 6.2.2.1 Urbano'!G66*(I66-I65),'Emissões 6.2.2.1 Urbano'!G66),\"\")","v":""},{"$f":"IF(ISNUMBER(A66),IF(OR($N66=\"CD\",$N66=\"Transição\",$N66=\"n-1\",$N66=\"n\"),'Emissões 6.2.2.1 Urbano'!H66*(I66-I65),(1-UTILITYFACTOR(FCT_Urbano_Dados!$G$13))*'Emissões 6.2.2.1 Urbano'!H66),\"\")","v":""},{"$f":"IF(ISNUMBER(A66),UTILITYFACTOR(A66*dUrbano),\"\")","v":""},{"$f":"IFERROR(IF(ISNUMBER(A66),G66/FCT_Urbano_Dados!H67,\"\"),\"\")","v":""},{"$f":"IFERROR(IF(ISNUMBER(A66),H66/FCT_Urbano_Dados!H67,\"\"),\"\")","v":""},{"$f":"IF(ISNUMBER(A66),100*((J66*0.0036)/VLOOKUP(CST_Urbano!$C$7,Combustíveis,2,FALSE)),\"\")","v":""},{"$f":"IF(ISNUMBER(A66),IF(OR($N66=\"CD\",$N66=\"Transição\",$N66=\"n-1\",$N66=\"n\"),FCT_Urbano_Dados!P67*(I66-I65),(FCT_Urbano_Dados!P67)*(1-UTILITYFACTOR(FCT_Urbano_Dados!$G$13))),\"\")","v":""},{"$f":"IF(ISNUMBER(A66),FCT_Urbano_Dados!S67,\"\")","v":""}]
[{"$f":"IF(ISNUMBER(FCT_Urbano_Dados!A68),FCT_Urbano_Dados!A68,\"\")","v":""},{"$f":"IF(ISNUMBER($A67),IF(OR($N67=\"CD\",$N67=\"Transição\",$N67=\"n-1\",$N67=\"n\"),(FCT_Urbano_Dados!B68/FCT_Urbano_Dados!$H68)*($I67-$I66),(FCT_Urbano_Dados!B68/FCT_Urbano_Dados!$H68)*(1-UTILITYFACTOR(FCT_Urbano_Dados!$G$13))),\"\")","v":""},{"$f":"IF(ISNUMBER($A67),IF(OR($N67=\"CD\",$N67=\"Transição\",$N67=\"n-1\",$N67=\"n\"),(FCT_Urbano_Dados!C68/FCT_Urbano_Dados!$H68)*($I67-$I66),(FCT_Urbano_Dados!C68/FCT_Urbano_Dados!$H68)*(1-UTILITYFACTOR(FCT_Urbano_Dados!$G$13))),\"\")","v":""},{"$f":"IF(ISNUMBER($A67),IF(OR($N67=\"CD\",$N67=\"Transição\",$N67=\"n-1\",$N67=\"n\"),(FCT_Urbano_Dados!D68/FCT_Urbano_Dados!$H68)*($I67-$I66),(FCT_Urbano_Dados!D68/FCT_Urbano_Dados!$H68)*(1-UTILITYFACTOR(FCT_Urbano_Dados!$G$13))),\"\")","v":""},{"$f":"IF(ISNUMBER($A67),IF(OR($N67=\"CD\",$N67=\"Transição\",$N67=\"n-1\",$N67=\"n\"),(FCT_Urbano_Dados!E68/FCT_Urbano_Dados!$H68)*($I67-$I66),(FCT_Urbano_Dados!E68/FCT_Urbano_Dados!$H68)*(1-UTILITYFACTOR(FCT_Urbano_Dados!$G$13))),\"\")","v":""},{"$f":"IF(ISNUMBER($A67),IF(OR($N67=\"CD\",$N67=\"Transição\",$N67=\"n-1\",$N67=\"n\"),(FCT_Urbano_Dados!G68/FCT_Urbano_Dados!$H68)*($I67-$I66),(FCT_Urbano_Dados!G68/FCT_Urbano_Dados!$H68)*(1-UTILITYFACTOR(FCT_Urbano_Dados!$G$13))),\"\")","v":""},{"$f":"IFERROR(IF(OR($N67=\"CD\",$N67=\"Transição\",$N67=\"n-1\",$N67=\"n\"),'Emissões 6.2.2.1 Urbano'!G67*(I67-I66),'Emissões 6.2.2.1 Urbano'!G67),\"\")","v":""},{"$f":"IF(ISNUMBER(A67),IF(OR($N67=\"CD\",$N67=\"Transição\",$N67=\"n-1\",$N67=\"n\"),'Emissões 6.2.2.1 Urbano'!H67*(I67-I66),(1-UTILITYFACTOR(FCT_Urbano_Dados!$G$13))*'Emissões 6.2.2.1 Urbano'!H67),\"\")","v":""},{"$f":"IF(ISNUMBER(A67),UTILITYFACTOR(A67*dUrbano),\"\")","v":""},{"$f":"IFERROR(IF(ISNUMBER(A67),G67/FCT_Urbano_Dados!H68,\"\"),\"\")","v":""},{"$f":"IFERROR(IF(ISNUMBER(A67),H67/FCT_Urbano_Dados!H68,\"\"),\"\")","v":""},{"$f":"IF(ISNUMBER(A67),100*((J67*0.0036)/VLOOKUP(CST_Urbano!$C$7,Combustíveis,2,FALSE)),\"\")","v":""},{"$f":"IF(ISNUMBER(A67),IF(OR($N67=\"CD\",$N67=\"Transição\",$N67=\"n-1\",$N67=\"n\"),FCT_Urbano_Dados!P68*(I67-I66),(FCT_Urbano_Dados!P68)*(1-UTILITYFACTOR(FCT_Urbano_Dados!$G$13))),\"\")","v":""},{"$f":"IF(ISNUMBER(A67),FCT_Urbano_Dados!S68,\"\")","v":""}]
[{"$f":"IF(ISNUMBER(FCT_Urbano_Dados!A69),FCT_Urbano_Dados!A69,\"\")","v":""},{"$f":"IF(ISNUMBER($A68),IF(OR($N68=\"CD\",$N68=\"Transição\",$N68=\"n-1\",$N68=\"n\"),(FCT_Urbano_Dados!B69/FCT_Urbano_Dados!$H69)*($I68-$I67),(FCT_Urbano_Dados!B69/FCT_Urbano_Dados!$H69)*(1-UTILITYFACTOR(FCT_Urbano_Dados!$G$13))),\"\")","v":""},{"$f":"IF(ISNUMBER($A68),IF(OR($N68=\"CD\",$N68=\"Transição\",$N68=\"n-1\",$N68=\"n\"),(FCT_Urbano_Dados!C69/FCT_Urbano_Dados!$H69)*($I68-$I67),(FCT_Urbano_Dados!C69/FCT_Urbano_Dados!$H69)*(1-UTILITYFACTOR(FCT_Urbano_Dados!$G$13))),\"\")","v":""},{"$f":"IF(ISNUMBER($A68),IF(OR($N68=\"CD\",$N68=\"Transição\",$N68=\"n-1\",$N68=\"n\"),(FCT_Urbano_Dados!D69/FCT_Urbano_Dados!$H69)*($I68-$I67),(FCT_Urbano_Dados!D69/FCT_Urbano_Dados!$H69)*(1-UTILITYFACTOR(FCT_Urbano_Dados!$G$13))),\"\")","v":""},{"$f":"IF(ISNUMBER($A68),IF(OR($N68=\"CD\",$N68=\"Transição\",$N68=\"n-1\",$N68=\"n\"),(FCT_Urbano_Dados!E69/FCT_Urbano_Dados!$H69)*($I68-$I67),(FCT_Urbano_Dados!E69/FCT_Urbano_Dados!$H69)*(1-UTILITYFACTOR(FCT_Urbano_Dados!$G$13))),\"\")","v":""},{"$f":"IF(ISNUMBER($A68),IF(OR($N68=\"CD\",$N68=\"Transição\",$N68=\"n-1\",$N68=\"n\"),(FCT_Urbano_Dados!G69/FCT_Urbano_Dados!$H69)*($I68-$I67),(FCT_Urbano_Dados!G69/FCT_Urbano_Dados!$H69)*(1-UTILITYFACTOR(FCT_Urbano_Dados!$G$13))),\"\")","v":""},{"$f":"IFERROR(IF(OR($N68=\"CD\",$N68=\"Transição\",$N68=\"n-1\",$N68=\"n\"),'Emissões 6.2.2.1 Urbano'!G68*(I68-I67),'Emissões 6.2.2.1 Urbano'!G68),\"\")","v":""},{"$f":"IF(ISNUMBER(A68),IF(OR($N68=\"CD\",$N68=\"Transição\",$N68=\"n-1\",$N68=\"n\"),'Emissões 6.2.2.1 Urbano'!H68*(I68-I67),(1-UTILITYFACTOR(FCT_Urbano_Dados!$G$13))*'Emissões 6.2.2.1 Urbano'!H68),\"\")","v":""},{"$f":"IF(ISNUMBER(A68),UTILITYFACTOR(A68*dUrbano),\"\")","v":""},{"$f":"IFERROR(IF(ISNUMBER(A68),G68/FCT_Urbano_Dados!H69,\"\"),\"\")","v":""},{"$f":"IFERROR(IF(ISNUMBER(A68),H68/FCT_Urbano_Dados!H69,\"\"),\"\")","v":""},{"$f":"IF(ISNUMBER(A68),100*((J68*0.0036)/VLOOKUP(CST_Urbano!$C$7,Combustíveis,2,FALSE)),\"\")","v":""},{"$f":"IF(ISNUMBER(A68),IF(OR($N68=\"CD\",$N68=\"Transição\",$N68=\"n-1\",$N68=\"n\"),FCT_Urbano_Dados!P69*(I68-I67),(FCT_Urbano_Dados!P69)*(1-UTILITYFACTOR(FCT_Urbano_Dados!$G$13))),\"\")","v":""},{"$f":"IF(ISNUMBER(A68),FCT_Urbano_Dados!S69,\"\")","v":""}]
[{"$f":"IF(ISNUMBER(FCT_Urbano_Dados!A70),FCT_Urbano_Dados!A70,\"\")","v":""},{"$f":"IF(ISNUMBER($A69),IF(OR($N69=\"CD\",$N69=\"Transição\",$N69=\"n-1\",$N69=\"n\"),(FCT_Urbano_Dados!B70/FCT_Urbano_Dados!$H70)*($I69-$I68),(FCT_Urbano_Dados!B70/FCT_Urbano_Dados!$H70)*(1-UTILITYFACTOR(FCT_Urbano_Dados!$G$13))),\"\")","v":""},{"$f":"IF(ISNUMBER($A69),IF(OR($N69=\"CD\",$N69=\"Transição\",$N69=\"n-1\",$N69=\"n\"),(FCT_Urbano_Dados!C70/FCT_Urbano_Dados!$H70)*($I69-$I68),(FCT_Urbano_Dados!C70/FCT_Urbano_Dados!$H70)*(1-UTILITYFACTOR(FCT_Urbano_Dados!$G$13))),\"\")","v":""},{"$f":"IF(ISNUMBER($A69),IF(OR($N69=\"CD\",$N69=\"Transição\",$N69=\"n-1\",$N69=\"n\"),(FCT_Urbano_Dados!D70/FCT_Urbano_Dados!$H70)*($I69-$I68),(FCT_Urbano_Dados!D70/FCT_Urbano_Dados!$H70)*(1-UTILITYFACTOR(FCT_Urbano_Dados!$G$13))),\"\")","v":""},{"$f":"IF(ISNUMBER($A69),IF(OR($N69=\"CD\",$N69=\"Transição\",$N69=\"n-1\",$N69=\"n\"),(FCT_Urbano_Dados!E70/FCT_Urbano_Dados!$H70)*($I69-$I68),(FCT_Urbano_Dados!E70/FCT_Urbano_Dados!$H70)*(1-UTILITYFACTOR(FCT_Urbano_Dados!$G$13))),\"\")","v":""},{"$f":"IF(ISNUMBER($A69),IF(OR($N69=\"CD\",$N69=\"Transição\",$N69=\"n-1\",$N69=\"n\"),(FCT_Urbano_Dados!G70/FCT_Urbano_Dados!$H70)*($I69-$I68),(FCT_Urbano_Dados!G70/FCT_Urbano_Dados!$H70)*(1-UTILITYFACTOR(FCT_Urbano_Dados!$G$13))),\"\")","v":""},{"$f":"IFERROR(IF(OR($N69=\"CD\",$N69=\"Transição\",$N69=\"n-1\",$N69=\"n\"),'Emissões 6.2.2.1 Urbano'!G69*(I69-I68),'Emissões 6.2.2.1 Urbano'!G69),\"\")","v":""},{"$f":"IF(ISNUMBER(A69),IF(OR($N69=\"CD\",$N69=\"Transição\",$N69=\"n-1\",$N69=\"n\"),'Emissões 6.2.2.1 Urbano'!H69*(I69-I68),(1-UTILITYFACTOR(FCT_Urbano_Dados!$G$13))*'Emissões 6.2.2.1 Urbano'!H69),\"\")","v":""},{"$f":"IF(ISNUMBER(A69),UTILITYFACTOR(A69*dUrbano),\"\")","v":""},{"$f":"IFERROR(IF(ISNUMBER(A69),G69/FCT_Urbano_Dados!H70,\"\"),\"\")","v":""},{"$f":"IFERROR(IF(ISNUMBER(A69),H69/FCT_Urbano_Dados!H70,\"\"),\"\")","v":""},{"$f":"IF(ISNUMBER(A69),100*((J69*0.0036)/VLOOKUP(CST_Urbano!$C$7,Combustíveis,2,FALSE)),\"\")","v":""},{"$f":"IF(ISNUMBER(A69),IF(OR($N69=\"CD\",$N69=\"Transição\",$N69=\"n-1\",$N69=\"n\"),FCT_Urbano_Dados!P70*(I69-I68),(FCT_Urbano_Dados!P70)*(1-UTILITYFACTOR(FCT_Urbano_Dados!$G$13))),\"\")","v":""},{"$f":"IF(ISNUMBER(A69),FCT_Urbano_Dados!S70,\"\")","v":""}]
[{"$f":"IF(ISNUMBER(FCT_Urbano_Dados!A71),FCT_Urbano_Dados!A71,\"\")","v":""},{"$f":"IF(ISNUMBER($A70),IF(OR($N70=\"CD\",$N70=\"Transição\",$N70=\"n-1\",$N70=\"n\"),(FCT_Urbano_Dados!B71/FCT_Urbano_Dados!$H71)*($I70-$I69),(FCT_Urbano_Dados!B71/FCT_Urbano_Dados!$H71)*(1-UTILITYFACTOR(FCT_Urbano_Dados!$G$13))),\"\")","v":""},{"$f":"IF(ISNUMBER($A70),IF(OR($N70=\"CD\",$N70=\"Transição\",$N70=\"n-1\",$N70=\"n\"),(FCT_Urbano_Dados!C71/FCT_Urbano_Dados!$H71)*($I70-$I69),(FCT_Urbano_Dados!C71/FCT_Urbano_Dados!$H71)*(1-UTILITYFACTOR(FCT_Urbano_Dados!$G$13))),\"\")","v":""},{"$f":"IF(ISNUMBER($A70),IF(OR($N70=\"CD\",$N70=\"Transição\",$N70=\"n-1\",$N70=\"n\"),(FCT_Urbano_Dados!D71/FCT_Urbano_Dados!$H71)*($I70-$I69),(FCT_Urbano_Dados!D71/FCT_Urbano_Dados!$H71)*(1-UTILITYFACTOR(FCT_Urbano_Dados!$G$13))),\"\")","v":""},{"$f":"IF(ISNUMBER($A70),IF(OR($N70=\"CD\",$N70=\"Transição\",$N70=\"n-1\",$N70=\"n\"),(FCT_Urbano_Dados!E71/FCT_Urbano_Dados!$H71)*($I70-$I69),(FCT_Urbano_Dados!E71/FCT_Urbano_Dados!$H71)*(1-UTILITYFACTOR(FCT_Urbano_Dados!$G$13))),\"\")","v":""},{"$f":"IF(ISNUMBER($A70),IF(OR($N70=\"CD\",$N70=\"Transição\",$N70=\"n-1\",$N70=\"n\"),(FCT_Urbano_Dados!G71/FCT_Urbano_Dados!$H71)*($I70-$I69),(FCT_Urbano_Dados!G71/FCT_Urbano_Dados!$H71)*(1-UTILITYFACTOR(FCT_Urbano_Dados!$G$13))),\"\")","v":""},{"$f":"IFERROR(IF(OR($N70=\"CD\",$N70=\"Transição\",$N70=\"n-1\",$N70=\"n\"),'Emissões 6.2.2.1 Urbano'!G70*(I70-I69),'Emissões 6.2.2.1 Urbano'!G70),\"\")","v":""},{"$f":"IF(ISNUMBER(A70),IF(OR($N70=\"CD\",$N70=\"Transição\",$N70=\"n-1\",$N70=\"n\"),'Emissões 6.2.2.1 Urbano'!H70*(I70-I69),(1-UTILITYFACTOR(FCT_Urbano_Dados!$G$13))*'Emissões 6.2.2.1 Urbano'!H70),\"\")","v":""},{"$f":"IF(ISNUMBER(A70),UTILITYFACTOR(A70*dUrbano),\"\")","v":""},{"$f":"IFERROR(IF(ISNUMBER(A70),G70/FCT_Urbano_Dados!H71,\"\"),\"\")","v":""},{"$f":"IFERROR(IF(ISNUMBER(A70),H70/FCT_Urbano_Dados!H71,\"\"),\"\")","v":""},{"$f":"IF(ISNUMBER(A70),100*((J70*0.0036)/VLOOKUP(CST_Urbano!$C$7,Combustíveis,2,FALSE)),\"\")","v":""},{"$f":"IF(ISNUMBER(A70),IF(OR($N70=\"CD\",$N70=\"Transição\",$N70=\"n-1\",$N70=\"n\"),FCT_Urbano_Dados!P71*(I70-I69),(FCT_Urbano_Dados!P71)*(1-UTILITYFACTOR(FCT_Urbano_Dados!$G$13))),\"\")","v":""},{"$f":"IF(ISNUMBER(A70),FCT_Urbano_Dados!S71,\"\")","v":""}]

{"sheet":"FCT_Estrada_Dados","index":5,"n_rows":71,"n_cols":19,"rows_kept":71,"cut":false,"hidden":false,"merged":[[0,1,0,18],[1,1,1,18],[2,1,2,18],[3,0,3,18],[4,0,4,1],[4,2,4,3],[4,4,4,5],[4,6,4,7],[5,0,5,1],[5,2,5,3],[5,4,5,5],[5,6,5,7],[6,0,6,1],[6,2,6,3],[6,4,6,5],[6,6,6,7],[8,0,8,13],[9,0,9,1],[9,2,9,4],[9,6,9,7],[9,9,9,10],[9,11,9,12],[14,0,14,13],[14,14,14,18],[11,0,11,18],[12,4,12,5],[12,6,12,7],[12,9,12,10],[12,11,12,12],[12,14,12,18]]}
[null,"Cálculos de veículos híbridos"]
[null,"Dados dos ensaios em redução de carga no ciclo estrada"]
[null,"    Versão 8"]
["Dados do veículo e do ensaio"]
["id do veículo",null,{"$f":"IF(ISBLANK(CST_Urbano!C5),\"\",CST_Urbano!C5)","v":""},null,"Capacidade do RESS",null,{"$f":"IF(ISBLANK(CST_Urbano!G5),\"\",CST_Urbano!G5)","v":""},null,"Ah"]
["nº do processo",null,{"$f":"IF(ISBLANK(CST_Urbano!C6),\"\",CST_Urbano!C6)","v":""},null,"Vsist1",null,{"$f":"IF(ISBLANK(CST_Urbano!G6),\"\",CST_Urbano!G6)","v":""},null,"V"]
["Combustível do ensaio",null,{"$f":"IF(ISBLANK(CST_Urbano!C7),\"\",CST_Urbano!C7)","v":""},null,"Vsist2",null,{"$f":"IF(ISBLANK(CST_Urbano!G7),\"\",CST_Urbano!G7)","v":""},null,"V"]
[]
["Dados Complementares do FCT"]
["Critério EOT",null,null,null,null,"EAC total",null,null,"Wh","AER",null,null,null,"km"]
[]
["Cálculos intermediários no regime de redução de carga"]
["n",{"$f":"SUMIF(S18:S71,\"n\",A18:A71)","v":0},"Zn",null,"RCDC:",null,null,null,"km","RCDA:",null,null,null,"km"]
[]
["Dados de emissão mássica, distâncias e balanço de carga do FCT estrada",null,null,null,null,null,null,null,null,null,null,null,null,null,"Verificação de EOT"]
["Nº Ciclo","Y(g/ciclo)","Y(g/ciclo)","Y(g/ciclo)","Y(g/ciclo)","Y(g/ciclo)","Y(g/ciclo)","D","Vinicial","Vfinal","ΔSOC","SOCinicial","SOCfinal","SOCfinal","EDCi","Consumo","Etc","NEC","Tipo de"]
[null,"CO","HC","NOx","CO2","CH4","NMHC","(km)","(V)","(V)","(Ah)","(Ah)","(Ah)","(%)","(Wh)","(l/100km)","(J)","(J)","ciclo"]
[{"$f":"IF(OR(ISBLANK(B18),ISBLANK(C18),ISBLANK(D18),ISBLANK(E18),ISBLANK(F18),ISBLANK(G18),ISBLANK(H18),ISBLANK(I18),ISBLANK(J18),ISBLANK(K18),ISBLANK(G5)),\"\",1)","v":""},null,null,null,null,null,null,null,null,null,null,{"$f":"IF(ISBLANK(G5),\"\",IF(ISNUMBER(A18),G5,\"\"))","v":""},{"$f":"IF(ISBLANK(K18),\"\",IFERROR(L18+K18,\"\"))","v":""},{"$f":"IF(ISNUMBER(A18),IFERROR((M18*100)/$G$5,\"\"),\"\")","v":""},{"$f":"IFERROR(K18*AVERAGE(I18:J18),\"\")","v":""},{"$f":"IFERROR(IF($C$7=\"Diesel\",((0.8656*C18/H18)+(0.4288*B18/H18)+(0.2729*E18/H18))*(0.1155/0.83),((0.8656*C18/H18)+(0.4288*B18/H18)+(0.2729*E18/H18))*(100/((6.4487*VLOOKUP($C$7,Combustíveis,4,FALSE))+(4.1102*VLOOKUP($C$7,Combustíveis,3,FALSE))))),\"\")","v":""},{"$f":"IFERROR(((H18*P18*VLOOKUP($C$7,Combustíveis,6,FALSE))/100)*(VLOOKUP($C$7,Combustíveis,5,FALSE)*1000000),\"\")","v":""},{"$f":"IF(ISNUMBER(A18),0,\"\")","v":""}]
[{"$f":"IF(OR(ISBLANK(B19),ISBLANK(C19),ISBLANK(D19),ISBLANK(E19),ISBLANK(F19),ISBLANK(G19),ISBLANK(H19),ISBLANK(I19),ISBLANK(J19),ISBLANK(K19)),\"\",IFERROR(A18+1,\"\"))","v":""},null,null,null,null,null,null,null,null,null,null,{"$f":"IF(OR(ISBLANK(M18),ISBLANK(K19)),\"\",IFERROR(M18,\"\"))","v":""},{"$f":"IF(ISBLANK(K19),\"\",IFERROR(L19+K19,\"\"))","v":""},{"$f":"IF(ISNUMBER(A19),IFERROR((M19*100)/$G$5,\"\"),\"\")","v":""},"","","",{"$f":"IF(ISNUMBER(A19),IFERROR(IF($C$10=\"Consumo de Combustível\",0.01*Q19,IF($C$10=\"Consumo de Combustível no CST\",0.01*CST_Estrada!$B$28,IF($C$10=\"Base ΔSOC\",ABS(SUM($K$18:K19))*0.02*3600*$G$6,\"\"))),\"\"),\"\")","v":""}]
[{"$f":"IF(OR(ISBLANK(B20),ISBLANK(C20),ISBLANK(D20),ISBLANK(E20),ISBLANK(F20),ISBLANK(G20),ISBLANK(H20),ISBLANK(I20),ISBLANK(J20),ISBLANK(K20)),\"\",IFERROR(A19+1,\"\"))","v":""},null,null,null,null,null,null,null,null,null,null,{"$f":"IF(OR(ISBLANK(M19),ISBLANK(K20)),\"\",IFERROR(M19,\"\"))","v":""},{"$f":"IF(ISBLANK(K20),\"\",IFERROR(L20+K20,\"\"))","v":""},"","","","",{"$f":"IF(ISNUMBER(A20),IFERROR(IF($C$10=\"Consumo de Combustível\",0.01*Q20,IF($C$10=\"Consumo de Combustível no CST\",0.01*CST_Estrada!$B$28,IF($C$10=\"Base ΔSOC\",ABS(SUM($K$18:K20))*0.02*3600*$G$6,\"\"))),\"\"),\"\")","v":""}]
["",null,null,null,null,null,null,null,null,null,null,"","","","","","",{"$f":"IF(ISNUMBER(A21),IFERROR(IF($C$10=\"Consumo de Combustível\",0.01*Q21,IF($C$10=\"Consumo de Combustível no CST\",0.01*CST_Estrada!$B$28,IF($C$10=\"Base ΔSOC\",ABS(SUM($K$18:K21))*0.02*3600*$G$6,\"\"))),\"\"),\"\")","v":""}]
["",null,null,null,null,null,null,null,null,null,null,"","","","","","",{"$f":"IF(ISNUMBER(A22),IFERROR(IF($C$10=\"Consumo de Combustível\",0.01*Q22,IF($C$10=\"Consumo de Combustível no CST\",0.01*CST_Estrada!$B$28,IF($C$10=\"Base ΔSOC\",ABS(SUM($K$18:K22))*0.02*3600*$G$6,\"\"))),\"\"),\"\")","v":""}]
["",null,null,null,null,null,null,null,null,null,null,"","","","","","",{"$f":"IF(ISNUMBER(A23),IFERROR(IF($C$10=\"Consumo de Combustível\",0.01*Q23,IF($C$10=\"Consumo de Combustível no CST\",0.01*CST_Estrada!$B$28,IF($C$10=\"Base ΔSOC\",ABS(SUM($K$18:K23))*0.02*3600*$G$6,\"\"))),\"\"),\"\")","v":""}]
["",null,null,null,null,null,null,null,null,null,null,"","","","","","",{"$f":"IF(ISNUMBER(A24),IFERROR(IF($C$10=\"Consumo de Combustível\",0.01*Q24,IF($C$10=\"Consumo de Combustível no CST\",0.01*CST_Estrada!$B$28,IF($C$10=\"Base ΔSOC\",ABS(SUM($K$18:K24))*0.02*3600*$G$6,\"\"))),\"\"),\"\")","v":""}]
["",null,null,null,null,null,null,null,null,null,null,"","","","","","",{"$f":"IF(ISNUMBER(A25),IFERROR(IF($C$10=\"Consumo de Combustível\",0.01*Q25,IF($C$10=\"Consumo de Combustível no CST\",0.01*CST_Estrada!$B$28,IF($C$10=\"Base ΔSOC\",ABS(SUM($K$18:K25))*0.02*3600*$G$6,\"\"))),\"\"),\"\")","v":""}]
["",null,null,null,null,null,null,null,null,null,null,"","","","","","",{"$f":"IF(ISNUMBER(A26),IFERROR(IF($C$10=\"Consumo de Combustível\",0.01*Q26,IF($C$10=\"Consumo de Combustível no CST\",0.01*CST_Estrada!$B$28,IF($C$10=\"Base ΔSOC\",ABS(SUM($K$18:K26))*0.02*3600*$G$6,\"\"))),\"\"),\"\")","v":""}]
["",null,null,null,null,null,null,null,null,null,null,"","","","","","",{"$f":"IF(ISNUMBER(A27),IFERROR(IF($C$10=\"Consumo de Combustível\",0.01*Q27,IF($C$10=\"Consumo de Combustível no CST\",0.01*CST_Estrada!$B$28,IF($C$10=\"Base ΔSOC\",ABS(SUM($K$18:K27))*0.02*3600*$G$6,\"\"))),\"\"),\"\")","v":""}]
["",null,null,null,null,null,null,null,null,null,null,"","","","","","",{"$f":"IF(ISNUMBER(A28),IFERROR(IF($C$10=\"Consumo de Combustível\",0.01*Q28,IF($C$10=\"Consumo de Combustível no CST\",0.01*CST_Estrada!$B$28,IF($C$10=\"Base ΔSOC\",ABS(SUM($K$18:K28))*0.02*3600*$G$6,\"\"))),\"\"),\"\")","v":""}]
["",null,null,null,null,null,null,null,null,null,null,"","","","","","",{"$f":"IF(ISNUMBER(A29),IFERROR(IF($C$10=\"Consumo de Combustível\",0.01*Q29,IF($C$10=\"Consumo de Combustível no CST\",0.01*CST_Estrada!$B$28,IF($C$10=\"Base ΔSOC\",ABS(SUM($K$18:K29))*0.02*3600*$G$6,\"\"))),\"\"),\"\")","v":""}]
["",null,null,null,null,null,null,null,null,null,null,"","","","","","",{"$f":"IF(ISNUMBER(A30),IFERROR(IF($C$10=\"Consumo de Combustível\",0.01*Q30,IF($C$10=\"Consumo de Combustível no CST\",0.01*CST_Estrada!$B$28,IF($C$10=\"Base ΔSOC\",ABS(SUM($K$18:K30))*0.02*3600*$G$6,\"\"))),\"\"),\"\")","v":""}]
["",null,null,null,null,null,null,null,null,null,null,"","","","","","",{"$f":"IF(ISNUMBER(A31),IFERROR(IF($C$10=\"Consumo de Combustível\",0.01*Q31,IF($C$10=\"Consumo de Combustível no CST\",0.01*CST_Estrada!$B$28,IF($C$10=\"Base ΔSOC\",ABS(SUM($K$18:K31))*0.02*3600*$G$6,\"\"))),\"\"),\"\")","v":""}]
["",null,null,null,null,null,null,null,null,null,null,"","","","","","",{"$f":"IF(ISNUMBER(A32),IFERROR(IF($C$10=\"Consumo de Combustível\",0.01*Q32,IF($C$10=\"Consumo de Combustível no CST\",0.01*CST_Estrada!$B$28,IF($C$10=\"Base ΔSOC\",ABS(SUM($K$18:K32))*0.02*3600*$G$6,\"\"))),\"\"),\"\")","v":""}]
["",null,null,null,null,null,null,null,null,null,null,"","","","","","",{"$f":"IF(ISNUMBER(A33),IFERROR(IF($C$10=\"Consumo de Combustível\",0.01*Q33,IF($C$10=\"Consumo de Combustível no CST\",0.01*CST_Estrada!$B$28,IF($C$10=\"Base ΔSOC\",ABS(SUM($K$18:K33))*0.02*3600*$G$6,\"\"))),\"\"),\"\")","v":""}]
["",null,null,null,null,null,null,null,null,null,null,"","","","","","",{"$f":"IF(ISNUMBER(A34),IFERROR(IF($C$10=\"Consumo de Combustível\",0.01*Q34,IF($C$10=\"Consumo de Combustível no CST\",0.01*CST_Estrada!$B$28,IF($C$10=\"Base ΔSOC\",ABS(SUM($K$18:K34))*0.02*3600*$G$6,\"\"))),\"\"),\"\")","v":""}]
["",null,null,null,null,null,null,null,null,null,null,"","","","","","",{"$f":"IF(ISNUMBER(A35),IFERROR(IF($C$10=\"Consumo de Combustível\",0.01*Q35,IF($C$10=\"Consumo de Combustível no CST\",0.01*CST_Estrada!$B$28,IF($C$10=\"Base ΔSOC\",ABS(SUM($K$18:K35))*0.02*3600*$G$6,\"\"))),\"\"),\"\")","v":""}]
["",null,null,null,null,null,null,null,null,null,null,"","","","","","",{"$f":"IF(ISNUMBER(A36),IFERROR(IF($C$10=\"Consumo de Combustível\",0.01*Q36,IF($C$10=\"Consumo de Combustível no CST\",0.01*CST_Estrada!$B$28,IF($C$10=\"Base ΔSOC\",ABS(SUM($K$18:K36))*0.02*3600*$G$6,\"\"))),\"\"),\"\")","v":""}]
["",null,null,null,null,null,null,null,null,null,null,"","","","","","",{"$f":"IF(ISNUMBER(A37),IFERROR(IF($C$10=\"Consumo de Combustível\",0.01*Q37,IF($C$10=\"Consumo de Combustível no CST\",0.01*CST_Estrada!$B$28,IF($C$10=\"Base ΔSOC\",ABS(SUM($K$18:K37))*0.02*3600*$G$6,\"\"))),\"\"),\"\")","v":""}]
["",null,null,null,null,null,null,null,null,null,null,"","","","","","",{"$f":"IF(ISNUMBER(A38),IFERROR(IF($C$10=\"Consumo de Combustível\",0.01*Q38,IF($C$10=\"Consumo de Combustível no CST\",0.01*CST_Estrada!$B$28,IF($C$10=\"Base ΔSOC\",ABS(SUM($K$18:K38))*0.02*3600*$G$6,\"\"))),\"\"),\"\")","v":""}]
["",null,null,null,null,null,null,null,null,null,null,"","","","","","",{"$f":"IF(ISNUMBER(A39),IFERROR(IF($C$10=\"Consumo de Combustível\",0.01*Q39,IF($C$10=\"Consumo de Combustível no CST\",0.01*CST_Estrada!$B$28,IF($C$10=\"Base ΔSOC\",ABS(SUM($K$18:K39))*0.02*3600*$G$6,\"\"))),\"\"),\"\")","v":""}]
["",null,null,null,null,null,null,null,null,null,null,"","","","","","",{"$f":"IF(ISNUMBER(A40),IFERROR(IF($C$10=\"Consumo de Combustível\",0.01*Q40,IF($C$10=\"Consumo de Combustível no CST\",0.01*CST_Estrada!$B$28,IF($C$10=\"Base ΔSOC\",ABS(SUM($K$18:K40))*0.02*3600*$G$6,\"\"))),\"\"),\"\")","v":""}]
["",null,null,null,null,null,null,null,null,null,null,"","","","","","",{"$f":"IF(ISNUMBER(A41),IFERROR(IF($C$10=\"Consumo de Combustível\",0.01*Q41,IF($C$10=\"Consumo de Combustível no CST\",0.01*CST_Estrada!$B$28,IF($C$10=\"Base ΔSOC\",ABS(SUM($K$18:K41))*0.02*3600*$G$6,\"\"))),\"\"),\"\")","v":""}]
["",null,null,null,null,null,null,null,null,null,null,"","","","","","",{"$f":"IF(ISNUMBER(A42),IFERROR(IF($C$10=\"Consumo de Combustível\",0.01*Q42,IF($C$10=\"Consumo de Combustível no CST\",0.01*CST_Estrada!$B$28,IF($C$10=\"Base ΔSOC\",ABS(SUM($K$18:K42))*0.02*3600*$G$6,\"\"))),\"\"),\"\")","v":""}]
["",null,null,null,null,null,null,null,null,null,null,"","","","","","",{"$f":"IF(ISNUMBER(A43),IFERROR(IF($C$10=\"Consumo de Combustível\",0.01*Q43,IF($C$10=\"Consumo de Combustível no CST\",0.01*CST_Estrada!$B$28,IF($C$10=\"Base ΔSOC\",ABS(SUM($K$18:K43))*0.02*3600*$G$6,\"\"))),\"\"),\"\")","v":""}]
["",null,null,null,null,null,null,null,null,null,null,"","","","","","",{"$f":"IF(ISNUMBER(A44),IFERROR(IF($C$10=\"Consumo de Combustível\",0.01*Q44,IF($C$10=\"Consumo de Combustível no CST\",0.01*CST_Estrada!$B$28,IF($C$10=\"Base ΔSOC\",ABS(SUM($K$18:K44))*0.02*3600*$G$6,\"\"))),\"\"),\"\")","v":""}]
["",null,null,null,null,null,null,null,null,null,null,"","","","","","",{"$f":"IF(ISNUMBER(A45),IFERROR(IF($C$10=\"Consumo de Combustível\",0.01*Q45,IF($C$10=\"Consumo de Combustível no CST\",0.01*CST_Estrada!$B$28,IF($C$10=\"Base ΔSOC\",ABS(SUM($K$18:K45))*0.02*3600*$G$6,\"\"))),\"\"),\"\")","v":""}]
["",null,null,null,null,null,null,null,null,null,null,"","","","","","",{"$f":"IF(ISNUMBER(A46),IFERROR(IF($C$10=\"Consumo de Combustível\",0.01*Q46,IF($C$10=\"Consumo de Combustível no CST\",0.01*CST_Estrada!$B$28,IF($C$10=\"Base ΔSOC\",ABS(SUM($K$18:K46))*0.02*3600*$G$6,\"\"))),\"\"),\"\")","v":""}]
["",null,null,null,null,null,null,null,null,null,null,"","","","","","",{"$f":"IF(ISNUMBER(A47),IFERROR(IF($C$10=\"Consumo de Combustível\",0.01*Q47,IF($C$10=\"Consumo de Combustível no CST\",0.01*CST_Estrada!$B$28,IF($C$10=\"Base ΔSOC\",ABS(SUM($K$18:K47))*0.02*3600*$G$6,\"\"))),\"\"),\"\")","v":""}]
["",null,null,null,null,null,null,null,null,null,null,"","","","","","",{"$f":"IF(ISNUMBER(A48),IFERROR(IF($C$10=\"Consumo de Combustível\",0.01*Q48,IF($C$10=\"Consumo de Combustível no CST\",0.01*CST_Estrada!$B$28,IF($C$10=\"Base ΔSOC\",ABS(SUM($K$18:K48))*0.02*3600*$G$6,\"\"))),\"\"),\"\")","v":""}]
["",null,null,null,null,null,null,null,null,null,null,"","","","","","",{"$f":"IF(ISNUMBER(A49),IFERROR(IF($C$10=\"Consumo de Combustível\",0.01*Q49,IF($C$10=\"Consumo de Combustível no CST\",0.01*CST_Estrada!$B$28,IF($C$10=\"Base ΔSOC\",ABS(SUM($K$18:K49))*0.02*3600*$G$6,\"\"))),\"\"),\"\")","v":""}]
["",null,null,null,null,null,null,null,null,null,null,"","","","",{"$f":"IFERROR(IF($C$7=\"Diesel\",((0.8656*C50/H50)+(0.4288*B50/H50)+(0.2729*E50/H50))*(0.1155/0.83),((0.8656*C50/H50)+(0.4288*B50/H50)+(0.2729*E50/H50))*(100/((6.4487*VLOOKUP($C$7,Combustíveis,4,FALSE))+(4.1102*VLOOKUP($C$7,Combustíveis,3,FALSE))))),\"\")","v":""},{"$f":"IFERROR(((H50*P50*VLOOKUP($C$7,Combustíveis,6,FALSE))/100)*(VLOOKUP($C$7,Combustíveis,5,FALSE)*1000000),\"\")","v":""},{"$f":"IF(ISNUMBER(A50),IFERROR(IF($C$10=\"Consumo de Combustível\",0.01*Q50,IF($C$10=\"Consumo de Combustível no CST\",0.01*CST_Estrada!$B$28,IF($C$10=\"Base ΔSOC\",ABS(SUM($K$18:K50))*0.02*3600*$G$6,\"\"))),\"\"),\"\")","v":""}]
["",null,null,null,null,null,null,null,null,null,null,"","","","","","",{"$f":"IF(ISNUMBER(A51),IFERROR(IF($C$10=\"Consumo de Combustível\",0.01*Q51,IF($C$10=\"Consumo de Combustível no CST\",0.01*CST_Estrada!$B$28,IF($C$10=\"Base ΔSOC\",ABS(SUM($K$18:K51))*0.02*3600*$G$6,\"\"))),\"\"),\"\")","v":""}]
["",null,null,null,null,null,null,null,null,null,null,"","","","","","",{"$f":"IF(ISNUMBER(A52),IFERROR(IF($C$10=\"Consumo de Combustível\",0.01*Q52,IF($C$10=\"Consumo de Combustível no CST\",0.01*CST_Estrada!$B$28,IF($C$10=\"Base ΔSOC\",ABS(SUM($K$18:K52))*0.02*3600*$G$6,\"\"))),\"\"),\"\")","v":""}]
["",null,null,null,null,null,null,null,null,null,null,"","","","","","",{"$f":"IF(ISNUMBER(A53),IFERROR(IF($C$10=\"Consumo de Combustível\",0.01*Q53,IF($C$10=\"Consumo de Combustível no CST\",0.01*CST_Estrada!$B$28,IF($C$10=\"Base ΔSOC\",ABS(SUM($K$18:K53))*0.02*3600*$G$6,\"\"))),\"\"),\"\")","v":""}]
["",null,null,null,null,null,null,null,null,null,null,"","","","","","",{"$f":"IF(ISNUMBER(A54),IFERROR(IF($C$10=\"Consumo de Combustível\",0.01*Q54,IF($C$10=\"Consumo de Combustível no CST\",0.01*CST_Estrada!$B$28,IF($C$10=\"Base ΔSOC\",ABS(SUM($K$18:K54))*0.02*3600*$G$6,\"\"))),\"\"),\"\")","v":""}]
["",null,null,null,null,null,null,null,null,null,null,"","","","","","",{"$f":"IF(ISNUMBER(A55),IFERROR(IF($C$10=\"Consumo de Combustível\",0.01*Q55,IF($C$10=\"Consumo de Combustível no CST\",0.01*CST_Estrada!$B$28,IF($C$10=\"Base ΔSOC\",ABS(SUM($K$18:K55))*0.02*3600*$G$6,\"\"))),\"\"),\"\")","v":""}]
["",null,null,null,null,null,null,null,null,null,null,"","","","","","",{"$f":"IF(ISNUMBER(A56),IFERROR(IF($C$10=\"Consumo de Combustível\",0.01*Q56,IF($C$10=\"Consumo de Combustível no CST\",0.01*CST_Estrada!$B$28,IF($C$10=\"Base ΔSOC\",ABS(SUM($K$18:K56))*0.02*3600*$G$6,\"\"))),\"\"),\"\")","v":""}]
["",null,null,null,null,null,null,null,null,null,null,"","","","","","",{"$f":"IF(ISNUMBER(A57),IFERROR(IF($C$10=\"Consumo de Combustível\",0.01*Q57,IF($C$10=\"Consumo de Combustível no CST\",0.01*CST_Estrada!$B$28,IF($C$10=\"Base ΔSOC\",ABS(SUM($K$18:K57))*0.02*3600*$G$6,\"\"))),\"\"),\"\")","v":""}]
["",null,null,null,null,null,null,null,null,null,null,"","","","","","",{"$f":"IF(ISNUMBER(A58),IFERROR(IF($C$10=\"Consumo de Combustível\",0.01*Q58,IF($C$10=\"Consumo de Combustível no CST\",0.01*CST_Estrada!$B$28,IF($C$10=\"Base ΔSOC\",ABS(SUM($K$18:K58))*0.02*3600*$G$6,\"\"))),\"\"),\"\")","v":""}]
["",null,null,null,null,null,null,null,null,null,null,"","","","","","",{"$f":"IF(ISNUMBER(A59),IFERROR(IF($C$10=\"Consumo de Combustível\",0.01*Q59,IF($C$10=\"Consumo de Combustível no CST\",0.01*CST_Estrada!$B$28,IF($C$10=\"Base ΔSOC\",ABS(SUM($K$18:K59))*0.02*3600*$G$6,\"\"))),\"\"),\"\")","v":""}]
["",null,null,null,null,null,null,null,null,null,null,"","","","","","",{"$f":"IF(ISNUMBER(A60),IFERROR(IF($C$10=\"Consumo de Combustível\",0.01*Q60,IF($C$10=\"Consumo de Combustível no CST\",0.01*CST_Estrada!$B$28,IF($C$10=\"Base ΔSOC\",ABS(SUM($K$18:K60))*0.02*3600*$G$6,\"\"))),\"\"),\"\")","v":""}]
["",null,null,null,null,null,null,null,null,null,null,"","","","","","",{"$f":"IF(ISNUMBER(A61),IFERROR(IF($C$10=\"Consumo de Combustível\",0.01*Q61,IF($C$10=\"Consumo de Combustível no CST\",0.01*CST_Estrada!$B$28,IF($C$10=\"Base ΔSOC\",ABS(SUM($K$18:K61))*0.02*3600*$G$6,\"\"))),\"\"),\"\")","v":""}]
["",null,null,null,null,null,null,null,null,null,null,"","","","","","",{"$f":"IF(ISNUMBER(A62),IFERROR(IF($C$10=\"Consumo de Combustível\",0.01*Q62,IF($C$10=\"Consumo de Combustível no CST\",0.01*CST_Estrada!$B$28,IF($C$10=\"Base ΔSOC\",ABS(SUM($K$18:K62))*0.02*3600*$G$6,\"\"))),\"\"),\"\")","v":""}]
["",null,null,null,null,null,null,null,null,null,null,"","","","","","",{"$f":"IF(ISNUMBER(A63),IFERROR(IF($C$10=\"Consumo de Combustível\",0.01*Q63,IF($C$10=\"Consumo de Combustível no CST\",0.01*CST_Estrada!$B$28,IF($C$10=\"Base ΔSOC\",ABS(SUM($K$18:K63))*0.02*3600*$G$6,\"\"))),\"\"),\"\")","v":""}]
["",null,null,null,null,null,null,null,null,null,null,"","","","","","",{"$f":"IF(ISNUMBER(A64),IFERROR(IF($C$10=\"Consumo de Combustível\",0.01*Q64,IF($C$10=\"Consumo de Combustível no CST\",0.01*CST_Estrada!$B$28,IF($C$10=\"Base ΔSOC\",ABS(SUM($K$18:K64))*0.02*3600*$G$6,\"\"))),\"\"),\"\")","v":""}]
["",null,null,null,null,null,null,null,null,null,null,"","","","","","",{"$f":"IF(ISNUMBER(A65),IFERROR(IF($C$10=\"Consumo de Combustível\",0.01*Q65,IF($C$10=\"Consumo de Combustível no CST\",0.01*CST_Estrada!$B$28,IF($C$10=\"Base ΔSOC\",ABS(SUM($K$18:K65))*0.02*3600*$G$6,\"\"))),\"\"),\"\")","v":""}]
["",null,null,null,null,null,null,null,null,null,null,"","","","","","",{"$f":"IF(ISNUMBER(A66),IFERROR(IF($C$10=\"Consumo de Combustível\",0.01*Q66,IF($C$10=\"Consumo de Combustível no CST\",0.01*CST_Estrada!$B$28,IF($C$10=\"Base ΔSOC\",ABS(SUM($K$18:K66))*0.02*3600*$G$6,\"\"))),\"\"),\"\")","v":""}]
["",null,null,null,null,null,null,null,null,null,null,"","","","","","",{"$f":"IF(ISNUMBER(A67),IFERROR(IF($C$10=\"Consumo de Combustível\",0.01*Q67,IF($C$10=\"Consumo de Combustível no CST\",0.01*CST_Estrada!$B$28,IF($C$10=\"Base ΔSOC\",ABS(SUM($K$18:K67))*0.02*3600*$G$6,\"\"))),\"\"),\"\")","v":""}]
["",null,null,null,null,null,null,null,null,null,null,"","","","","","",{"$f":"IF(ISNUMBER(A68),IFERROR(IF($C$10=\"Consumo de Combustível\",0.01*Q68,IF($C$10=\"Consumo de Combustível no CST\",0.01*CST_Estrada!$B$28,IF($C$10=\"Base ΔSOC\",ABS(SUM($K$18:K68))*0.02*3600*$G$6,\"\"))),\"\"),\"\")","v":""}]
["",null,null,null,null,null,null,null,null,null,null,"","","","","","",{"$f":"IF(ISNUMBER(A69),IFERROR(IF($C$10=\"Consumo de Combustível\",0.01*Q69,IF($C$10=\"Consumo de Combustível no CST\",0.01*CST_Estrada!$B$28,IF($C$10=\"Base ΔSOC\",ABS(SUM($K$18:K69))*0.02*3600*$G$6,\"\"))),\"\"),\"\")","v":""}]
["",null,null,null,null,null,null,null,null,null,null,"","","","","","",{"$f":"IF(ISNUMBER(A70),IFERROR(IF($C$10=\"Consumo de Combustível\",0.01*Q70,IF($C$10=\"Consumo de Combustível no CST\",0.01*CST_Estrada!$B$28,IF($C$10=\"Base ΔSOC\",ABS(SUM($K$18:K70))*0.02*3600*$G$6,\"\"))),\"\"),\"\")","v":""}]
["",null,null,null,null,null,null,null,null,null,null,"","","","","","",{"$f":"IF(ISNUMBER(A71),IFERROR(IF($C$10=\"Consumo de Combustível\",0.01*Q71,IF($C$10=\"Consumo de Combustível no CST\",0.01*CST_Estrada!$B$28,IF($C$10=\"Base ΔSOC\",ABS(SUM($K$18:K71))*0.02*3600*$G$6,\"\"))),\"\"),\"\")","v":""}]

{"sheet":"Emissões 6.2.2.1 Estrada","index":6,"n_rows":70,"n_cols":14,"rows_kept":70,"cut":false,"hidden":false,"merged":[[0,1,0,13],[1,1,1,13],[2,1,2,13],[3,0,3,13],[4,0,4,1],[4,2,4,3],[4,4,4,5],[4,6,4,7],[8,1,8,9],[13,0,13,13],[5,0,5,1],[5,2,5,3],[5,4,5,5],[5,6,5,7],[6,0,6,1],[6,2,6,3],[6,4,6,5],[6,6,6,7]]}
[null,"Cálculos de veículos híbridos"]
[null,"Ensaios em redução de carga no ciclo estrada - Resultados conforme 6.2.2.1"]
[null,"    Versão 8"]
["Dados do veículo e do ensaio"]
["id do veículo",null,{"$f":"IF(ISBLANK(CST_Urbano!C5),\"\",CST_Urbano!C5)","v":""},null,"Capacidade do RESS",null,{"$f":"IF(ISBLANK(CST_Urbano!G5),\"\",CST_Urbano!G5)","v":""},null,"Ah"]
["nº do processo",null,{"$f":"IF(ISBLANK(CST_Urbano!C6),\"\",CST_Urbano!C6)","v":""},null,"Vsist1",null,{"$f":"IF(ISBLANK(CST_Urbano!G6),\"\",CST_Urbano!G6)","v":""},null,"V"]
["Combustível do ensaio",null,{"$f":"IF(ISBLANK(CST_Urbano!C7),\"\",CST_Urbano!C7)","v":""},null,"Vsist2",null,{"$f":"IF(ISBLANK(CST_Urbano!G7),\"\",CST_Urbano!G7)","v":""},null,"V"]
[]
[null,"Resultado das emissões e consumo energético conforme item 6.2.2.1"]
[null,"CO","HC","NOx","CO2","NMHC","ECCD","FCCD","ACequiv.","Consumotot."]
[null,"(g/km)","(g/km)","(g/km)","(g/km)","(g/km)","(Wh/km)","(l/100km)","(l/100km)","(l/100km)"]
[null,{"$f":"IFERROR((SUMIFS(FCT_Estrada_Dados!$B$18:$B$71,FCT_Estrada_Dados!$S$18:$S$71,\"CD\")+(1+FCT_Estrada_Dados!$D$13)*SUMIFS(FCT_Estrada_Dados!$B$18:$B$71,FCT_Estrada_Dados!$S$18:$S$71,\"n-1\"))/FCT_Estrada_Dados!$L$13,\"\")","v":""},{"$f":"IFERROR((SUMIFS(FCT_Estrada_Dados!$C$18:$C$71,FCT_Estrada_Dados!$S$18:$S$71,\"CD\")+(1+FCT_Estrada_Dados!$D$13)*SUMIFS(FCT_Estrada_Dados!$C$18:$C$71,FCT_Estrada_Dados!$S$18:$S$71,\"n-1\"))/FCT_Estrada_Dados!$L$13,\"\")","v":""},{"$f":"IFERROR((SUMIFS(FCT_Estrada_Dados!$D$18:$D$71,FCT_Estrada_Dados!$S$18:$S$71,\"CD\")+(1+FCT_Estrada_Dados!$D$13)*SUMIFS(FCT_Estrada_Dados!$D$18:$D$71,FCT_Estrada_Dados!$S$18:$S$71,\"n-1\"))/FCT_Estrada_Dados!$L$13,\"\")","v":""},{"$f":"IFERROR((SUMIFS(FCT_Estrada_Dados!$E$18:$E$71,FCT_Estrada_Dados!$S$18:$S$71,\"CD\")+(1+FCT_Estrada_Dados!$D$13)*SUMIFS(FCT_Estrada_Dados!$E$18:$E$71,FCT_Estrada_Dados!$S$18:$S$71,\"n-1\"))/FCT_Estrada_Dados!$L$13,\"\")","v":""},{"$f":"IFERROR((SUMIFS(FCT_Estrada_Dados!$G$18:$G$71,FCT_Estrada_Dados!$S$18:$S$71,\"CD\")+(1+FCT_Estrada_Dados!$D$13)*SUMIFS(FCT_Estrada_Dados!$G$18:$G$71,FCT_Estrada_Dados!$S$18:$S$71,\"n-1\"))/FCT_Estrada_Dados!$L$13,\"\")","v":""},{"$f":"IFERROR(FCT_Estrada_Dados!$G$10/FCT_Estrada_Dados!$L$13,\"\")","v":""},{"$f":"IFERROR(SUM(IF(FCT_Estrada_Dados!S18:S71=\"CD\",FCT_Estrada_Dados!H18:H71*FCT_Estrada_Dados!P18:P71,0)+(1+FCT_Estrada_Dados!D13)*IF(FCT_Estrada_Dados!S18:S71=\"n-1\",FCT_Estrada_Dados!H18:H71*FCT_Estrada_Dados!P18:P71,0))/FCT_Estrada_Dados!L13,\"\")","v":""},{"$f":"IFERROR(100*((G12*0.0036)/VLOOKUP(CST_Urbano!C7,Combustíveis,2,FALSE)),\"\")","v":""},{"$f":"IFERROR(H12+I12,\"\")","v":""}]
[]
["Resultado das emissões e consumo energético por ciclo"]
["Nº Ciclo","CO","HC","NOx","CO2","NMHC","ECDi","EDCi","DC/AC","Consumo_AC","Consumo_DC","AC equivalente","Consumo","Tipo de"]
[null,"(g/km)","(g/km)","(g/km)","(g/km)","(g/km)","(Wh)","(Wh)","(%)","(Wh/km)","(Wh/km)","(l/100km)","(l/100km)","Ciclo"]
[{"$f":"IF(ISNUMBER(FCT_Estrada_Dados!A18),FCT_Estrada_Dados!A18,\"\")","v":""},{"$f":"IF(ISNUMBER(A17),FCT_Estrada_Dados!B18/FCT_Estrada_Dados!H18,\"\")","v":""},{"$f":"IF(ISNUMBER(A17),FCT_Estrada_Dados!C18/FCT_Estrada_Dados!H18,\"\")","v":""},{"$f":"IF(ISNUMBER(A17),FCT_Estrada_Dados!D18/FCT_Estrada_Dados!H18,\"\")","v":""},{"$f":"IF(ISNUMBER(A17),FCT_Estrada_Dados!E18/FCT_Estrada_Dados!H18,\"\")","v":""},{"$f":"IF(ISNUMBER(A17),FCT_Estrada_Dados!G18/FCT_Estrada_Dados!H18,\"\")","v":""},{"$f":"IF(ISNUMBER(H17),IF(AND(OR(FCT_Estrada_Dados!S18=\"CD\",FCT_Estrada_Dados!S18=\"n-1\",FCT_Estrada_Dados!S18=\"n\"),H17<0),(H17*FCT_Estrada_Dados!$G$10)/(SUMIFS(FCT_Estrada_Dados!$O$18:$O$71,FCT_Estrada_Dados!$S$18:$S$71,\"CD\")+SUMIFS(FCT_Estrada_Dados!$O$18:$O$71,FCT_Estrada_Dados!$S$18:$S$71,\"n-1\")+SUMIFS(FCT_Estrada_Dados!$O$18:$O$71,FCT_Estrada_Dados!$S$18:$S$71,\"n\")),0),\"\")","v":""},{"$f":"IFERROR(FCT_Estrada_Dados!K18*AVERAGE(FCT_Estrada_Dados!I18:J18),\"\")","v":""},{"$f":"IFERROR(ABS(H17/G17)*100,\"\")","v":""},{"$f":"IFERROR(IF(ISNUMBER(A17),G17/FCT_Estrada_Dados!H18,\"\"),\"\")","v":""},{"$f":"IFERROR(IF(ISNUMBER(A17),H17/FCT_Estrada_Dados!H18,\"\"),\"\")","v":""},{"$f":"IF(ISNUMBER(A17),100*((J17*0.0036)/VLOOKUP(CST_Urbano!$C$7,Combustíveis,2,FALSE)),\"\")","v":""},{"$f":"IF(ISNUMBER(A17),FCT_Estrada_Dados!P18,\"\")","v":""},{"$f":"IF(ISNUMBER(A17),FCT_Estrada_Dados!S18,\"\")","v":""}]
[{"$f":"IF(ISNUMBER(FCT_Estrada_Dados!A19),FCT_Estrada_Dados!A19,\"\")","v":""},{"$f":"IF(ISNUMBER(A18),FCT_Estrada_Dados!B19/FCT_Estrada_Dados!H19,\"\")","v":""},{"$f":"IF(ISNUMBER(A18),FCT_Estrada_Dados!C19/FCT_Estrada_Dados!H19,\"\")","v":""},{"$f":"IF(ISNUMBER(A18),FCT_Estrada_Dados!D19/FCT_Estrada_Dados!H19,\"\")","v":""},{"$f":"IF(ISNUMBER(A18),FCT_Estrada_Dados!E19/FCT_Estrada_Dados!H19,\"\")","v":""},{"$f":"IF(ISNUMBER(A18),FCT_Estrada_Dados!G19/FCT_Estrada_Dados!H19,\"\")","v":""},{"$f":"IF(ISNUMBER(H18),IF(AND(OR(FCT_Estrada_Dados!S19=\"CD\",FCT_Estrada_Dados!S19=\"n-1\",FCT_Estrada_Dados!S19=\"n\"),H18<0),(H18*FCT_Estrada_Dados!$G$10)/(SUMIFS(FCT_Estrada_Dados!$O$18:$O$71,FCT_Estrada_Dados!$S$18:$S$71,\"CD\")+SUMIFS(FCT_Estrada_Dados!$O$18:$O$71,FCT_Estrada_Dados!$S$18:$S$71,\"n-1\")+SUMIFS(FCT_Estrada_Dados!$O$18:$O$71,FCT_Estrada_Dados!$S$18:$S$71,\"n\")),0),\"\")","v":""},{"$f":"IFERROR(FCT_Estrada_Dados!K19*AVERAGE(FCT_Estrada_Dados!I19:J19),\"\")","v":""},{"$f":"IFERROR(ABS(H18/G18)*100,\"\")","v":""},{"$f":"IFERROR(IF(ISNUMBER(A18),G18/FCT_Estrada_Dados!H19,\"\"),\"\")","v":""},{"$f":"IFERROR(IF(ISNUMBER(A18),H18/FCT_Estrada_Dados!H19,\"\"),\"\")","v":""},{"$f":"IF(ISNUMBER(A18),100*((J18*0.0036)/VLOOKUP(CST_Urbano!$C$7,Combustíveis,2,FALSE)),\"\")","v":""},{"$f":"IF(ISNUMBER(A18),FCT_Estrada_Dados!P19,\"\")","v":""},{"$f":"IF(ISNUMBER(A18),FCT_Estrada_Dados!S19,\"\")","v":""}]
[{"$f":"IF(ISNUMBER(FCT_Estrada_Dados!A20),FCT_Estrada_Dados!A20,\"\")","v":""},{"$f":"IF(ISNUMBER(A19),FCT_Estrada_Dados!B20/FCT_Estrada_Dados!H20,\"\")","v":""},{"$f":"IF(ISNUMBER(A19),FCT_Estrada_Dados!C20/FCT_Estrada_Dados!H20,\"\")","v":""},{"$f":"IF(ISNUMBER(A19),FCT_Estrada_Dados!D20/FCT_Estrada_Dados!H20,\"\")","v":""},{"$f":"IF(ISNUMBER(A19),FCT_Estrada_Dados!E20/FCT_Estrada_Dados!H20,\"\")","v":""},{"$f":"IF(ISNUMBER(A19),FCT_Estrada_Dados!G20/FCT_Estrada_Dados!H20,\"\")","v":""},{"$f":"IF(ISNUMBER(H19),IF(AND(OR(FCT_Estrada_Dados!S20=\"CD\",FCT_Estrada_Dados!S20=\"n-1\",FCT_Estrada_Dados!S20=\"n\"),H19<0),(H19*FCT_Estrada_Dados!$G$10)/(SUMIFS(FCT_Estrada_Dados!$O$18:$O$71,FCT_Estrada_Dados!$S$18:$S$71,\"CD\")+SUMIFS(FCT_Estrada_Dados!$O$18:$O$71,FCT_Estrada_Dados!$S$18:$S$71,\"n-1\")+SUMIFS(FCT_Estrada_Dados!$O$18:$O$71,FCT_Estrada_Dados!$S$18:$S$71,\"n\")),0),\"\")","v":""},{"$f":"IFERROR(FCT_Estrada_Dados!K20*AVERAGE(FCT_Estrada_Dados!I20:J20),\"\")","v":""},{"$f":"IFERROR(ABS(H19/G19)*100,\"\")","v":""},{"$f":"IFERROR(IF(ISNUMBER(A19),G19/FCT_Estrada_Dados!H20,\"\"),\"\")","v":""},{"$f":"IFERROR(IF(ISNUMBER(A19),H19/FCT_Estrada_Dados!H20,\"\"),\"\")","v":""},{"$f":"IF(ISNUMBER(A19),100*((J19*0.0036)/VLOOKUP(CST_Urbano!$C$7,Combustíveis,2,FALSE)),\"\")","v":""},{"$f":"IF(ISNUMBER(A19),FCT_Estrada_Dados!P20,\"\")","v":""},{"$f":"IF(ISNUMBER(A19),FCT_Estrada_Dados!S20,\"\")","v":""}]
[{"$f":"IF(ISNUMBER(FCT_Estrada_Dados!A21),FCT_Estrada_Dados!A21,\"\")","v":""},{"$f":"IF(ISNUMBER(A20),FCT_Estrada_Dados!B21/FCT_Estrada_Dados!H21,\"\")","v":""},{"$f":"IF(ISNUMBER(A20),FCT_Estrada_Dados!C21/FCT_Estrada_Dados!H21,\"\")","v":""},{"$f":"IF(ISNUMBER(A20),FCT_Estrada_Dados!D21/FCT_Estrada_Dados!H21,\"\")","v":""},{"$f":"IF(ISNUMBER(A20),FCT_Estrada_Dados!E21/FCT_Estrada_Dados!H21,\"\")","v":""},{"$f":"IF(ISNUMBER(A20),FCT_Estrada_Dados!G21/FCT_Estrada_Dados!H21,\"\")","v":""},{"$f":"IF(ISNUMBER(H20),IF(AND(OR(FCT_Estrada_Dados!S21=\"CD\",FCT_Estrada_Dados!S21=\"n-1\",FCT_Estrada_Dados!S21=\"n\"),H20<0),(H20*FCT_Estrada_Dados!$G$10)/(SUMIFS(FCT_Estrada_Dados!$O$18:$O$71,FCT_Estrada_Dados!$S$18:$S$71,\"CD\")+SUMIFS(FCT_Estrada_Dados!$O$18:$O$71,FCT_Estrada_Dados!$S$18:$S$71,\"n-1\")+SUMIFS(FCT_Estrada_Dados!$O$18:$O$71,FCT_Estrada_Dados!$S$18:$S$71,\"n\")),0),\"\")","v":""},{"$f":"IFERROR(FCT_Estrada_Dados!K21*AVERAGE(FCT_Estrada_Dados!I21:J21),\"\")","v":""},"",{"$f":"IFERROR(IF(ISNUMBER(A20),G20/FCT_Estrada_Dados!H21,\"\"),\"\")","v":""},{"$f":"IFERROR(IF(ISNUMBER(A20),H20/FCT_Estrada_Dados!H21,\"\"),\"\")","v":""},{"$f":"IF(ISNUMBER(A20),100*((J20*0.0036)/VLOOKUP(CST_Urbano!$C$7,Combustíveis,2,FALSE)),\"\")","v":""},{"$f":"IF(ISNUMBER(A20),FCT_Estrada_Dados!P21,\"\")","v":""},{"$f":"IF(ISNUMBER(A20),FCT_Estrada_Dados!S21,\"\")","v":""}]
[{"$f":"IF(ISNUMBER(FCT_Estrada_Dados!A22),FCT_Estrada_Dados!A22,\"\")","v":""},{"$f":"IF(ISNUMBER(A21),FCT_Estrada_Dados!B22/FCT_Estrada_Dados!H22,\"\")","v":""},{"$f":"IF(ISNUMBER(A21),FCT_Estrada_Dados!C22/FCT_Estrada_Dados!H22,\"\")","v":""},{"$f":"IF(ISNUMBER(A21),FCT_Estrada_Dados!D22/FCT_Estrada_Dados!H22,\"\")","v":""},{"$f":"IF(ISNUMBER(A21),FCT_Estrada_Dados!E22/FCT_Estrada_Dados!H22,\"\")","v":""},{"$f":"IF(ISNUMBER(A21),FCT_Estrada_Dados!G22/FCT_Estrada_Dados!H22,\"\")","v":""},{"$f":"IF(ISNUMBER(H21),IF(AND(OR(FCT_Estrada_Dados!S22=\"CD\",FCT_Estrada_Dados!S22=\"n-1\",FCT_Estrada_Dados!S22=\"n\"),H21<0),(H21*FCT_Estrada_Dados!$G$10)/(SUMIFS(FCT_Estrada_Dados!$O$18:$O$71,FCT_Estrada_Dados!$S$18:$S$71,\"CD\")+SUMIFS(FCT_Estrada_Dados!$O$18:$O$71,FCT_Estrada_Dados!$S$18:$S$71,\"n-1\")+SUMIFS(FCT_Estrada_Dados!$O$18:$O$71,FCT_Estrada_Dados!$S$18:$S$71,\"n\")),0),\"\")","v":""},{"$f":"IFERROR(FCT_Estrada_Dados!K22*AVERAGE(FCT_Estrada_Dados!I22:J22),\"\")","v":""},"",{"$f":"IFERROR(IF(ISNUMBER(A21),G21/FCT_Estrada_Dados!H22,\"\"),\"\")","v":""},{"$f":"IFERROR(IF(ISNUMBER(A21),H21/FCT_Estrada_Dados!H22,\"\"),\"\")","v":""},{"$f":"IF(ISNUMBER(A21),100*((J21*0.0036)/VLOOKUP(CST_Urbano!$C$7,Combustíveis,2,FALSE)),\"\")","v":""},{"$f":"IF(ISNUMBER(A21),FCT_Estrada_Dados!P22,\"\")","v":""},{"$f":"IF(ISNUMBER(A21),FCT_Estrada_Dados!S22,\"\")","v":""}]
[{"$f":"IF(ISNUMBER(FCT_Estrada_Dados!A23),FCT_Estrada_Dados!A23,\"\")","v":""},{"$f":"IF(ISNUMBER(A22),FCT_Estrada_Dados!B23/FCT_Estrada_Dados!H23,\"\")","v":""},{"$f":"IF(ISNUMBER(A22),FCT_Estrada_Dados!C23/FCT_Estrada_Dados!H23,\"\")","v":""},{"$f":"IF(ISNUMBER(A22),FCT_Estrada_Dados!D23/FCT_Estrada_Dados!H23,\"\")","v":""},{"$f":"IF(ISNUMBER(A22),FCT_Estrada_Dados!E23/FCT_Estrada_Dados!H23,\"\")","v":""},{"$f":"IF(ISNUMBER(A22),FCT_Estrada_Dados!G23/FCT_Estrada_Dados!H23,\"\")","v":""},{"$f":"IF(ISNUMBER(H22),IF(AND(OR(FCT_Estrada_Dados!S23=\"CD\",FCT_Estrada_Dados!S23=\"n-1\",FCT_Estrada_Dados!S23=\"n\"),H22<0),(H22*FCT_Estrada_Dados!$G$10)/(SUMIFS(FCT_Estrada_Dados!$O$18:$O$71,FCT_Estrada_Dados!$S$18:$S$71,\"CD\")+SUMIFS(FCT_Estrada_Dados!$O$18:$O$71,FCT_Estrada_Dados!$S$18:$S$71,\"n-1\")+SUMIFS(FCT_Estrada_Dados!$O$18:$O$71,FCT_Estrada_Dados!$S$18:$S$71,\"n\")),0),\"\")","v":""},{"$f":"IFERROR(FCT_Estrada_Dados!K23*AVERAGE(FCT_Estrada_Dados!I23:J23),\"\")","v":""},"",{"$f":"IFERROR(IF(ISNUMBER(A22),G22/FCT_Estrada_Dados!H23,\"\"),\"\")","v":""},{"$f":"IFERROR(IF(ISNUMBER(A22),H22/FCT_Estrada_Dados!H23,\"\"),\"\")","v":""},{"$f":"IF(ISNUMBER(A22),100*((J22*0.0036)/VLOOKUP(CST_Urbano!$C$7,Combustíveis,2,FALSE)),\"\")","v":""},{"$f":"IF(ISNUMBER(A22),FCT_Estrada_Dados!P23,\"\")","v":""},{"$f":"IF(ISNUMBER(A22),FCT_Estrada_Dados!S23,\"\")","v":""}]
[{"$f":"IF(ISNUMBER(FCT_Estrada_Dados!A24),FCT_Estrada_Dados!A24,\"\")","v":""},{"$f":"IF(ISNUMBER(A23),FCT_Estrada_Dados!B24/FCT_Estrada_Dados!H24,\"\")","v":""},{"$f":"IF(ISNUMBER(A23),FCT_Estrada_Dados!C24/FCT_Estrada_Dados!H24,\"\")","v":""},{"$f":"IF(ISNUMBER(A23),FCT_Estrada_Dados!D24/FCT_Estrada_Dados!H24,\"\")","v":""},{"$f":"IF(ISNUMBER(A23),FCT_Estrada_Dados!E24/FCT_Estrada_Dados!H24,\"\")","v":""},{"$f":"IF(ISNUMBER(A23),FCT_Estrada_Dados!G24/FCT_Estrada_Dados!H24,\"\")","v":""},{"$f":"IF(ISNUMBER(H23),IF(AND(OR(FCT_Estrada_Dados!S24=\"CD\",FCT_Estrada_Dados!S24=\"n-1\",FCT_Estrada_Dados!S24=\"n\"),H23<0),(H23*FCT_Estrada_Dados!$G$10)/(SUMIFS(FCT_Estrada_Dados!$O$18:$O$71,FCT_Estrada_Dados!$S$18:$S$71,\"CD\")+SUMIFS(FCT_Estrada_Dados!$O$18:$O$71,FCT_Estrada_Dados!$S$18:$S$71,\"n-1\")+SUMIFS(FCT_Estrada_Dados!$O$18:$O$71,FCT_Estrada_Dados!$S$18:$S$71,\"n\")),0),\"\")","v":""},{"$f":"IFERROR(FCT_Estrada_Dados!K24*AVERAGE(FCT_Estrada_Dados!I24:J24),\"\")","v":""},"",{"$f":"IFERROR(IF(ISNUMBER(A23),G23/FCT_Estrada_Dados!H24,\"\"),\"\")","v":""},{"$f":"IFERROR(IF(ISNUMBER(A23),H23/FCT_Estrada_Dados!H24,\"\"),\"\")","v":""},{"$f":"IF(ISNUMBER(A23),100*((J23*0.0036)/VLOOKUP(CST_Urbano!$C$7,Combustíveis,2,FALSE)),\"\")","v":""},{"$f":"IF(ISNUMBER(A23),FCT_Estrada_Dados!P24,\"\")","v":""},{"$f":"IF(ISNUMBER(A23),FCT_Estrada_Dados!S24,\"\")","v":""}]
[{"$f":"IF(ISNUMBER(FCT_Estrada_Dados!A25),FCT_Estrada_Dados!A25,\"\")","v":""},{"$f":"IF(ISNUMBER(A24),FCT_Estrada_Dados!B25/FCT_Estrada_Dados!H25,\"\")","v":""},{"$f":"IF(ISNUMBER(A24),FCT_Estrada_Dados!C25/FCT_Estrada_Dados!H25,\"\")","v":""},{"$f":"IF(ISNUMBER(A24),FCT_Estrada_Dados!D25/FCT_Estrada_Dados!H25,\"\")","v":""},{"$f":"IF(ISNUMBER(A24),FCT_Estrada_Dados!E25/FCT_Estrada_Dados!H25,\"\")","v":""},{"$f":"IF(ISNUMBER(A24),FCT_Estrada_Dados!G25/FCT_Estrada_Dados!H25,\"\")","v":""},{"$f":"IF(ISNUMBER(H24),IF(AND(OR(FCT_Estrada_Dados!S25=\"CD\",FCT_Estrada_Dados!S25=\"n-1\",FCT_Estrada_Dados!S25=\"n\"),H24<0),(H24*FCT_Estrada_Dados!$G$10)/(SUMIFS(FCT_Estrada_Dados!$O$18:$O$71,FCT_Estrada_Dados!$S$18:$S$71,\"CD\")+SUMIFS(FCT_Estrada_Dados!$O$18:$O$71,FCT_Estrada_Dados!$S$18:$S$71,\"n-1\")+SUMIFS(FCT_Estrada_Dados!$O$18:$O$71,FCT_Estrada_Dados!$S$18:$S$71,\"n\")),0),\"\")","v":""},{"$f":"IFERROR(FCT_Estrada_Dados!K25*AVERAGE(FCT_Estrada_Dados!I25:J25),\"\")","v":""},"",{"$f":"IFERROR(IF(ISNUMBER(A24),G24/FCT_Estrada_Dados!H25,\"\"),\"\")","v":""},{"$f":"IFERROR(IF(ISNUMBER(A24),H24/FCT_Estrada_Dados!H25,\"\"),\"\")","v":""},{"$f":"IF(ISNUMBER(A24),100*((J24*0.0036)/VLOOKUP(CST_Urbano!$C$7,Combustíveis,2,FALSE)),\"\")","v":""},{"$f":"IF(ISNUMBER(A24),FCT_Estrada_Dados!P25,\"\")","v":""},{"$f":"IF(ISNUMBER(A24),FCT_Estrada_Dados!S25,\"\")","v":""}]
[{"$f":"IF(ISNUMBER(FCT_Estrada_Dados!A26),FCT_Estrada_Dados!A26,\"\")","v":""},{"$f":"IF(ISNUMBER(A25),FCT_Estrada_Dados!B26/FCT_Estrada_Dados!H26,\"\")","v":""},{"$f":"IF(ISNUMBER(A25),FCT_Estrada_Dados!C26/FCT_Estrada_Dados!H26,\"\")","v":""},{"$f":"IF(ISNUMBER(A25),FCT_Estrada_Dados!D26/FCT_Estrada_Dados!H26,\"\")","v":""},{"$f":"IF(ISNUMBER(A25),FCT_Estrada_Dados!E26/FCT_Estrada_Dados!H26,\"\")","v":""},{"$f":"IF(ISNUMBER(A25),FCT_Estrada_Dados!G26/FCT_Estrada_Dados!H26,\"\")","v":""},{"$f":"IF(ISNUMBER(H25),IF(AND(OR(FCT_Estrada_Dados!S26=\"CD\",FCT_Estrada_Dados!S26=\"n-1\",FCT_Estrada_Dados!S26=\"n\"),H25<0),(H25*FCT_Estrada_Dados!$G$10)/(SUMIFS(FCT_Estrada_Dados!$O$18:$O$71,FCT_Estrada_Dados!$S$18:$S$71,\"CD\")+SUMIFS(FCT_Estrada_Dados!$O$18:$O$71,FCT_Estrada_Dados!$S$18:$S$71,\"n-1\")+SUMIFS(FCT_Estrada_Dados!$O$18:$O$71,FCT_Estrada_Dados!$S$18:$S$71,\"n\")),0),\"\")","v":""},{"$f":"IFERROR(FCT_Estrada_Dados!K26*AVERAGE(FCT_Estrada_Dados!I26:J26),\"\")","v":""},"",{"$f":"IFERROR(IF(ISNUMBER(A25),G25/FCT_Estrada_Dados!H26,\"\"),\"\")","v":""},{"$f":"IFERROR(IF(ISNUMBER(A25),H25/FCT_Estrada_Dados!H26,\"\"),\"\")","v":""},{"$f":"IF(ISNUMBER(A25),100*((J25*0.0036)/VLOOKUP(CST_Urbano!$C$7,Combustíveis,2,FALSE)),\"\")","v":""},{"$f":"IF(ISNUMBER(A25),FCT_Estrada_Dados!P26,\"\")","v":""},{"$f":"IF(ISNUMBER(A25),FCT_Estrada_Dados!S26,\"\")","v":""}]
[{"$f":"IF(ISNUMBER(FCT_Estrada_Dados!A27),FCT_Estrada_Dados!A27,\"\")","v":""},{"$f":"IF(ISNUMBER(A26),FCT_Estrada_Dados!B27/FCT_Estrada_Dados!H27,\"\")","v":""},{"$f":"IF(ISNUMBER(A26),FCT_Estrada_Dados!C27/FCT_Estrada_Dados!H27,\"\")","v":""},{"$f":"IF(ISNUMBER(A26),FCT_Estrada_Dados!D27/FCT_Estrada_Dados!H27,\"\")","v":""},{"$f":"IF(ISNUMBER(A26),FCT_Estrada_Dados!E27/FCT_Estrada_Dados!H27,\"\")","v":""},{"$f":"IF(ISNUMBER(A26),FCT_Estrada_Dados!G27/FCT_Estrada_Dados!H27,\"\")","v":""},{"$f":"IF(ISNUMBER(H26),IF(AND(OR(FCT_Estrada_Dados!S27=\"CD\",FCT_Estrada_Dados!S27=\"n-1\",FCT_Estrada_Dados!S27=\"n\"),H26<0),(H26*FCT_Estrada_Dados!$G$10)/(SUMIFS(FCT_Estrada_Dados!$O$18:$O$71,FCT_Estrada_Dados!$S$18:$S$71,\"CD\")+SUMIFS(FCT_Estrada_Dados!$O$18:$O$71,FCT_Estrada_Dados!$S$18:$S$71,\"n-1\")+SUMIFS(FCT_Estrada_Dados!$O$18:$O$71,FCT_Estrada_Dados!$S$18:$S$71,\"n\")),0),\"\")","v":""},{"$f":"IFERROR(FCT_Estrada_Dados!K27*AVERAGE(FCT_Estrada_Dados!I27:J27),\"\")","v":""},"",{"$f":"IFERROR(IF(ISNUMBER(A26),G26/FCT_Estrada_Dados!H27,\"\"),\"\")","v":""},{"$f":"IFERROR(IF(ISNUMBER(A26),H26/FCT_Estrada_Dados!H27,\"\"),\"\")","v":""},{"$f":"IF(ISNUMBER(A26),100*((J26*0.0036)/VLOOKUP(CST_Urbano!$C$7,Combustíveis,2,FALSE)),\"\")","v":""},{"$f":"IF(ISNUMBER(A26),FCT_Estrada_Dados!P27,\"\")","v":""},{"$f":"IF(ISNUMBER(A26),FCT_Estrada_Dados!S27,\"\")","v":""}]
[{"$f":"IF(ISNUMBER(FCT_Estrada_Dados!A28),FCT_Estrada_Dados!A28,\"\")","v":""},{"$f":"IF(ISNUMBER(A27),FCT_Estrada_Dados!B28/FCT_Estrada_Dados!H28,\"\")","v":""},{"$f":"IF(ISNUMBER(A27),FCT_Estrada_Dados!C28/FCT_Estrada_Dados!H28,\"\")","v":""},{"$f":"IF(ISNUMBER(A27),FCT_Estrada_Dados!D28/FCT_Estrada_Dados!H28,\"\")","v":""},{"$f":"IF(ISNUMBER(A27),FCT_Estrada_Dados!E28/FCT_Estrada_Dados!H28,\"\")","v":""},{"$f":"IF(ISNUMBER(A27),FCT_Estrada_Dados!G28/FCT_Estrada_Dados!H28,\"\")","v":""},{"$f":"IF(ISNUMBER(H27),IF(AND(OR(FCT_Estrada_Dados!S28=\"CD\",FCT_Estrada_Dados!S28=\"n-1\",FCT_Estrada_Dados!S28=\"n\"),H27<0),(H27*FCT_Estrada_Dados!$G$10)/(SUMIFS(FCT_Estrada_Dados!$O$18:$O$71,FCT_Estrada_Dados!$S$18:$S$71,\"CD\")+SUMIFS(FCT_Estrada_Dados!$O$18:$O$71,FCT_Estrada_Dados!$S$18:$S$71,\"n-1\")+SUMIFS(FCT_Estrada_Dados!$O$18:$O$71,FCT_Estrada_Dados!$S$18:$S$71,\"n\")),0),\"\")","v":""},{"$f":"IFERROR(FCT_Estrada_Dados!K28*AVERAGE(FCT_Estrada_Dados!I28:J28),\"\")","v":""},"",{"$f":"IFERROR(IF(ISNUMBER(A27),G27/FCT_Estrada_Dados!H28,\"\"),\"\")","v":""},{"$f":"IFERROR(IF(ISNUMBER(A27),H27/FCT_Estrada_Dados!H28,\"\"),\"\")","v":""},{"$f":"IF(ISNUMBER(A27),100*((J27*0.0036)/VLOOKUP(CST_Urbano!$C$7,Combustíveis,2,FALSE)),\"\")","v":""},{"$f":"IF(ISNUMBER(A27),FCT_Estrada_Dados!P28,\"\")","v":""},{"$f":"IF(ISNUMBER(A27),FCT_Estrada_Dados!S28,\"\")","v":""}]
[{"$f":"IF(ISNUMBER(FCT_Estrada_Dados!A29),FCT_Estrada_Dados!A29,\"\")","v":""},{"$f":"IF(ISNUMBER(A28),FCT_Estrada_Dados!B29/FCT_Estrada_Dados!H29,\"\")","v":""},{"$f":"IF(ISNUMBER(A28),FCT_Estrada_Dados!C29/FCT_Estrada_Dados!H29,\"\")","v":""},{"$f":"IF(ISNUMBER(A28),FCT_Estrada_Dados!D29/FCT_Estrada_Dados!H29,\"\")","v":""},{"$f":"IF(ISNUMBER(A28),FCT_Estrada_Dados!E29/FCT_Estrada_Dados!H29,\"\")","v":""},{"$f":"IF(ISNUMBER(A28),FCT_Estrada_Dados!G29/FCT_Estrada_Dados!H29,\"\")","v":""},{"$f":"IF(ISNUMBER(H28),IF(AND(OR(FCT_Estrada_Dados!S29=\"CD\",FCT_Estrada_Dados!S29=\"n-1\",FCT_Estrada_Dados!S29=\"n\"),H28<0),(H28*FCT_Estrada_Dados!$G$10)/(SUMIFS(FCT_Estrada_Dados!$O$18:$O$71,FCT_Estrada_Dados!$S$18:$S$71,\"CD\")+SUMIFS(FCT_Estrada_Dados!$O$18:$O$71,FCT_Estrada_Dados!$S$18:$S$71,\"n-1\")+SUMIFS(FCT_Estrada_Dados!$O$18:$O$71,FCT_Estrada_Dados!$S$18:$S$71,\"n\")),0),\"\")","v":""},{"$f":"IFERROR(FCT_Estrada_Dados!K29*AVERAGE(FCT_Estrada_Dados!I29:J29),\"\")","v":""},"",{"$f":"IFERROR(IF(ISNUMBER(A28),G28/FCT_Estrada_Dados!H29,\"\"),\"\")","v":""},{"$f":"IFERROR(IF(ISNUMBER(A28),H28/FCT_Estrada_Dados!H29,\"\"),\"\")","v":""},{"$f":"IF(ISNUMBER(A28),100*((J28*0.0036)/VLOOKUP(CST_Urbano!$C$7,Combustíveis,2,FALSE)),\"\")","v":""},{"$f":"IF(ISNUMBER(A28),FCT_Estrada_Dados!P29,\"\")","v":""},{"$f":"IF(ISNUMBER(A28),FCT_Estrada_Dados!S29,\"\")","v":""}]
[{"$f":"IF(ISNUMBER(FCT_Estrada_Dados!A30),FCT_Estrada_Dados!A30,\"\")","v":""},{"$f":"IF(ISNUMBER(A29),FCT_Estrada_Dados!B30/FCT_Estrada_Dados!H30,\"\")","v":""},{"$f":"IF(ISNUMBER(A29),FCT_Estrada_Dados!C30/FCT_Estrada_Dados!H30,\"\")","v":""},{"$f":"IF(ISNUMBER(A29),FCT_Estrada_Dados!D30/FCT_Estrada_Dados!H30,\"\")","v":""},{"$f":"IF(ISNUMBER(A29),FCT_Estrada_Dados!E30/FCT_Estrada_Dados!H30,\"\")","v":""},{"$f":"IF(ISNUMBER(A29),FCT_Estrada_Dados!G30/FCT_Estrada_Dados!H30,\"\")","v":""},{"$f":"IF(ISNUMBER(H29),IF(AND(OR(FCT_Estrada_Dados!S30=\"CD\",FCT_Estrada_Dados!S30=\"n-1\",FCT_Estrada_Dados!S30=\"n\"),H29<0),(H29*FCT_Estrada_Dados!$G$10)/(SUMIFS(FCT_Estrada_Dados!$O$18:$O$71,FCT_Estrada_Dados!$S$18:$S$71,\"CD\")+SUMIFS(FCT_Estrada_Dados!$O$18:$O$71,FCT_Estrada_Dados!$S$18:$S$71,\"n-1\")+SUMIFS(FCT_Estrada_Dados!$O$18:$O$71,FCT_Estrada_Dados!$S$18:$S$71,\"n\")),0),\"\")","v":""},{"$f":"IFERROR(FCT_Estrada_Dados!K30*AVERAGE(FCT_Estrada_Dados!I30:J30),\"\")","v":""},"",{"$f":"IFERROR(IF(ISNUMBER(A29),G29/FCT_Estrada_Dados!H30,\"\"),\"\")","v":""},{"$f":"IFERROR(IF(ISNUMBER(A29),H29/FCT_Estrada_Dados!H30,\"\"),\"\")","v":""},{"$f":"IF(ISNUMBER(A29),100*((J29*0.0036)/VLOOKUP(CST_Urbano!$C$7,Combustíveis,2,FALSE)),\"\")","v":""},{"$f":"IF(ISNUMBER(A29),FCT_Estrada_Dados!P30,\"\")","v":""},{"$f":"IF(ISNUMBER(A29),FCT_Estrada_Dados!S30,\"\")","v":""}]
[{"$f":"IF(ISNUMBER(FCT_Estrada_Dados!A31),FCT_Estrada_Dados!A31,\"\")","v":""},{"$f":"IF(ISNUMBER(A30),FCT_Estrada_Dados!B31/FCT_Estrada_Dados!H31,\"\")","v":""},{"$f":"IF(ISNUMBER(A30),FCT_Estrada_Dados!C31/FCT_Estrada_Dados!H31,\"\")","v":""},{"$f":"IF(ISNUMBER(A30),FCT_Estrada_Dados!D31/FCT_Estrada_Dados!H31,\"\")","v":""},{"$f":"IF(ISNUMBER(A30),FCT_Estrada_Dados!E31/FCT_Estrada_Dados!H31,\"\")","v":""},{"$f":"IF(ISNUMBER(A30),FCT_Estrada_Dados!G31/FCT_Estrada_Dados!H31,\"\")","v":""},{"$f":"IF(ISNUMBER(H30),IF(AND(OR(FCT_Estrada_Dados!S31=\"CD\",FCT_Estrada_Dados!S31=\"n-1\",FCT_Estrada_Dados!S31=\"n\"),H30<0),(H30*FCT_Estrada_Dados!$G$10)/(SUMIFS(FCT_Estrada_Dados!$O$18:$O$71,FCT_Estrada_Dados!$S$18:$S$71,\"CD\")+SUMIFS(FCT_Estrada_Dados!$O$18:$O$71,FCT_Estrada_Dados!$S$18:$S$71,\"n-1\")+SUMIFS(FCT_Estrada_Dados!$O$18:$O$71,FCT_Estrada_Dados!$S$18:$S$71,\"n\")),0),\"\")","v":""},{"$f":"IFERROR(FCT_Estrada_Dados!K31*AVERAGE(FCT_Estrada_Dados!I31:J31),\"\")","v":""},"",{"$f":"IFERROR(IF(ISNUMBER(A30),G30/FCT_Estrada_Dados!H31,\"\"),\"\")","v":""},{"$f":"IFERROR(IF(ISNUMBER(A30),H30/FCT_Estrada_Dados!H31,\"\"),\"\")","v":""},{"$f":"IF(ISNUMBER(A30),100*((J30*0.0036)/VLOOKUP(CST_Urbano!$C$7,Combustíveis,2,FALSE)),\"\")","v":""},{"$f":"IF(ISNUMBER(A30),FCT_Estrada_Dados!P31,\"\")","v":""},{"$f":"IF(ISNUMBER(A30),FCT_Estrada_Dados!S31,\"\")","v":""}]
[{"$f":"IF(ISNUMBER(FCT_Estrada_Dados!A32),FCT_Estrada_Dados!A32,\"\")","v":""},{"$f":"IF(ISNUMBER(A31),FCT_Estrada_Dados!B32/FCT_Estrada_Dados!H32,\"\")","v":""},{"$f":"IF(ISNUMBER(A31),FCT_Estrada_Dados!C32/FCT_Estrada_Dados!H32,\"\")","v":""},{"$f":"IF(ISNUMBER(A31),FCT_Estrada_Dados!D32/FCT_Estrada_Dados!H32,\"\")","v":""},{"$f":"IF(ISNUMBER(A31),FCT_Estrada_Dados!E32/FCT_Estrada_Dados!H32,\"\")","v":""},{"$f":"IF(ISNUMBER(A31),FCT_Estrada_Dados!G32/FCT_Estrada_Dados!H32,\"\")","v":""},{"$f":"IF(ISNUMBER(H31),IF(AND(OR(FCT_Estrada_Dados!S32=\"CD\",FCT_Estrada_Dados!S32=\"n-1\",FCT_Estrada_Dados!S32=\"n\"),H31<0),(H31*FCT_Estrada_Dados!$G$10)/(SUMIFS(FCT_Estrada_Dados!$O$18:$O$71,FCT_Estrada_Dados!$S$18:$S$71,\"CD\")+SUMIFS(FCT_Estrada_Dados!$O$18:$O$71,FCT_Estrada_Dados!$S$18:$S$71,\"n-1\")+SUMIFS(FCT_Estrada_Dados!$O$18:$O$71,FCT_Estrada_Dados!$S$18:$S$71,\"n\")),0),\"\")","v":""},{"$f":"IFERROR(FCT_Estrada_Dados!K32*AVERAGE(FCT_Estrada_Dados!I32:J32),\"\")","v":""},"",{"$f":"IFERROR(IF(ISNUMBER(A31),G31/FCT_Estrada_Dados!H32,\"\"),\"\")","v":""},{"$f":"IFERROR(IF(ISNUMBER(A31),H31/FCT_Estrada_Dados!H32,\"\"),\"\")","v":""},{"$f":"IF(ISNUMBER(A31),100*((J31*0.0036)/VLOOKUP(CST_Urbano!$C$7,Combustíveis,2,FALSE)),\"\")","v":""},{"$f":"IF(ISNUMBER(A31),FCT_Estrada_Dados!P32,\"\")","v":""},{"$f":"IF(ISNUMBER(A31),FCT_Estrada_Dados!S32,\"\")","v":""}]
[{"$f":"IF(ISNUMBER(FCT_Estrada_Dados!A33),FCT_Estrada_Dados!A33,\"\")","v":""},{"$f":"IF(ISNUMBER(A32),FCT_Estrada_Dados!B33/FCT_Estrada_Dados!H33,\"\")","v":""},{"$f":"IF(ISNUMBER(A32),FCT_Estrada_Dados!C33/FCT_Estrada_Dados!H33,\"\")","v":""},{"$f":"IF(ISNUMBER(A32),FCT_Estrada_Dados!D33/FCT_Estrada_Dados!H33,\"\")","v":""},{"$f":"IF(ISNUMBER(A32),FCT_Estrada_Dados!E33/FCT_Estrada_Dados!H33,\"\")","v":""},{"$f":"IF(ISNUMBER(A32),FCT_Estrada_Dados!G33/FCT_Estrada_Dados!H33,\"\")","v":""},{"$f":"IF(ISNUMBER(H32),IF(AND(OR(FCT_Estrada_Dados!S33=\"CD\",FCT_Estrada_Dados!S33=\"n-1\",FCT_Estrada_Dados!S33=\"n\"),H32<0),(H32*FCT_Estrada_Dados!$G$10)/(SUMIFS(FCT_Estrada_Dados!$O$18:$O$71,FCT_Estrada_Dados!$S$18:$S$71,\"CD\")+SUMIFS(FCT_Estrada_Dados!$O$18:$O$71,FCT_Estrada_Dados!$S$18:$S$71,\"n-1\")+SUMIFS(FCT_Estrada_Dados!$O$18:$O$71,FCT_Estrada_Dados!$S$18:$S$71,\"n\")),0),\"\")","v":""},{"$f":"IFERROR(FCT_Estrada_Dados!K33*AVERAGE(FCT_Estrada_Dados!I33:J33),\"\")","v":""},"",{"$f":"IFERROR(IF(ISNUMBER(A32),G32/FCT_Estrada_Dados!H33,\"\"),\"\")","v":""},{"$f":"IFERROR(IF(ISNUMBER(A32),H32/FCT_Estrada_Dados!H33,\"\"),\"\")","v":""},{"$f":"IF(ISNUMBER(A32),100*((J32*0.0036)/VLOOKUP(CST_Urbano!$C$7,Combustíveis,2,FALSE)),\"\")","v":""},{"$f":"IF(ISNUMBER(A32),FCT_Estrada_Dados!P33,\"\")","v":""},{"$f":"IF(ISNUMBER(A32),FCT_Estrada_Dados!S33,\"\")","v":""}]
[{"$f":"IF(ISNUMBER(FCT_Estrada_Dados!A34),FCT_Estrada_Dados!A34,\"\")","v":""},{"$f":"IF(ISNUMBER(A33),FCT_Estrada_Dados!B34/FCT_Estrada_Dados!H34,\"\")","v":""},{"$f":"IF(ISNUMBER(A33),FCT_Estrada_Dados!C34/FCT_Estrada_Dados!H34,\"\")","v":""},{"$f":"IF(ISNUMBER(A33),FCT_Estrada_Dados!D34/FCT_Estrada_Dados!H34,\"\")","v":""},{"$f":"IF(ISNUMBER(A33),FCT_Estrada_Dados!E34/FCT_Estrada_Dados!H34,\"\")","v":""},{"$f":"IF(ISNUMBER(A33),FCT_Estrada_Dados!G34/FCT_Estrada_Dados!H34,\"\")","v":""},{"$f":"IF(ISNUMBER(H33),IF(AND(OR(FCT_Estrada_Dados!S34=\"CD\",FCT_Estrada_Dados!S34=\"n-1\",FCT_Estrada_Dados!S34=\"n\"),H33<0),(H33*FCT_Estrada_Dados!$G$10)/(SUMIFS(FCT_Estrada_Dados!$O$18:$O$71,FCT_Estrada_Dados!$S$18:$S$71,\"CD\")+SUMIFS(FCT_Estrada_Dados!$O$18:$O$71,FCT_Estrada_Dados!$S$18:$S$71,\"n-1\")+SUMIFS(FCT_Estrada_Dados!$O$18:$O$71,FCT_Estrada_Dados!$S$18:$S$71,\"n\")),0),\"\")","v":""},{"$f":"IFERROR(FCT_Estrada_Dados!K34*AVERAGE(FCT_Estrada_Dados!I34:J34),\"\")","v":""},"",{"$f":"IFERROR(IF(ISNUMBER(A33),G33/FCT_Estrada_Dados!H34,\"\"),\"\")","v":""},{"$f":"IFERROR(IF(ISNUMBER(A33),H33/FCT_Estrada_Dados!H34,\"\"),\"\")","v":""},{"$f":"IF(ISNUMBER(A33),100*((J33*0.0036)/VLOOKUP(CST_Urbano!$C$7,Combustíveis,2,FALSE)),\"\")","v":""},{"$f":"IF(ISNUMBER(A33),FCT_Estrada_Dados!P34,\"\")","v":""},{"$f":"IF(ISNUMBER(A33),FCT_Estrada_Dados!S34,\"\")","v":""}]
[{"$f":"IF(ISNUMBER(FCT_Estrada_Dados!A35),FCT_Estrada_Dados!A35,\"\")","v":""},{"$f":"IF(ISNUMBER(A34),FCT_Estrada_Dados!B35/FCT_Estrada_Dados!H35,\"\")","v":""},{"$f":"IF(ISNUMBER(A34),FCT_Estrada_Dados!C35/FCT_Estrada_Dados!H35,\"\")","v":""},{"$f":"IF(ISNUMBER(A34),FCT_Estrada_Dados!D35/FCT_Estrada_Dados!H35,\"\")","v":""},{"$f":"IF(ISNUMBER(A34),FCT_Estrada_Dados!E35/FCT_Estrada_Dados!H35,\"\")","v":""},{"$f":"IF(ISNUMBER(A34),FCT_Estrada_Dados!G35/FCT_Estrada_Dados!H35,\"\")","v":""},{"$f":"IF(ISNUMBER(H34),IF(AND(OR(FCT_Estrada_Dados!S35=\"CD\",FCT_Estrada_Dados!S35=\"n-1\",FCT_Estrada_Dados!S35=\"n\"),H34<0),(H34*FCT_Estrada_Dados!$G$10)/(SUMIFS(FCT_Estrada_Dados!$O$18:$O$71,FCT_Estrada_Dados!$S$18:$S$71,\"CD\")+SUMIFS(FCT_Estrada_Dados!$O$18:$O$71,FCT_Estrada_Dados!$S$18:$S$71,\"n-1\")+SUMIFS(FCT_Estrada_Dados!$O$18:$O$71,FCT_Estrada_Dados!$S$18:$S$71,\"n\")),0),\"\")","v":""},{"$f":"IFERROR(FCT_Estrada_Dados!K35*AVERAGE(FCT_Estrada_Dados!I35:J35),\"\")","v":""},"",{"$f":"IFERROR(IF(ISNUMBER(A34),G34/FCT_Estrada_Dados!H35,\"\"),\"\")","v":""},{"$f":"IFERROR(IF(ISNUMBER(A34),H34/FCT_Estrada_Dados!H35,\"\"),\"\")","v":""},{"$f":"IF(ISNUMBER(A34),100*((J34*0.0036)/VLOOKUP(CST_Urbano!$C$7,Combustíveis,2,FALSE)),\"\")","v":""},{"$f":"IF(ISNUMBER(A34),FCT_Estrada_Dados!P35,\"\")","v":""},{"$f":"IF(ISNUMBER(A34),FCT_Estrada_Dados!S35,\"\")","v":""}]
[{"$f":"IF(ISNUMBER(FCT_Estrada_Dados!A36),FCT_Estrada_Dados!A36,\"\")","v":""},{"$f":"IF(ISNUMBER(A35),FCT_Estrada_Dados!B36/FCT_Estrada_Dados!H36,\"\")","v":""},{"$f":"IF(ISNUMBER(A35),FCT_Estrada_Dados!C36/FCT_Estrada_Dados!H36,\"\")","v":""},{"$f":"IF(ISNUMBER(A35),FCT_Estrada_Dados!D36/FCT_Estrada_Dados!H36,\"\")","v":""},{"$f":"IF(ISNUMBER(A35),FCT_Estrada_Dados!E36/FCT_Estrada_Dados!H36,\"\")","v":""},{"$f":"IF(ISNUMBER(A35),FCT_Estrada_Dados!G36/FCT_Estrada_Dados!H36,\"\")","v":""},{"$f":"IF(ISNUMBER(H35),IF(AND(OR(FCT_Estrada_Dados!S36=\"CD\",FCT_Estrada_Dados!S36=\"n-1\",FCT_Estrada_Dados!S36=\"n\"),H35<0),(H35*FCT_Estrada_Dados!$G$10)/(SUMIFS(FCT_Estrada_Dados!$O$18:$O$71,FCT_Estrada_Dados!$S$18:$S$71,\"CD\")+SUMIFS(FCT_Estrada_Dados!$O$18:$O$71,FCT_Estrada_Dados!$S$18:$S$71,\"n-1\")+SUMIFS(FCT_Estrada_Dados!$O$18:$O$71,FCT_Estrada_Dados!$S$18:$S$71,\"n\")),0),\"\")","v":""},{"$f":"IFERROR(FCT_Estrada_Dados!K36*AVERAGE(FCT_Estrada_Dados!I36:J36),\"\")","v":""},"",{"$f":"IFERROR(IF(ISNUMBER(A35),G35/FCT_Estrada_Dados!H36,\"\"),\"\")","v":""},{"$f":"IFERROR(IF(ISNUMBER(A35),H35/FCT_Estrada_Dados!H36,\"\"),\"\")","v":""},{"$f":"IF(ISNUMBER(A35),100*((J35*0.0036)/VLOOKUP(CST_Urbano!$C$7,Combustíveis,2,FALSE)),\"\")","v":""},{"$f":"IF(ISNUMBER(A35),FCT_Estrada_Dados!P36,\"\")","v":""},{"$f":"IF(ISNUMBER(A35),FCT_Estrada_Dados!S36,\"\")","v":""}]
[{"$f":"IF(ISNUMBER(FCT_Estrada_Dados!A37),FCT_Estrada_Dados!A37,\"\")","v":""},{"$f":"IF(ISNUMBER(A36),FCT_Estrada_Dados!B37/FCT_Estrada_Dados!H37,\"\")","v":""},{"$f":"IF(ISNUMBER(A36),FCT_Estrada_Dados!C37/FCT_Estrada_Dados!H37,\"\")","v":""},{"$f":"IF(ISNUMBER(A36),FCT_Estrada_Dados!D37/FCT_Estrada_Dados!H37,\"\")","v":""},{"$f":"IF(ISNUMBER(A36),FCT_Estrada_Dados!E37/FCT_Estrada_Dados!H37,\"\")","v":""},{"$f":"IF(ISNUMBER(A36),FCT_Estrada_Dados!G37/FCT_Estrada_Dados!H37,\"\")","v":""},{"$f":"IF(ISNUMBER(H36),IF(AND(OR(FCT_Estrada_Dados!S37=\"CD\",FCT_Estrada_Dados!S37=\"n-1\",FCT_Estrada_Dados!S37=\"n\"),H36<0),(H36*FCT_Estrada_Dados!$G$10)/(SUMIFS(FCT_Estrada_Dados!$O$18:$O$71,FCT_Estrada_Dados!$S$18:$S$71,\"CD\")+SUMIFS(FCT_Estrada_Dados!$O$18:$O$71,FCT_Estrada_Dados!$S$18:$S$71,\"n-1\")+SUMIFS(FCT_Estrada_Dados!$O$18:$O$71,FCT_Estrada_Dados!$S$18:$S$71,\"n\")),0),\"\")","v":""},{"$f":"IFERROR(FCT_Estrada_Dados!K37*AVERAGE(FCT_Estrada_Dados!I37:J37),\"\")","v":""},"",{"$f":"IFERROR(IF(ISNUMBER(A36),G36/FCT_Estrada_Dados!H37,\"\"),\"\")","v":""},{"$f":"IFERROR(IF(ISNUMBER(A36),H36/FCT_Estrada_Dados!H37,\"\"),\"\")","v":""},{"$f":"IF(ISNUMBER(A36),100*((J36*0.0036)/VLOOKUP(CST_Urbano!$C$7,Combustíveis,2,FALSE)),\"\")","v":""},{"$f":"IF(ISNUMBER(A36),FCT_Estrada_Dados!P37,\"\")","v":""},{"$f":"IF(ISNUMBER(A36),FCT_Estrada_Dados!S37,\"\")","v":""}]
[{"$f":"IF(ISNUMBER(FCT_Estrada_Dados!A38),FCT_Estrada_Dados!A38,\"\")","v":""},{"$f":"IF(ISNUMBER(A37),FCT_Estrada_Dados!B38/FCT_Estrada_Dados!H38,\"\")","v":""},{"$f":"IF(ISNUMBER(A37),FCT_Estrada_Dados!C38/FCT_Estrada_Dados!H38,\"\")","v":""},{"$f":"IF(ISNUMBER(A37),FCT_Estrada_Dados!D38/FCT_Estrada_Dados!H38,\"\")","v":""},{"$f":"IF(ISNUMBER(A37),FCT_Estrada_Dados!E38/FCT_Estrada_Dados!H38,\"\")","v":""},{"$f":"IF(ISNUMBER(A37),FCT_Estrada_Dados!G38/FCT_Estrada_Dados!H38,\"\")","v":""},{"$f":"IF(ISNUMBER(H37),IF(AND(OR(FCT_Estrada_Dados!S38=\"CD\",FCT_Estrada_Dados!S38=\"n-1\",FCT_Estrada_Dados!S38=\"n\"),H37<0),(H37*FCT_Estrada_Dados!$G$10)/(SUMIFS(FCT_Estrada_Dados!$O$18:$O$71,FCT_Estrada_Dados!$S$18:$S$71,\"CD\")+SUMIFS(FCT_Estrada_Dados!$O$18:$O$71,FCT_Estrada_Dados!$S$18:$S$71,\"n-1\")+SUMIFS(FCT_Estrada_Dados!$O$18:$O$71,FCT_Estrada_Dados!$S$18:$S$71,\"n\")),0),\"\")","v":""},{"$f":"IFERROR(FCT_Estrada_Dados!K38*AVERAGE(FCT_Estrada_Dados!I38:J38),\"\")","v":""},"",{"$f":"IFERROR(IF(ISNUMBER(A37),G37/FCT_Estrada_Dados!H38,\"\"),\"\")","v":""},{"$f":"IFERROR(IF(ISNUMBER(A37),H37/FCT_Estrada_Dados!H38,\"\"),\"\")","v":""},{"$f":"IF(ISNUMBER(A37),100*((J37*0.0036)/VLOOKUP(CST_Urbano!$C$7,Combustíveis,2,FALSE)),\"\")","v":""},{"$f":"IF(ISNUMBER(A37),FCT_Estrada_Dados!P38,\"\")","v":""},{"$f":"IF(ISNUMBER(A37),FCT_Estrada_Dados!S38,\"\")","v":""}]
[{"$f":"IF(ISNUMBER(FCT_Estrada_Dados!A39),FCT_Estrada_Dados!A39,\"\")","v":""},{"$f":"IF(ISNUMBER(A38),FCT_Estrada_Dados!B39/FCT_Estrada_Dados!H39,\"\")","v":""},{"$f":"IF(ISNUMBER(A38),FCT_Estrada_Dados!C39/FCT_Estrada_Dados!H39,\"\")","v":""},{"$f":"IF(ISNUMBER(A38),FCT_Estrada_Dados!D39/FCT_Estrada_Dados!H39,\"\")","v":""},{"$f":"IF(ISNUMBER(A38),FCT_Estrada_Dados!E39/FCT_Estrada_Dados!H39,\"\")","v":""},{"$f":"IF(ISNUMBER(A38),FCT_Estrada_Dados!G39/FCT_Estrada_Dados!H39,\"\")","v":""},{"$f":"IF(ISNUMBER(H38),IF(AND(OR(FCT_Estrada_Dados!S39=\"CD\",FCT_Estrada_Dados!S39=\"n-1\",FCT_Estrada_Dados!S39=\"n\"),H38<0),(H38*FCT_Estrada_Dados!$G$10)/(SUMIFS(FCT_Estrada_Dados!$O$18:$O$71,FCT_Estrada_Dados!$S$18:$S$71,\"CD\")+SUMIFS(FCT_Estrada_Dados!$O$18:$O$71,FCT_Estrada_Dados!$S$18:$S$71,\"n-1\")+SUMIFS(FCT_Estrada_Dados!$O$18:$O$71,FCT_Estrada_Dados!$S$18:$S$71,\"n\")),0),\"\")","v":""},{"$f":"IFERROR(FCT_Estrada_Dados!K39*AVERAGE(FCT_Estrada_Dados!I39:J39),\"\")","v":""},"",{"$f":"IFERROR(IF(ISNUMBER(A38),G38/FCT_Estrada_Dados!H39,\"\"),\"\")","v":""},{"$f":"IFERROR(IF(ISNUMBER(A38),H38/FCT_Estrada_Dados!H39,\"\"),\"\")","v":""},{"$f":"IF(ISNUMBER(A38),100*((J38*0.0036)/VLOOKUP(CST_Urbano!$C$7,Combustíveis,2,FALSE)),\"\")","v":""},{"$f":"IF(ISNUMBER(A38),FCT_Estrada_Dados!P39,\"\")","v":""},{"$f":"IF(ISNUMBER(A38),FCT_Estrada_Dados!S39,\"\")","v":""}]
[{"$f":"IF(ISNUMBER(FCT_Estrada_Dados!A40),FCT_Estrada_Dados!A40,\"\")","v":""},{"$f":"IF(ISNUMBER(A39),FCT_Estrada_Dados!B40/FCT_Estrada_Dados!H40,\"\")","v":""},{"$f":"IF(ISNUMBER(A39),FCT_Estrada_Dados!C40/FCT_Estrada_Dados!H40,\"\")","v":""},{"$f":"IF(ISNUMBER(A39),FCT_Estrada_Dados!D40/FCT_Estrada_Dados!H40,\"\")","v":""},{"$f":"IF(ISNUMBER(A39),FCT_Estrada_Dados!E40/FCT_Estrada_Dados!H40,\"\")","v":""},{"$f":"IF(ISNUMBER(A39),FCT_Estrada_Dados!G40/FCT_Estrada_Dados!H40,\"\")","v":""},{"$f":"IF(ISNUMBER(H39),IF(AND(OR(FCT_Estrada_Dados!S40=\"CD\",FCT_Estrada_Dados!S40=\"n-1\",FCT_Estrada_Dados!S40=\"n\"),H39<0),(H39*FCT_Estrada_Dados!$G$10)/(SUMIFS(FCT_Estrada_Dados!$O$18:$O$71,FCT_Estrada_Dados!$S$18:$S$71,\"CD\")+SUMIFS(FCT_Estrada_Dados!$O$18:$O$71,FCT_Estrada_Dados!$S$18:$S$71,\"n-1\")+SUMIFS(FCT_Estrada_Dados!$O$18:$O$71,FCT_Estrada_Dados!$S$18:$S$71,\"n\")),0),\"\")","v":""},{"$f":"IFERROR(FCT_Estrada_Dados!K40*AVERAGE(FCT_Estrada_Dados!I40:J40),\"\")","v":""},"",{"$f":"IFERROR(IF(ISNUMBER(A39),G39/FCT_Estrada_Dados!H40,\"\"),\"\")","v":""},{"$f":"IFERROR(IF(ISNUMBER(A39),H39/FCT_Estrada_Dados!H40,\"\"),\"\")","v":""},{"$f":"IF(ISNUMBER(A39),100*((J39*0.0036)/VLOOKUP(CST_Urbano!$C$7,Combustíveis,2,FALSE)),\"\")","v":""},{"$f":"IF(ISNUMBER(A39),FCT_Estrada_Dados!P40,\"\")","v":""},{"$f":"IF(ISNUMBER(A39),FCT_Estrada_Dados!S40,\"\")","v":""}]
[{"$f":"IF(ISNUMBER(FCT_Estrada_Dados!A41),FCT_Estrada_Dados!A41,\"\")","v":""},{"$f":"IF(ISNUMBER(A40),FCT_Estrada_Dados!B41/FCT_Estrada_Dados!H41,\"\")","v":""},{"$f":"IF(ISNUMBER(A40),FCT_Estrada_Dados!C41/FCT_Estrada_Dados!H41,\"\")","v":""},{"$f":"IF(ISNUMBER(A40),FCT_Estrada_Dados!D41/FCT_Estrada_Dados!H41,\"\")","v":""},{"$f":"IF(ISNUMBER(A40),FCT_Estrada_Dados!E41/FCT_Estrada_Dados!H41,\"\")","v":""},{"$f":"IF(ISNUMBER(A40),FCT_Estrada_Dados!G41/FCT_Estrada_Dados!H41,\"\")","v":""},{"$f":"IF(ISNUMBER(H40),IF(AND(OR(FCT_Estrada_Dados!S41=\"CD\",FCT_Estrada_Dados!S41=\"n-1\",FCT_Estrada_Dados!S41=\"n\"),H40<0),(H40*FCT_Estrada_Dados!$G$10)/(SUMIFS(FCT_Estrada_Dados!$O$18:$O$71,FCT_Estrada_Dados!$S$18:$S$71,\"CD\")+SUMIFS(FCT_Estrada_Dados!$O$18:$O$71,FCT_Estrada_Dados!$S$18:$S$71,\"n-1\")+SUMIFS(FCT_Estrada_Dados!$O$18:$O$71,FCT_Estrada_Dados!$S$18:$S$71,\"n\")),0),\"\")","v":""},{"$f":"IFERROR(FCT_Estrada_Dados!K41*AVERAGE(FCT_Estrada_Dados!I41:J41),\"\")","v":""},"",{"$f":"IFERROR(IF(ISNUMBER(A40),G40/FCT_Estrada_Dados!H41,\"\"),\"\")","v":""},{"$f":"IFERROR(IF(ISNUMBER(A40),H40/FCT_Estrada_Dados!H41,\"\"),\"\")","v":""},{"$f":"IF(ISNUMBER(A40),100*((J40*0.0036)/VLOOKUP(CST_Urbano!$C$7,Combustíveis,2,FALSE)),\"\")","v":""},{"$f":"IF(ISNUMBER(A40),FCT_Estrada_Dados!P41,\"\")","v":""},{"$f":"IF(ISNUMBER(A40),FCT_Estrada_Dados!S41,\"\")","v":""}]
[{"$f":"IF(ISNUMBER(FCT_Estrada_Dados!A42),FCT_Estrada_Dados!A42,\"\")","v":""},{"$f":"IF(ISNUMBER(A41),FCT_Estrada_Dados!B42/FCT_Estrada_Dados!H42,\"\")","v":""},{"$f":"IF(ISNUMBER(A41),FCT_Estrada_Dados!C42/FCT_Estrada_Dados!H42,\"\")","v":""},{"$f":"IF(ISNUMBER(A41),FCT_Estrada_Dados!D42/FCT_Estrada_Dados!H42,\"\")","v":""},{"$f":"IF(ISNUMBER(A41),FCT_Estrada_Dados!E42/FCT_Estrada_Dados!H42,\"\")","v":""},{"$f":"IF(ISNUMBER(A41),FCT_Estrada_Dados!G42/FCT_Estrada_Dados!H42,\"\")","v":""},{"$f":"IF(ISNUMBER(H41),IF(AND(OR(FCT_Estrada_Dados!S42=\"CD\",FCT_Estrada_Dados!S42=\"n-1\",FCT_Estrada_Dados!S42=\"n\"),H41<0),(H41*FCT_Estrada_Dados!$G$10)/(SUMIFS(FCT_Estrada_Dados!$O$18:$O$71,FCT_Estrada_Dados!$S$18:$S$71,\"CD\")+SUMIFS(FCT_Estrada_Dados!$O$18:$O$71,FCT_Estrada_Dados!$S$18:$S$71,\"n-1\")+SUMIFS(FCT_Estrada_Dados!$O$18:$O$71,FCT_Estrada_Dados!$S$18:$S$71,\"n\")),0),\"\")","v":""},{"$f":"IFERROR(FCT_Estrada_Dados!K42*AVERAGE(FCT_Estrada_Dados!I42:J42),\"\")","v":""},"",{"$f":"IFERROR(IF(ISNUMBER(A41),G41/FCT_Estrada_Dados!H42,\"\"),\"\")","v":""},{"$f":"IFERROR(IF(ISNUMBER(A41),H41/FCT_Estrada_Dados!H42,\"\"),\"\")","v":""},{"$f":"IF(ISNUMBER(A41),100*((J41*0.0036)/VLOOKUP(CST_Urbano!$C$7,Combustíveis,2,FALSE)),\"\")","v":""},{"$f":"IF(ISNUMBER(A41),FCT_Estrada_Dados!P42,\"\")","v":""},{"$f":"IF(ISNUMBER(A41),FCT_Estrada_Dados!S42,\"\")","v":""}]
[{"$f":"IF(ISNUMBER(FCT_Estrada_Dados!A43),FCT_Estrada_Dados!A43,\"\")","v":""},{"$f":"IF(ISNUMBER(A42),FCT_Estrada_Dados!B43/FCT_Estrada_Dados!H43,\"\")","v":""},{"$f":"IF(ISNUMBER(A42),FCT_Estrada_Dados!C43/FCT_Estrada_Dados!H43,\"\")","v":""},{"$f":"IF(ISNUMBER(A42),FCT_Estrada_Dados!D43/FCT_Estrada_Dados!H43,\"\")","v":""},{"$f":"IF(ISNUMBER(A42),FCT_Estrada_Dados!E43/FCT_Estrada_Dados!H43,\"\")","v":""},{"$f":"IF(ISNUMBER(A42),FCT_Estrada_Dados!G43/FCT_Estrada_Dados!H43,\"\")","v":""},{"$f":"IF(ISNUMBER(H42),IF(AND(OR(FCT_Estrada_Dados!S43=\"CD\",FCT_Estrada_Dados!S43=\"n-1\",FCT_Estrada_Dados!S43=\"n\"),H42<0),(H42*FCT_Estrada_Dados!$G$10)/(SUMIFS(FCT_Estrada_Dados!$O$18:$O$71,FCT_Estrada_Dados!$S$18:$S$71,\"CD\")+SUMIFS(FCT_Estrada_Dados!$O$18:$O$71,FCT_Estrada_Dados!$S$18:$S$71,\"n-1\")+SUMIFS(FCT_Estrada_Dados!$O$18:$O$71,FCT_Estrada_Dados!$S$18:$S$71,\"n\")),0),\"\")","v":""},{"$f":"IFERROR(FCT_Estrada_Dados!K43*AVERAGE(FCT_Estrada_Dados!I43:J43),\"\")","v":""},"",{"$f":"IFERROR(IF(ISNUMBER(A42),G42/FCT_Estrada_Dados!H43,\"\"),\"\")","v":""},{"$f":"IFERROR(IF(ISNUMBER(A42),H42/FCT_Estrada_Dados!H43,\"\"),\"\")","v":""},{"$f":"IF(ISNUMBER(A42),100*((J42*0.0036)/VLOOKUP(CST_Urbano!$C$7,Combustíveis,2,FALSE)),\"\")","v":""},{"$f":"IF(ISNUMBER(A42),FCT_Estrada_Dados!P43,\"\")","v":""},{"$f":"IF(ISNUMBER(A42),FCT_Estrada_Dados!S43,\"\")","v":""}]
[{"$f":"IF(ISNUMBER(FCT_Estrada_Dados!A44),FCT_Estrada_Dados!A44,\"\")","v":""},{"$f":"IF(ISNUMBER(A43),FCT_Estrada_Dados!B44/FCT_Estrada_Dados!H44,\"\")","v":""},{"$f":"IF(ISNUMBER(A43),FCT_Estrada_Dados!C44/FCT_Estrada_Dados!H44,\"\")","v":""},{"$f":"IF(ISNUMBER(A43),FCT_Estrada_Dados!D44/FCT_Estrada_Dados!H44,\"\")","v":""},{"$f":"IF(ISNUMBER(A43),FCT_Estrada_Dados!E44/FCT_Estrada_Dados!H44,\"\")","v":""},{"$f":"IF(ISNUMBER(A43),FCT_Estrada_Dados!G44/FCT_Estrada_Dados!H44,\"\")","v":""},{"$f":"IF(ISNUMBER(H43),IF(AND(OR(FCT_Estrada_Dados!S44=\"CD\",FCT_Estrada_Dados!S44=\"n-1\",FCT_Estrada_Dados!S44=\"n\"),H43<0),(H43*FCT_Estrada_Dados!$G$10)/(SUMIFS(FCT_Estrada_Dados!$O$18:$O$71,FCT_Estrada_Dados!$S$18:$S$71,\"CD\")+SUMIFS(FCT_Estrada_Dados!$O$18:$O$71,FCT_Estrada_Dados!$S$18:$S$71,\"n-1\")+SUMIFS(FCT_Estrada_Dados!$O$18:$O$71,FCT_Estrada_Dados!$S$18:$S$71,\"n\")),0),\"\")","v":""},{"$f":"IFERROR(FCT_Estrada_Dados!K44*AVERAGE(FCT_Estrada_Dados!I44:J44),\"\")","v":""},"",{"$f":"IFERROR(IF(ISNUMBER(A43),G43/FCT_Estrada_Dados!H44,\"\"),\"\")","v":""},{"$f":"IFERROR(IF(ISNUMBER(A43),H43/FCT_Estrada_Dados!H44,\"\"),\"\")","v":""},{"$f":"IF(ISNUMBER(A43),100*((J43*0.0036)/VLOOKUP(CST_Urbano!$C$7,Combustíveis,2,FALSE)),\"\")","v":""},{"$f":"IF(ISNUMBER(A43),FCT_Estrada_Dados!P44,\"\")","v":""},{"$f":"IF(ISNUMBER(A43),FCT_Estrada_Dados!S44,\"\")","v":""}]
[{"$f":"IF(ISNUMBER(FCT_Estrada_Dados!A45),FCT_Estrada_Dados!A45,\"\")","v":""},{"$f":"IF(ISNUMBER(A44),FCT_Estrada_Dados!B45/FCT_Estrada_Dados!H45,\"\")","v":""},{"$f":"IF(ISNUMBER(A44),FCT_Estrada_Dados!C45/FCT_Estrada_Dados!H45,\"\")","v":""},{"$f":"IF(ISNUMBER(A44),FCT_Estrada_Dados!D45/FCT_Estrada_Dados!H45,\"\")","v":""},{"$f":"IF(ISNUMBER(A44),FCT_Estrada_Dados!E45/FCT_Estrada_Dados!H45,\"\")","v":""},{"$f":"IF(ISNUMBER(A44),FCT_Estrada_Dados!G45/FCT_Estrada_Dados!H45,\"\")","v":""},{"$f":"IF(ISNUMBER(H44),IF(AND(OR(FCT_Estrada_Dados!S45=\"CD\",FCT_Estrada_Dados!S45=\"n-1\",FCT_Estrada_Dados!S45=\"n\"),H44<0),(H44*FCT_Estrada_Dados!$G$10)/(SUMIFS(FCT_Estrada_Dados!$O$18:$O$71,FCT_Estrada_Dados!$S$18:$S$71,\"CD\")+SUMIFS(FCT_Estrada_Dados!$O$18:$O$71,FCT_Estrada_Dados!$S$18:$S$71,\"n-1\")+SUMIFS(FCT_Estrada_Dados!$O$18:$O$71,FCT_Estrada_Dados!$S$18:$S$71,\"n\")),0),\"\")","v":""},{"$f":"IFERROR(FCT_Estrada_Dados!K45*AVERAGE(FCT_Estrada_Dados!I45:J45),\"\")","v":""},"",{"$f":"IFERROR(IF(ISNUMBER(A44),G44/FCT_Estrada_Dados!H45,\"\"),\"\")","v":""},{"$f":"IFERROR(IF(ISNUMBER(A44),H44/FCT_Estrada_Dados!H45,\"\"),\"\")","v":""},{"$f":"IF(ISNUMBER(A44),100*((J44*0.0036)/VLOOKUP(CST_Urbano!$C$7,Combustíveis,2,FALSE)),\"\")","v":""},{"$f":"IF(ISNUMBER(A44),FCT_Estrada_Dados!P45,\"\")","v":""},{"$f":"IF(ISNUMBER(A44),FCT_Estrada_Dados!S45,\"\")","v":""}]
[{"$f":"IF(ISNUMBER(FCT_Estrada_Dados!A46),FCT_Estrada_Dados!A46,\"\")","v":""},{"$f":"IF(ISNUMBER(A45),FCT_Estrada_Dados!B46/FCT_Estrada_Dados!H46,\"\")","v":""},{"$f":"IF(ISNUMBER(A45),FCT_Estrada_Dados!C46/FCT_Estrada_Dados!H46,\"\")","v":""},{"$f":"IF(ISNUMBER(A45),FCT_Estrada_Dados!D46/FCT_Estrada_Dados!H46,\"\")","v":""},{"$f":"IF(ISNUMBER(A45),FCT_Estrada_Dados!E46/FCT_Estrada_Dados!H46,\"\")","v":""},{"$f":"IF(ISNUMBER(A45),FCT_Estrada_Dados!G46/FCT_Estrada_Dados!H46,\"\")","v":""},{"$f":"IF(ISNUMBER(H45),IF(AND(OR(FCT_Estrada_Dados!S46=\"CD\",FCT_Estrada_Dados!S46=\"n-1\",FCT_Estrada_Dados!S46=\"n\"),H45<0),(H45*FCT_Estrada_Dados!$G$10)/(SUMIFS(FCT_Estrada_Dados!$O$18:$O$71,FCT_Estrada_Dados!$S$18:$S$71,\"CD\")+SUMIFS(FCT_Estrada_Dados!$O$18:$O$71,FCT_Estrada_Dados!$S$18:$S$71,\"n-1\")+SUMIFS(FCT_Estrada_Dados!$O$18:$O$71,FCT_Estrada_Dados!$S$18:$S$71,\"n\")),0),\"\")","v":""},{"$f":"IFERROR(FCT_Estrada_Dados!K46*AVERAGE(FCT_Estrada_Dados!I46:J46),\"\")","v":""},"",{"$f":"IFERROR(IF(ISNUMBER(A45),G45/FCT_Estrada_Dados!H46,\"\"),\"\")","v":""},{"$f":"IFERROR(IF(ISNUMBER(A45),H45/FCT_Estrada_Dados!H46,\"\"),\"\")","v":""},{"$f":"IF(ISNUMBER(A45),100*((J45*0.0036)/VLOOKUP(CST_Urbano!$C$7,Combustíveis,2,FALSE)),\"\")","v":""},{"$f":"IF(ISNUMBER(A45),FCT_Estrada_Dados!P46,\"\")","v":""},{"$f":"IF(ISNUMBER(A45),FCT_Estrada_Dados!S46,\"\")","v":""}]
[{"$f":"IF(ISNUMBER(FCT_Estrada_Dados!A47),FCT_Estrada_Dados!A47,\"\")","v":""},{"$f":"IF(ISNUMBER(A46),FCT_Estrada_Dados!B47/FCT_Estrada_Dados!H47,\"\")","v":""},{"$f":"IF(ISNUMBER(A46),FCT_Estrada_Dados!C47/FCT_Estrada_Dados!H47,\"\")","v":""},{"$f":"IF(ISNUMBER(A46),FCT_Estrada_Dados!D47/FCT_Estrada_Dados!H47,\"\")","v":""},{"$f":"IF(ISNUMBER(A46),FCT_Estrada_Dados!E47/FCT_Estrada_Dados!H47,\"\")","v":""},{"$f":"IF(ISNUMBER(A46),FCT_Estrada_Dados!G47/FCT_Estrada_Dados!H47,\"\")","v":""},{"$f":"IF(ISNUMBER(H46),IF(AND(OR(FCT_Estrada_Dados!S47=\"CD\",FCT_Estrada_Dados!S47=\"n-1\",FCT_Estrada_Dados!S47=\"n\"),H46<0),(H46*FCT_Estrada_Dados!$G$10)/(SUMIFS(FCT_Estrada_Dados!$O$18:$O$71,FCT_Estrada_Dados!$S$18:$S$71,\"CD\")+SUMIFS(FCT_Estrada_Dados!$O$18:$O$71,FCT_Estrada_Dados!$S$18:$S$71,\"n-1\")+SUMIFS(FCT_Estrada_Dados!$O$18:$O$71,FCT_Estrada_Dados!$S$18:$S$71,\"n\")),0),\"\")","v":""},{"$f":"IFERROR(FCT_Estrada_Dados!K47*AVERAGE(FCT_Estrada_Dados!I47:J47),\"\")","v":""},"",{"$f":"IFERROR(IF(ISNUMBER(A46),G46/FCT_Estrada_Dados!H47,\"\"),\"\")","v":""},{"$f":"IFERROR(IF(ISNUMBER(A46),H46/FCT_Estrada_Dados!H47,\"\"),\"\")","v":""},{"$f":"IF(ISNUMBER(A46),100*((J46*0.0036)/VLOOKUP(CST_Urbano!$C$7,Combustíveis,2,FALSE)),\"\")","v":""},{"$f":"IF(ISNUMBER(A46),FCT_Estrada_Dados!P47,\"\")","v":""},{"$f":"IF(ISNUMBER(A46),FCT_Estrada_Dados!S47,\"\")","v":""}]
[{"$f":"IF(ISNUMBER(FCT_Estrada_Dados!A48),FCT_Estrada_Dados!A48,\"\")","v":""},{"$f":"IF(ISNUMBER(A47),FCT_Estrada_Dados!B48/FCT_Estrada_Dados!H48,\"\")","v":""},{"$f":"IF(ISNUMBER(A47),FCT_Estrada_Dados!C48/FCT_Estrada_Dados!H48,\"\")","v":""},{"$f":"IF(ISNUMBER(A47),FCT_Estrada_Dados!D48/FCT_Estrada_Dados!H48,\"\")","v":""},{"$f":"IF(ISNUMBER(A47),FCT_Estrada_Dados!E48/FCT_Estrada_Dados!H48,\"\")","v":""},{"$f":"IF(ISNUMBER(A47),FCT_Estrada_Dados!G48/FCT_Estrada_Dados!H48,\"\")","v":""},{"$f":"IF(ISNUMBER(H47),IF(AND(OR(FCT_Estrada_Dados!S48=\"CD\",FCT_Estrada_Dados!S48=\"n-1\",FCT_Estrada_Dados!S48=\"n\"),H47<0),(H47*FCT_Estrada_Dados!$G$10)/(SUMIFS(FCT_Estrada_Dados!$O$18:$O$71,FCT_Estrada_Dados!$S$18:$S$71,\"CD\")+SUMIFS(FCT_Estrada_Dados!$O$18:$O$71,FCT_Estrada_Dados!$S$18:$S$71,\"n-1\")+SUMIFS(FCT_Estrada_Dados!$O$18:$O$71,FCT_Estrada_Dados!$S$18:$S$71,\"n\")),0),\"\")","v":""},{"$f":"IFERROR(FCT_Estrada_Dados!K48*AVERAGE(FCT_Estrada_Dados!I48:J48),\"\")","v":""},"",{"$f":"IFERROR(IF(ISNUMBER(A47),G47/FCT_Estrada_Dados!H48,\"\"),\"\")","v":""},{"$f":"IFERROR(IF(ISNUMBER(A47),H47/FCT_Estrada_Dados!H48,\"\"),\"\")","v":""},{"$f":"IF(ISNUMBER(A47),100*((J47*0.0036)/VLOOKUP(CST_Urbano!$C$7,Combustíveis,2,FALSE)),\"\")","v":""},{"$f":"IF(ISNUMBER(A47),FCT_Estrada_Dados!P48,\"\")","v":""},{"$f":"IF(ISNUMBER(A47),FCT_Estrada_Dados!S48,\"\")","v":""}]
[{"$f":"IF(ISNUMBER(FCT_Estrada_Dados!A49),FCT_Estrada_Dados!A49,\"\")","v":""},{"$f":"IF(ISNUMBER(A48),FCT_Estrada_Dados!B49/FCT_Estrada_Dados!H49,\"\")","v":""},{"$f":"IF(ISNUMBER(A48),FCT_Estrada_Dados!C49/FCT_Estrada_Dados!H49,\"\")","v":""},{"$f":"IF(ISNUMBER(A48),FCT_Estrada_Dados!D49/FCT_Estrada_Dados!H49,\"\")","v":""},{"$f":"IF(ISNUMBER(A48),FCT_Estrada_Dados!E49/FCT_Estrada_Dados!H49,\"\")","v":""},{"$f":"IF(ISNUMBER(A48),FCT_Estrada_Dados!G49/FCT_Estrada_Dados!H49,\"\")","v":""},{"$f":"IF(ISNUMBER(H48),IF(AND(OR(FCT_Estrada_Dados!S49=\"CD\",FCT_Estrada_Dados!S49=\"n-1\",FCT_Estrada_Dados!S49=\"n\"),H48<0),(H48*FCT_Estrada_Dados!$G$10)/(SUMIFS(FCT_Estrada_Dados!$O$18:$O$71,FCT_Estrada_Dados!$S$18:$S$71,\"CD\")+SUMIFS(FCT_Estrada_Dados!$O$18:$O$71,FCT_Estrada_Dados!$S$18:$S$71,\"n-1\")+SUMIFS(FCT_Estrada_Dados!$O$18:$O$71,FCT_Estrada_Dados!$S$18:$S$71,\"n\")),0),\"\")","v":""},{"$f":"IFERROR(FCT_Estrada_Dados!K49*AVERAGE(FCT_Estrada_Dados!I49:J49),\"\")","v":""},"",{"$f":"IFERROR(IF(ISNUMBER(A48),G48/FCT_Estrada_Dados!H49,\"\"),\"\")","v":""},{"$f":"IFERROR(IF(ISNUMBER(A48),H48/FCT_Estrada_Dados!H49,\"\"),\"\")","v":""},{"$f":"IF(ISNUMBER(A48),100*((J48*0.0036)/VLOOKUP(CST_Urbano!$C$7,Combustíveis,2,FALSE)),\"\")","v":""},{"$f":"IF(ISNUMBER(A48),FCT_Estrada_Dados!P49,\"\")","v":""},{"$f":"IF(ISNUMBER(A48),FCT_Estrada_Dados!S49,\"\")","v":""}]
[{"$f":"IF(ISNUMBER(FCT_Estrada_Dados!A50),FCT_Estrada_Dados!A50,\"\")","v":""},{"$f":"IF(ISNUMBER(A49),FCT_Estrada_Dados!B50/FCT_Estrada_Dados!H50,\"\")","v":""},{"$f":"IF(ISNUMBER(A49),FCT_Estrada_Dados!C50/FCT_Estrada_Dados!H50,\"\")","v":""},{"$f":"IF(ISNUMBER(A49),FCT_Estrada_Dados!D50/FCT_Estrada_Dados!H50,\"\")","v":""},{"$f":"IF(ISNUMBER(A49),FCT_Estrada_Dados!E50/FCT_Estrada_Dados!H50,\"\")","v":""},{"$f":"IF(ISNUMBER(A49),FCT_Estrada_Dados!G50/FCT_Estrada_Dados!H50,\"\")","v":""},{"$f":"IF(ISNUMBER(H49),IF(AND(OR(FCT_Estrada_Dados!S50=\"CD\",FCT_Estrada_Dados!S50=\"n-1\",FCT_Estrada_Dados!S50=\"n\"),H49<0),(H49*FCT_Estrada_Dados!$G$10)/(SUMIFS(FCT_Estrada_Dados!$O$18:$O$71,FCT_Estrada_Dados!$S$18:$S$71,\"CD\")+SUMIFS(FCT_Estrada_Dados!$O$18:$O$71,FCT_Estrada_Dados!$S$18:$S$71,\"n-1\")+SUMIFS(FCT_Estrada_Dados!$O$18:$O$71,FCT_Estrada_Dados!$S$18:$S$71,\"n\")),0),\"\")","v":""},{"$f":"IFERROR(FCT_Estrada_Dados!K50*AVERAGE(FCT_Estrada_Dados!I50:J50),\"\")","v":""},"",{"$f":"IFERROR(IF(ISNUMBER(A49),G49/FCT_Estrada_Dados!H50,\"\"),\"\")","v":""},{"$f":"IFERROR(IF(ISNUMBER(A49),H49/FCT_Estrada_Dados!H50,\"\"),\"\")","v":""},{"$f":"IF(ISNUMBER(A49),100*((J49*0.0036)/VLOOKUP(CST_Urbano!$C$7,Combustíveis,2,FALSE)),\"\")","v":""},{"$f":"IF(ISNUMBER(A49),FCT_Estrada_Dados!P50,\"\")","v":""},{"$f":"IF(ISNUMBER(A49),FCT_Estrada_Dados!S50,\"\")","v":""}]
[{"$f":"IF(ISNUMBER(FCT_Estrada_Dados!A51),FCT_Estrada_Dados!A51,\"\")","v":""},{"$f":"IF(ISNUMBER(A50),FCT_Estrada_Dados!B51/FCT_Estrada_Dados!H51,\"\")","v":""},{"$f":"IF(ISNUMBER(A50),FCT_Estrada_Dados!C51/FCT_Estrada_Dados!H51,\"\")","v":""},{"$f":"IF(ISNUMBER(A50),FCT_Estrada_Dados!D51/FCT_Estrada_Dados!H51,\"\")","v":""},{"$f":"IF(ISNUMBER(A50),FCT_Estrada_Dados!E51/FCT_Estrada_Dados!H51,\"\")","v":""},{"$f":"IF(ISNUMBER(A50),FCT_Estrada_Dados!G51/FCT_Estrada_Dados!H51,\"\")","v":""},{"$f":"IF(ISNUMBER(H50),IF(AND(OR(FCT_Estrada_Dados!S51=\"CD\",FCT_Estrada_Dados!S51=\"n-1\",FCT_Estrada_Dados!S51=\"n\"),H50<0),(H50*FCT_Estrada_Dados!$G$10)/(SUMIFS(FCT_Estrada_Dados!$O$18:$O$71,FCT_Estrada_Dados!$S$18:$S$71,\"CD\")+SUMIFS(FCT_Estrada_Dados!$O$18:$O$71,FCT_Estrada_Dados!$S$18:$S$71,\"n-1\")+SUMIFS(FCT_Estrada_Dados!$O$18:$O$71,FCT_Estrada_Dados!$S$18:$S$71,\"n\")),0),\"\")","v":""},{"$f":"IFERROR(FCT_Estrada_Dados!K51*AVERAGE(FCT_Estrada_Dados!I51:J51),\"\")","v":""},"",{"$f":"IFERROR(IF(ISNUMBER(A50),G50/FCT_Estrada_Dados!H51,\"\"),\"\")","v":""},{"$f":"IFERROR(IF(ISNUMBER(A50),H50/FCT_Estrada_Dados!H51,\"\"),\"\")","v":""},{"$f":"IF(ISNUMBER(A50),100*((J50*0.0036)/VLOOKUP(CST_Urbano!$C$7,Combustíveis,2,FALSE)),\"\")","v":""},{"$f":"IF(ISNUMBER(A50),FCT_Estrada_Dados!P51,\"\")","v":""},{"$f":"IF(ISNUMBER(A50),FCT_Estrada_Dados!S51,\"\")","v":""}]
[{"$f":"IF(ISNUMBER(FCT_Estrada_Dados!A52),FCT_Estrada_Dados!A52,\"\")","v":""},{"$f":"IF(ISNUMBER(A51),FCT_Estrada_Dados!B52/FCT_Estrada_Dados!H52,\"\")","v":""},{"$f":"IF(ISNUMBER(A51),FCT_Estrada_Dados!C52/FCT_Estrada_Dados!H52,\"\")","v":""},{"$f":"IF(ISNUMBER(A51),FCT_Estrada_Dados!D52/FCT_Estrada_Dados!H52,\"\")","v":""},{"$f":"IF(ISNUMBER(A51),FCT_Estrada_Dados!E52/FCT_Estrada_Dados!H52,\"\")","v":""},{"$f":"IF(ISNUMBER(A51),FCT_Estrada_Dados!G52/FCT_Estrada_Dados!H52,\"\")","v":""},{"$f":"IF(ISNUMBER(H51),IF(AND(OR(FCT_Estrada_Dados!S52=\"CD\",FCT_Estrada_Dados!S52=\"n-1\",FCT_Estrada_Dados!S52=\"n\"),H51<0),(H51*FCT_Estrada_Dados!$G$10)/(SUMIFS(FCT_Estrada_Dados!$O$18:$O$71,FCT_Estrada_Dados!$S$18:$S$71,\"CD\")+SUMIFS(FCT_Estrada_Dados!$O$18:$O$71,FCT_Estrada_Dados!$S$18:$S$71,\"n-1\")+SUMIFS(FCT_Estrada_Dados!$O$18:$O$71,FCT_Estrada_Dados!$S$18:$S$71,\"n\")),0),\"\")","v":""},{"$f":"IFERROR(FCT_Estrada_Dados!K52*AVERAGE(FCT_Estrada_Dados!I52:J52),\"\")","v":""},"",{"$f":"IFERROR(IF(ISNUMBER(A51),G51/FCT_Estrada_Dados!H52,\"\"),\"\")","v":""},{"$f":"IFERROR(IF(ISNUMBER(A51),H51/FCT_Estrada_Dados!H52,\"\"),\"\")","v":""},{"$f":"IF(ISNUMBER(A51),100*((J51*0.0036)/VLOOKUP(CST_Urbano!$C$7,Combustíveis,2,FALSE)),\"\")","v":""},{"$f":"IF(ISNUMBER(A51),FCT_Estrada_Dados!P52,\"\")","v":""},{"$f":"IF(ISNUMBER(A51),FCT_Estrada_Dados!S52,\"\")","v":""}]
[{"$f":"IF(ISNUMBER(FCT_Estrada_Dados!A53),FCT_Estrada_Dados!A53,\"\")","v":""},{"$f":"IF(ISNUMBER(A52),FCT_Estrada_Dados!B53/FCT_Estrada_Dados!H53,\"\")","v":""},{"$f":"IF(ISNUMBER(A52),FCT_Estrada_Dados!C53/FCT_Estrada_Dados!H53,\"\")","v":""},{"$f":"IF(ISNUMBER(A52),FCT_Estrada_Dados!D53/FCT_Estrada_Dados!H53,\"\")","v":""},{"$f":"IF(ISNUMBER(A52),FCT_Estrada_Dados!E53/FCT_Estrada_Dados!H53,\"\")","v":""},{"$f":"IF(ISNUMBER(A52),FCT_Estrada_Dados!G53/FCT_Estrada_Dados!H53,\"\")","v":""},{"$f":"IF(ISNUMBER(H52),IF(AND(OR(FCT_Estrada_Dados!S53=\"CD\",FCT_Estrada_Dados!S53=\"n-1\",FCT_Estrada_Dados!S53=\"n\"),H52<0),(H52*FCT_Estrada_Dados!$G$10)/(SUMIFS(FCT_Estrada_Dados!$O$18:$O$71,FCT_Estrada_Dados!$S$18:$S$71,\"CD\")+SUMIFS(FCT_Estrada_Dados!$O$18:$O$71,FCT_Estrada_Dados!$S$18:$S$71,\"n-1\")+SUMIFS(FCT_Estrada_Dados!$O$18:$O$71,FCT_Estrada_Dados!$S$18:$S$71,\"n\")),0),\"\")","v":""},{"$f":"IFERROR(FCT_Estrada_Dados!K53*AVERAGE(FCT_Estrada_Dados!I53:J53),\"\")","v":""},"",{"$f":"IFERROR(IF(ISNUMBER(A52),G52/FCT_Estrada_Dados!H53,\"\"),\"\")","v":""},{"$f":"IFERROR(IF(ISNUMBER(A52),H52/FCT_Estrada_Dados!H53,\"\"),\"\")","v":""},{"$f":"IF(ISNUMBER(A52),100*((J52*0.0036)/VLOOKUP(CST_Urbano!$C$7,Combustíveis,2,FALSE)),\"\")","v":""},{"$f":"IF(ISNUMBER(A52),FCT_Estrada_Dados!P53,\"\")","v":""},{"$f":"IF(ISNUMBER(A52),FCT_Estrada_Dados!S53,\"\")","v":""}]
[{"$f":"IF(ISNUMBER(FCT_Estrada_Dados!A54),FCT_Estrada_Dados!A54,\"\")","v":""},{"$f":"IF(ISNUMBER(A53),FCT_Estrada_Dados!B54/FCT_Estrada_Dados!H54,\"\")","v":""},{"$f":"IF(ISNUMBER(A53),FCT_Estrada_Dados!C54/FCT_Estrada_Dados!H54,\"\")","v":""},{"$f":"IF(ISNUMBER(A53),FCT_Estrada_Dados!D54/FCT_Estrada_Dados!H54,\"\")","v":""},{"$f":"IF(ISNUMBER(A53),FCT_Estrada_Dados!E54/FCT_Estrada_Dados!H54,\"\")","v":""},{"$f":"IF(ISNUMBER(A53),FCT_Estrada_Dados!G54/FCT_Estrada_Dados!H54,\"\")","v":""},{"$f":"IF(ISNUMBER(H53),IF(AND(OR(FCT_Estrada_Dados!S54=\"CD\",FCT_Estrada_Dados!S54=\"n-1\",FCT_Estrada_Dados!S54=\"n\"),H53<0),(H53*FCT_Estrada_Dados!$G$10)/(SUMIFS(FCT_Estrada_Dados!$O$18:$O$71,FCT_Estrada_Dados!$S$18:$S$71,\"CD\")+SUMIFS(FCT_Estrada_Dados!$O$18:$O$71,FCT_Estrada_Dados!$S$18:$S$71,\"n-1\")+SUMIFS(FCT_Estrada_Dados!$O$18:$O$71,FCT_Estrada_Dados!$S$18:$S$71,\"n\")),0),\"\")","v":""},{"$f":"IFERROR(FCT_Estrada_Dados!K54*AVERAGE(FCT_Estrada_Dados!I54:J54),\"\")","v":""},"",{"$f":"IFERROR(IF(ISNUMBER(A53),G53/FCT_Estrada_Dados!H54,\"\"),\"\")","v":""},{"$f":"IFERROR(IF(ISNUMBER(A53),H53/FCT_Estrada_Dados!H54,\"\"),\"\")","v":""},{"$f":"IF(ISNUMBER(A53),100*((J53*0.0036)/VLOOKUP(CST_Urbano!$C$7,Combustíveis,2,FALSE)),\"\")","v":""},{"$f":"IF(ISNUMBER(A53),FCT_Estrada_Dados!P54,\"\")","v":""},{"$f":"IF(ISNUMBER(A53),FCT_Estrada_Dados!S54,\"\")","v":""}]
[{"$f":"IF(ISNUMBER(FCT_Estrada_Dados!A55),FCT_Estrada_Dados!A55,\"\")","v":""},{"$f":"IF(ISNUMBER(A54),FCT_Estrada_Dados!B55/FCT_Estrada_Dados!H55,\"\")","v":""},{"$f":"IF(ISNUMBER(A54),FCT_Estrada_Dados!C55/FCT_Estrada_Dados!H55,\"\")","v":""},{"$f":"IF(ISNUMBER(A54),FCT_Estrada_Dados!D55/FCT_Estrada_Dados!H55,\"\")","v":""},{"$f":"IF(ISNUMBER(A54),FCT_Estrada_Dados!E55/FCT_Estrada_Dados!H55,\"\")","v":""},{"$f":"IF(ISNUMBER(A54),FCT_Estrada_Dados!G55/FCT_Estrada_Dados!H55,\"\")","v":""},{"$f":"IF(ISNUMBER(H54),IF(AND(OR(FCT_Estrada_Dados!S55=\"CD\",FCT_Estrada_Dados!S55=\"n-1\",FCT_Estrada_Dados!S55=\"n\"),H54<0),(H54*FCT_Estrada_Dados!$G$10)/(SUMIFS(FCT_Estrada_Dados!$O$18:$O$71,FCT_Estrada_Dados!$S$18:$S$71,\"CD\")+SUMIFS(FCT_Estrada_Dados!$O$18:$O$71,FCT_Estrada_Dados!$S$18:$S$71,\"n-1\")+SUMIFS(FCT_Estrada_Dados!$O$18:$O$71,FCT_Estrada_Dados!$S$18:$S$71,\"n\")),0),\"\")","v":""},{"$f":"IFERROR(FCT_Estrada_Dados!K55*AVERAGE(FCT_Estrada_Dados!I55:J55),\"\")","v":""},"",{"$f":"IFERROR(IF(ISNUMBER(A54),G54/FCT_Estrada_Dados!H55,\"\"),\"\")","v":""},{"$f":"IFERROR(IF(ISNUMBER(A54),H54/FCT_Estrada_Dados!H55,\"\"),\"\")","v":""},{"$f":"IF(ISNUMBER(A54),100*((J54*0.0036)/VLOOKUP(CST_Urbano!$C$7,Combustíveis,2,FALSE)),\"\")","v":""},{"$f":"IF(ISNUMBER(A54),FCT_Estrada_Dados!P55,\"\")","v":""},{"$f":"IF(ISNUMBER(A54),FCT_Estrada_Dados!S55,\"\")","v":""}]
[{"$f":"IF(ISNUMBER(FCT_Estrada_Dados!A56),FCT_Estrada_Dados!A56,\"\")","v":""},{"$f":"IF(ISNUMBER(A55),FCT_Estrada_Dados!B56/FCT_Estrada_Dados!H56,\"\")","v":""},{"$f":"IF(ISNUMBER(A55),FCT_Estrada_Dados!C56/FCT_Estrada_Dados!H56,\"\")","v":""},{"$f":"IF(ISNUMBER(A55),FCT_Estrada_Dados!D56/FCT_Estrada_Dados!H56,\"\")","v":""},{"$f":"IF(ISNUMBER(A55),FCT_Estrada_Dados!E56/FCT_Estrada_Dados!H56,\"\")","v":""},{"$f":"IF(ISNUMBER(A55),FCT_Estrada_Dados!G56/FCT_Estrada_Dados!H56,\"\")","v":""},{"$f":"IF(ISNUMBER(H55),IF(AND(OR(FCT_Estrada_Dados!S56=\"CD\",FCT_Estrada_Dados!S56=\"n-1\",FCT_Estrada_Dados!S56=\"n\"),H55<0),(H55*FCT_Estrada_Dados!$G$10)/(SUMIFS(FCT_Estrada_Dados!$O$18:$O$71,FCT_Estrada_Dados!$S$18:$S$71,\"CD\")+SUMIFS(FCT_Estrada_Dados!$O$18:$O$71,FCT_Estrada_Dados!$S$18:$S$71,\"n-1\")+SUMIFS(FCT_Estrada_Dados!$O$18:$O$71,FCT_Estrada_Dados!$S$18:$S$71,\"n\")),0),\"\")","v":""},{"$f":"IFERROR(FCT_Estrada_Dados!K56*AVERAGE(FCT_Estrada_Dados!I56:J56),\"\")","v":""},"",{"$f":"IFERROR(IF(ISNUMBER(A55),G55/FCT_Estrada_Dados!H56,\"\"),\"\")","v":""},{"$f":"IFERROR(IF(ISNUMBER(A55),H55/FCT_Estrada_Dados!H56,\"\"),\"\")","v":""},{"$f":"IF(ISNUMBER(A55),100*((J55*0.0036)/VLOOKUP(CST_Urbano!$C$7,Combustíveis,2,FALSE)),\"\")","v":""},{"$f":"IF(ISNUMBER(A55),FCT_Estrada_Dados!P56,\"\")","v":""},{"$f":"IF(ISNUMBER(A55),FCT_Estrada_Dados!S56,\"\")","v":""}]
[{"$f":"IF(ISNUMBER(FCT_Estrada_Dados!A57),FCT_Estrada_Dados!A57,\"\")","v":""},{"$f":"IF(ISNUMBER(A56),FCT_Estrada_Dados!B57/FCT_Estrada_Dados!H57,\"\")","v":""},{"$f":"IF(ISNUMBER(A56),FCT_Estrada_Dados!C57/FCT_Estrada_Dados!H57,\"\")","v":""},{"$f":"IF(ISNUMBER(A56),FCT_Estrada_Dados!D57/FCT_Estrada_Dados!H57,\"\")","v":""},{"$f":"IF(ISNUMBER(A56),FCT_Estrada_Dados!E57/FCT_Estrada_Dados!H57,\"\")","v":""},{"$f":"IF(ISNUMBER(A56),FCT_Estrada_Dados!G57/FCT_Estrada_Dados!H57,\"\")","v":""},{"$f":"IF(ISNUMBER(H56),IF(AND(OR(FCT_Estrada_Dados!S57=\"CD\",FCT_Estrada_Dados!S57=\"n-1\",FCT_Estrada_Dados!S57=\"n\"),H56<0),(H56*FCT_Estrada_Dados!$G$10)/(SUMIFS(FCT_Estrada_Dados!$O$18:$O$71,FCT_Estrada_Dados!$S$18:$S$71,\"CD\")+SUMIFS(FCT_Estrada_Dados!$O$18:$O$71,FCT_Estrada_Dados!$S$18:$S$71,\"n-1\")+SUMIFS(FCT_Estrada_Dados!$O$18:$O$71,FCT_Estrada_Dados!$S$18:$S$71,\"n\")),0),\"\")","v":""},{"$f":"IFERROR(FCT_Estrada_Dados!K57*AVERAGE(FCT_Estrada_Dados!I57:J57),\"\")","v":""},"",{"$f":"IFERROR(IF(ISNUMBER(A56),G56/FCT_Estrada_Dados!H57,\"\"),\"\")","v":""},{"$f":"IFERROR(IF(ISNUMBER(A56),H56/FCT_Estrada_Dados!H57,\"\"),\"\")","v":""},{"$f":"IF(ISNUMBER(A56),100*((J56*0.0036)/VLOOKUP(CST_Urbano!$C$7,Combustíveis,2,FALSE)),\"\")","v":""},{"$f":"IF(ISNUMBER(A56),FCT_Estrada_Dados!P57,\"\")","v":""},{"$f":"IF(ISNUMBER(A56),FCT_Estrada_Dados!S57,\"\")","v":""}]
[{"$f":"IF(ISNUMBER(FCT_Estrada_Dados!A58),FCT_Estrada_Dados!A58,\"\")","v":""},{"$f":"IF(ISNUMBER(A57),FCT_Estrada_Dados!B58/FCT_Estrada_Dados!H58,\"\")","v":""},{"$f":"IF(ISNUMBER(A57),FCT_Estrada_Dados!C58/FCT_Estrada_Dados!H58,\"\")","v":""},{"$f":"IF(ISNUMBER(A57),FCT_Estrada_Dados!D58/FCT_Estrada_Dados!H58,\"\")","v":""},{"$f":"IF(ISNUMBER(A57),FCT_Estrada_Dados!E58/FCT_Estrada_Dados!H58,\"\")","v":""},{"$f":"IF(ISNUMBER(A57),FCT_Estrada_Dados!G58/FCT_Estrada_Dados!H58,\"\")","v":""},{"$f":"IF(ISNUMBER(H57),IF(AND(OR(FCT_Estrada_Dados!S58=\"CD\",FCT_Estrada_Dados!S58=\"n-1\",FCT_Estrada_Dados!S58=\"n\"),H57<0),(H57*FCT_Estrada_Dados!$G$10)/(SUMIFS(FCT_Estrada_Dados!$O$18:$O$71,FCT_Estrada_Dados!$S$18:$S$71,\"CD\")+SUMIFS(FCT_Estrada_Dados!$O$18:$O$71,FCT_Estrada_Dados!$S$18:$S$71,\"n-1\")+SUMIFS(FCT_Estrada_Dados!$O$18:$O$71,FCT_Estrada_Dados!$S$18:$S$71,\"n\")),0),\"\")","v":""},{"$f":"IFERROR(FCT_Estrada_Dados!K58*AVERAGE(FCT_Estrada_Dados!I58:J58),\"\")","v":""},"",{"$f":"IFERROR(IF(ISNUMBER(A57),G57/FCT_Estrada_Dados!H58,\"\"),\"\")","v":""},{"$f":"IFERROR(IF(ISNUMBER(A57),H57/FCT_Estrada_Dados!H58,\"\"),\"\")","v":""},{"$f":"IF(ISNUMBER(A57),100*((J57*0.0036)/VLOOKUP(CST_Urbano!$C$7,Combustíveis,2,FALSE)),\"\")","v":""},{"$f":"IF(ISNUMBER(A57),FCT_Estrada_Dados!P58,\"\")","v":""},{"$f":"IF(ISNUMBER(A57),FCT_Estrada_Dados!S58,\"\")","v":""}]
[{"$f":"IF(ISNUMBER(FCT_Estrada_Dados!A59),FCT_Estrada_Dados!A59,\"\")","v":""},{"$f":"IF(ISNUMBER(A58),FCT_Estrada_Dados!B59/FCT_Estrada_Dados!H59,\"\")","v":""},{"$f":"IF(ISNUMBER(A58),FCT_Estrada_Dados!C59/FCT_Estrada_Dados!H59,\"\")","v":""},{"$f":"IF(ISNUMBER(A58),FCT_Estrada_Dados!D59/FCT_Estrada_Dados!H59,\"\")","v":""},{"$f":"IF(ISNUMBER(A58),FCT_Estrada_Dados!E59/FCT_Estrada_Dados!H59,\"\")","v":""},{"$f":"IF(ISNUMBER(A58),FCT_Estrada_Dados!G59/FCT_Estrada_Dados!H59,\"\")","v":""},{"$f":"IF(ISNUMBER(H58),IF(AND(OR(FCT_Estrada_Dados!S59=\"CD\",FCT_Estrada_Dados!S59=\"n-1\",FCT_Estrada_Dados!S59=\"n\"),H58<0),(H58*FCT_Estrada_Dados!$G$10)/(SUMIFS(FCT_Estrada_Dados!$O$18:$O$71,FCT_Estrada_Dados!$S$18:$S$71,\"CD\")+SUMIFS(FCT_Estrada_Dados!$O$18:$O$71,FCT_Estrada_Dados!$S$18:$S$71,\"n-1\")+SUMIFS(FCT_Estrada_Dados!$O$18:$O$71,FCT_Estrada_Dados!$S$18:$S$71,\"n\")),0),\"\")","v":""},{"$f":"IFERROR(FCT_Estrada_Dados!K59*AVERAGE(FCT_Estrada_Dados!I59:J59),\"\")","v":""},"",{"$f":"IFERROR(IF(ISNUMBER(A58),G58/FCT_Estrada_Dados!H59,\"\"),\"\")","v":""},{"$f":"IFERROR(IF(ISNUMBER(A58),H58/FCT_Estrada_Dados!H59,\"\"),\"\")","v":""},{"$f":"IF(ISNUMBER(A58),100*((J58*0.0036)/VLOOKUP(CST_Urbano!$C$7,Combustíveis,2,FALSE)),\"\")","v":""},{"$f":"IF(ISNUMBER(A58),FCT_Estrada_Dados!P59,\"\")","v":""},{"$f":"IF(ISNUMBER(A58),FCT_Estrada_Dados!S59,\"\")","v":""}]
[{"$f":"IF(ISNUMBER(FCT_Estrada_Dados!A60),FCT_Estrada_Dados!A60,\"\")","v":""},{"$f":"IF(ISNUMBER(A59),FCT_Estrada_Dados!B60/FCT_Estrada_Dados!H60,\"\")","v":""},{"$f":"IF(ISNUMBER(A59),FCT_Estrada_Dados!C60/FCT_Estrada_Dados!H60,\"\")","v":""},{"$f":"IF(ISNUMBER(A59),FCT_Estrada_Dados!D60/FCT_Estrada_Dados!H60,\"\")","v":""},{"$f":"IF(ISNUMBER(A59),FCT_Estrada_Dados!E60/FCT_Estrada_Dados!H60,\"\")","v":""},{"$f":"IF(ISNUMBER(A59),FCT_Estrada_Dados!G60/FCT_Estrada_Dados!H60,\"\")","v":""},{"$f":"IF(ISNUMBER(H59),IF(AND(OR(FCT_Estrada_Dados!S60=\"CD\",FCT_Estrada_Dados!S60=\"n-1\",FCT_Estrada_Dados!S60=\"n\"),H59<0),(H59*FCT_Estrada_Dados!$G$10)/(SUMIFS(FCT_Estrada_Dados!$O$18:$O$71,FCT_Estrada_Dados!$S$18:$S$71,\"CD\")+SUMIFS(FCT_Estrada_Dados!$O$18:$O$71,FCT_Estrada_Dados!$S$18:$S$71,\"n-1\")+SUMIFS(FCT_Estrada_Dados!$O$18:$O$71,FCT_Estrada_Dados!$S$18:$S$71,\"n\")),0),\"\")","v":""},{"$f":"IFERROR(FCT_Estrada_Dados!K60*AVERAGE(FCT_Estrada_Dados!I60:J60),\"\")","v":""},"",{"$f":"IFERROR(IF(ISNUMBER(A59),G59/FCT_Estrada_Dados!H60,\"\"),\"\")","v":""},{"$f":"IFERROR(IF(ISNUMBER(A59),H59/FCT_Estrada_Dados!H60,\"\"),\"\")","v":""},{"$f":"IF(ISNUMBER(A59),100*((J59*0.0036)/VLOOKUP(CST_Urbano!$C$7,Combustíveis,2,FALSE)),\"\")","v":""},{"$f":"IF(ISNUMBER(A59),FCT_Estrada_Dados!P60,\"\")","v":""},{"$f":"IF(ISNUMBER(A59),FCT_Estrada_Dados!S60,\"\")","v":""}]
[{"$f":"IF(ISNUMBER(FCT_Estrada_Dados!A61),FCT_Estrada_Dados!A61,\"\")","v":""},{"$f":"IF(ISNUMBER(A60),FCT_Estrada_Dados!B61/FCT_Estrada_Dados!H61,\"\")","v":""},{"$f":"IF(ISNUMBER(A60),FCT_Estrada_Dados!C61/FCT_Estrada_Dados!H61,\"\")","v":""},{"$f":"IF(ISNUMBER(A60),FCT_Estrada_Dados!D61/FCT_Estrada_Dados!H61,\"\")","v":""},{"$f":"IF(ISNUMBER(A60),FCT_Estrada_Dados!E61/FCT_Estrada_Dados!H61,\"\")","v":""},{"$f":"IF(ISNUMBER(A60),FCT_Estrada_Dados!G61/FCT_Estrada_Dados!H61,\"\")","v":""},{"$f":"IF(ISNUMBER(H60),IF(AND(OR(FCT_Estrada_Dados!S61=\"CD\",FCT_Estrada_Dados!S61=\"n-1\",FCT_Estrada_Dados!S61=\"n\"),H60<0),(H60*FCT_Estrada_Dados!$G$10)/(SUMIFS(FCT_Estrada_Dados!$O$18:$O$71,FCT_Estrada_Dados!$S$18:$S$71,\"CD\")+SUMIFS(FCT_Estrada_Dados!$O$18:$O$71,FCT_Estrada_Dados!$S$18:$S$71,\"n-1\")+SUMIFS(FCT_Estrada_Dados!$O$18:$O$71,FCT_Estrada_Dados!$S$18:$S$71,\"n\")),0),\"\")","v":""},{"$f":"IFERROR(FCT_Estrada_Dados!K61*AVERAGE(FCT_Estrada_Dados!I61:J61),\"\")","v":""},"",{"$f":"IFERROR(IF(ISNUMBER(A60),G60/FCT_Estrada_Dados!H61,\"\"),\"\")","v":""},{"$f":"IFERROR(IF(ISNUMBER(A60),H60/FCT_Estrada_Dados!H61,\"\"),\"\")","v":""},{"$f":"IF(ISNUMBER(A60),100*((J60*0.0036)/VLOOKUP(CST_Urbano!$C$7,Combustíveis,2,FALSE)),\"\")","v":""},{"$f":"IF(ISNUMBER(A60),FCT_Estrada_Dados!P61,\"\")","v":""},{"$f":"IF(ISNUMBER(A60),FCT_Estrada_Dados!S61,\"\")","v":""}]
[{"$f":"IF(ISNUMBER(FCT_Estrada_Dados!A62),FCT_Estrada_Dados!A62,\"\")","v":""},{"$f":"IF(ISNUMBER(A61),FCT_Estrada_Dados!B62/FCT_Estrada_Dados!H62,\"\")","v":""},{"$f":"IF(ISNUMBER(A61),FCT_Estrada_Dados!C62/FCT_Estrada_Dados!H62,\"\")","v":""},{"$f":"IF(ISNUMBER(A61),FCT_Estrada_Dados!D62/FCT_Estrada_Dados!H62,\"\")","v":""},{"$f":"IF(ISNUMBER(A61),FCT_Estrada_Dados!E62/FCT_Estrada_Dados!H62,\"\")","v":""},{"$f":"IF(ISNUMBER(A61),FCT_Estrada_Dados!G62/FCT_Estrada_Dados!H62,\"\")","v":""},{"$f":"IF(ISNUMBER(H61),IF(AND(OR(FCT_Estrada_Dados!S62=\"CD\",FCT_Estrada_Dados!S62=\"n-1\",FCT_Estrada_Dados!S62=\"n\"),H61<0),(H61*FCT_Estrada_Dados!$G$10)/(SUMIFS(FCT_Estrada_Dados!$O$18:$O$71,FCT_Estrada_Dados!$S$18:$S$71,\"CD\")+SUMIFS(FCT_Estrada_Dados!$O$18:$O$71,FCT_Estrada_Dados!$S$18:$S$71,\"n-1\")+SUMIFS(FCT_Estrada_Dados!$O$18:$O$71,FCT_Estrada_Dados!$S$18:$S$71,\"n\")),0),\"\")","v":""},{"$f":"IFERROR(FCT_Estrada_Dados!K62*AVERAGE(FCT_Estrada_Dados!I62:J62),\"\")","v":""},"",{"$f":"IFERROR(IF(ISNUMBER(A61),G61/FCT_Estrada_Dados!H62,\"\"),\"\")","v":""},{"$f":"IFERROR(IF(ISNUMBER(A61),H61/FCT_Estrada_Dados!H62,\"\"),\"\")","v":""},{"$f":"IF(ISNUMBER(A61),100*((J61*0.0036)/VLOOKUP(CST_Urbano!$C$7,Combustíveis,2,FALSE)),\"\")","v":""},{"$f":"IF(ISNUMBER(A61),FCT_Estrada_Dados!P62,\"\")","v":""},{"$f":"IF(ISNUMBER(A61),FCT_Estrada_Dados!S62,\"\")","v":""}]
[{"$f":"IF(ISNUMBER(FCT_Estrada_Dados!A63),FCT_Estrada_Dados!A63,\"\")","v":""},{"$f":"IF(ISNUMBER(A62),FCT_Estrada_Dados!B63/FCT_Estrada_Dados!H63,\"\")","v":""},{"$f":"IF(ISNUMBER(A62),FCT_Estrada_Dados!C63/FCT_Estrada_Dados!H63,\"\")","v":""},{"$f":"IF(ISNUMBER(A62),FCT_Estrada_Dados!D63/FCT_Estrada_Dados!H63,\"\")","v":""},{"$f":"IF(ISNUMBER(A62),FCT_Estrada_Dados!E63/FCT_Estrada_Dados!H63,\"\")","v":""},{"$f":"IF(ISNUMBER(A62),FCT_Estrada_Dados!G63/FCT_Estrada_Dados!H63,\"\")","v":""},{"$f":"IF(ISNUMBER(H62),IF(AND(OR(FCT_Estrada_Dados!S63=\"CD\",FCT_Estrada_Dados!S63=\"n-1\",FCT_Estrada_Dados!S63=\"n\"),H62<0),(H62*FCT_Estrada_Dados!$G$10)/(SUMIFS(FCT_Estrada_Dados!$O$18:$O$71,FCT_Estrada_Dados!$S$18:$S$71,\"CD\")+SUMIFS(FCT_Estrada_Dados!$O$18:$O$71,FCT_Estrada_Dados!$S$18:$S$71,\"n-1\")+SUMIFS(FCT_Estrada_Dados!$O$18:$O$71,FCT_Estrada_Dados!$S$18:$S$71,\"n\")),0),\"\")","v":""},{"$f":"IFERROR(FCT_Estrada_Dados!K63*AVERAGE(FCT_Estrada_Dados!I63:J63),\"\")","v":""},"",{"$f":"IFERROR(IF(ISNUMBER(A62),G62/FCT_Estrada_Dados!H63,\"\"),\"\")","v":""},{"$f":"IFERROR(IF(ISNUMBER(A62),H62/FCT_Estrada_Dados!H63,\"\"),\"\")","v":""},{"$f":"IF(ISNUMBER(A62),100*((J62*0.0036)/VLOOKUP(CST_Urbano!$C$7,Combustíveis,2,FALSE)),\"\")","v":""},{"$f":"IF(ISNUMBER(A62),FCT_Estrada_Dados!P63,\"\")","v":""},{"$f":"IF(ISNUMBER(A62),FCT_Estrada_Dados!S63,\"\")","v":""}]
[{"$f":"IF(ISNUMBER(FCT_Estrada_Dados!A64),FCT_Estrada_Dados!A64,\"\")","v":""},{"$f":"IF(ISNUMBER(A63),FCT_Estrada_Dados!B64/FCT_Estrada_Dados!H64,\"\")","v":""},{"$f":"IF(ISNUMBER(A63),FCT_Estrada_Dados!C64/FCT_Estrada_Dados!H64,\"\")","v":""},{"$f":"IF(ISNUMBER(A63),FCT_Estrada_Dados!D64/FCT_Estrada_Dados!H64,\"\")","v":""},{"$f":"IF(ISNUMBER(A63),FCT_Estrada_Dados!E64/FCT_Estrada_Dados!H64,\"\")","v":""},{"$f":"IF(ISNUMBER(A63),FCT_Estrada_Dados!G64/FCT_Estrada_Dados!H64,\"\")","v":""},{"$f":"IF(ISNUMBER(H63),IF(AND(OR(FCT_Estrada_Dados!S64=\"CD\",FCT_Estrada_Dados!S64=\"n-1\",FCT_Estrada_Dados!S64=\"n\"),H63<0),(H63*FCT_Estrada_Dados!$G$10)/(SUMIFS(FCT_Estrada_Dados!$O$18:$O$71,FCT_Estrada_Dados!$S$18:$S$71,\"CD\")+SUMIFS(FCT_Estrada_Dados!$O$18:$O$71,FCT_Estrada_Dados!$S$18:$S$71,\"n-1\")+SUMIFS(FCT_Estrada_Dados!$O$18:$O$71,FCT_Estrada_Dados!$S$18:$S$71,\"n\")),0),\"\")","v":""},{"$f":"IFERROR(FCT_Estrada_Dados!K64*AVERAGE(FCT_Estrada_Dados!I64:J64),\"\")","v":""},"",{"$f":"IFERROR(IF(ISNUMBER(A63),G63/FCT_Estrada_Dados!H64,\"\"),\"\")","v":""},{"$f":"IFERROR(IF(ISNUMBER(A63),H63/FCT_Estrada_Dados!H64,\"\"),\"\")","v":""},{"$f":"IF(ISNUMBER(A63),100*((J63*0.0036)/VLOOKUP(CST_Urbano!$C$7,Combustíveis,2,FALSE)),\"\")","v":""},{"$f":"IF(ISNUMBER(A63),FCT_Estrada_Dados!P64,\"\")","v":""},{"$f":"IF(ISNUMBER(A63),FCT_Estrada_Dados!S64,\"\")","v":""}]
[{"$f":"IF(ISNUMBER(FCT_Estrada_Dados!A65),FCT_Estrada_Dados!A65,\"\")","v":""},{"$f":"IF(ISNUMBER(A64),FCT_Estrada_Dados!B65/FCT_Estrada_Dados!H65,\"\")","v":""},{"$f":"IF(ISNUMBER(A64),FCT_Estrada_Dados!C65/FCT_Estrada_Dados!H65,\"\")","v":""},{"$f":"IF(ISNUMBER(A64),FCT_Estrada_Dados!D65/FCT_Estrada_Dados!H65,\"\")","v":""},{"$f":"IF(ISNUMBER(A64),FCT_Estrada_Dados!E65/FCT_Estrada_Dados!H65,\"\")","v":""},{"$f":"IF(ISNUMBER(A64),FCT_Estrada_Dados!G65/FCT_Estrada_Dados!H65,\"\")","v":""},{"$f":"IF(ISNUMBER(H64),IF(AND(OR(FCT_Estrada_Dados!S65=\"CD\",FCT_Estrada_Dados!S65=\"n-1\",FCT_Estrada_Dados!S65=\"n\"),H64<0),(H64*FCT_Estrada_Dados!$G$10)/(SUMIFS(FCT_Estrada_Dados!$O$18:$O$71,FCT_Estrada_Dados!$S$18:$S$71,\"CD\")+SUMIFS(FCT_Estrada_Dados!$O$18:$O$71,FCT_Estrada_Dados!$S$18:$S$71,\"n-1\")+SUMIFS(FCT_Estrada_Dados!$O$18:$O$71,FCT_Estrada_Dados!$S$18:$S$71,\"n\")),0),\"\")","v":""},{"$f":"IFERROR(FCT_Estrada_Dados!K65*AVERAGE(FCT_Estrada_Dados!I65:J65),\"\")","v":""},"",{"$f":"IFERROR(IF(ISNUMBER(A64),G64/FCT_Estrada_Dados!H65,\"\"),\"\")","v":""},{"$f":"IFERROR(IF(ISNUMBER(A64),H64/FCT_Estrada_Dados!H65,\"\"),\"\")","v":""},{"$f":"IF(ISNUMBER(A64),100*((J64*0.0036)/VLOOKUP(CST_Urbano!$C$7,Combustíveis,2,FALSE)),\"\")","v":""},{"$f":"IF(ISNUMBER(A64),FCT_Estrada_Dados!P65,\"\")","v":""},{"$f":"IF(ISNUMBER(A64),FCT_Estrada_Dados!S65,\"\")","v":""}]
[{"$f":"IF(ISNUMBER(FCT_Estrada_Dados!A66),FCT_Estrada_Dados!A66,\"\")","v":""},{"$f":"IF(ISNUMBER(A65),FCT_Estrada_Dados!B66/FCT_Estrada_Dados!H66,\"\")","v":""},{"$f":"IF(ISNUMBER(A65),FCT_Estrada_Dados!C66/FCT_Estrada_Dados!H66,\"\")","v":""},{"$f":"IF(ISNUMBER(A65),FCT_Estrada_Dados!D66/FCT_Estrada_Dados!H66,\"\")","v":""},{"$f":"IF(ISNUMBER(A65),FCT_Estrada_Dados!E66/FCT_Estrada_Dados!H66,\"\")","v":""},{"$f":"IF(ISNUMBER(A65),FCT_Estrada_Dados!G66/FCT_Estrada_Dados!H66,\"\")","v":""},{"$f":"IF(ISNUMBER(H65),IF(AND(OR(FCT_Estrada_Dados!S66=\"CD\",FCT_Estrada_Dados!S66=\"n-1\",FCT_Estrada_Dados!S66=\"n\"),H65<0),(H65*FCT_Estrada_Dados!$G$10)/(SUMIFS(FCT_Estrada_Dados!$O$18:$O$71,FCT_Estrada_Dados!$S$18:$S$71,\"CD\")+SUMIFS(FCT_Estrada_Dados!$O$18:$O$71,FCT_Estrada_Dados!$S$18:$S$71,\"n-1\")+SUMIFS(FCT_Estrada_Dados!$O$18:$O$71,FCT_Estrada_Dados!$S$18:$S$71,\"n\")),0),\"\")","v":""},{"$f":"IFERROR(FCT_Estrada_Dados!K66*AVERAGE(FCT_Estrada_Dados!I66:J66),\"\")","v":""},"",{"$f":"IFERROR(IF(ISNUMBER(A65),G65/FCT_Estrada_Dados!H66,\"\"),\"\")","v":""},{"$f":"IFERROR(IF(ISNUMBER(A65),H65/FCT_Estrada_Dados!H66,\"\"),\"\")","v":""},{"$f":"IF(ISNUMBER(A65),100*((J65*0.0036)/VLOOKUP(CST_Urbano!$C$7,Combustíveis,2,FALSE)),\"\")","v":""},{"$f":"IF(ISNUMBER(A65),FCT_Estrada_Dados!P66,\"\")","v":""},{"$f":"IF(ISNUMBER(A65),FCT_Estrada_Dados!S66,\"\")","v":""}]
[{"$f":"IF(ISNUMBER(FCT_Estrada_Dados!A67),FCT_Estrada_Dados!A67,\"\")","v":""},{"$f":"IF(ISNUMBER(A66),FCT_Estrada_Dados!B67/FCT_Estrada_Dados!H67,\"\")","v":""},{"$f":"IF(ISNUMBER(A66),FCT_Estrada_Dados!C67/FCT_Estrada_Dados!H67,\"\")","v":""},{"$f":"IF(ISNUMBER(A66),FCT_Estrada_Dados!D67/FCT_Estrada_Dados!H67,\"\")","v":""},{"$f":"IF(ISNUMBER(A66),FCT_Estrada_Dados!E67/FCT_Estrada_Dados!H67,\"\")","v":""},{"$f":"IF(ISNUMBER(A66),FCT_Estrada_Dados!G67/FCT_Estrada_Dados!H67,\"\")","v":""},{"$f":"IF(ISNUMBER(H66),IF(AND(OR(FCT_Estrada_Dados!S67=\"CD\",FCT_Estrada_Dados!S67=\"n-1\",FCT_Estrada_Dados!S67=\"n\"),H66<0),(H66*FCT_Estrada_Dados!$G$10)/(SUMIFS(FCT_Estrada_Dados!$O$18:$O$71,FCT_Estrada_Dados!$S$18:$S$71,\"CD\")+SUMIFS(FCT_Estrada_Dados!$O$18:$O$71,FCT_Estrada_Dados!$S$18:$S$71,\"n-1\")+SUMIFS(FCT_Estrada_Dados!$O$18:$O$71,FCT_Estrada_Dados!$S$18:$S$71,\"n\")),0),\"\")","v":""},{"$f":"IFERROR(FCT_Estrada_Dados!K67*AVERAGE(FCT_Estrada_Dados!I67:J67),\"\")","v":""},"",{"$f":"IFERROR(IF(ISNUMBER(A66),G66/FCT_Estrada_Dados!H67,\"\"),\"\")","v":""},{"$f":"IFERROR(IF(ISNUMBER(A66),H66/FCT_Estrada_Dados!H67,\"\"),\"\")","v":""},{"$f":"IF(ISNUMBER(A66),100*((J66*0.0036)/VLOOKUP(CST_Urbano!$C$7,Combustíveis,2,FALSE)),\"\")","v":""},{"$f":"IF(ISNUMBER(A66),FCT_Estrada_Dados!P67,\"\")","v":""},{"$f":"IF(ISNUMBER(A66),FCT_Estrada_Dados!S67,\"\")","v":""}]
[{"$f":"IF(ISNUMBER(FCT_Estrada_Dados!A68),FCT_Estrada_Dados!A68,\"\")","v":""},{"$f":"IF(ISNUMBER(A67),FCT_Estrada_Dados!B68/FCT_Estrada_Dados!H68,\"\")","v":""},{"$f":"IF(ISNUMBER(A67),FCT_Estrada_Dados!C68/FCT_Estrada_Dados!H68,\"\")","v":""},{"$f":"IF(ISNUMBER(A67),FCT_Estrada_Dados!D68/FCT_Estrada_Dados!H68,\"\")","v":""},{"$f":"IF(ISNUMBER(A67),FCT_Estrada_Dados!E68/FCT_Estrada_Dados!H68,\"\")","v":""},{"$f":"IF(ISNUMBER(A67),FCT_Estrada_Dados!G68/FCT_Estrada_Dados!H68,\"\")","v":""},{"$f":"IF(ISNUMBER(H67),IF(AND(OR(FCT_Estrada_Dados!S68=\"CD\",FCT_Estrada_Dados!S68=\"n-1\",FCT_Estrada_Dados!S68=\"n\"),H67<0),(H67*FCT_Estrada_Dados!$G$10)/(SUMIFS(FCT_Estrada_Dados!$O$18:$O$71,FCT_Estrada_Dados!$S$18:$S$71,\"CD\")+SUMIFS(FCT_Estrada_Dados!$O$18:$O$71,FCT_Estrada_Dados!$S$18:$S$71,\"n-1\")+SUMIFS(FCT_Estrada_Dados!$O$18:$O$71,FCT_Estrada_Dados!$S$18:$S$71,\"n\")),0),\"\")","v":""},{"$f":"IFERROR(FCT_Estrada_Dados!K68*AVERAGE(FCT_Estrada_Dados!I68:J68),\"\")","v":""},"",{"$f":"IFERROR(IF(ISNUMBER(A67),G67/FCT_Estrada_Dados!H68,\"\"),\"\")","v":""},{"$f":"IFERROR(IF(ISNUMBER(A67),H67/FCT_Estrada_Dados!H68,\"\"),\"\")","v":""},{"$f":"IF(ISNUMBER(A67),100*((J67*0.0036)/VLOOKUP(CST_Urbano!$C$7,Combustíveis,2,FALSE)),\"\")","v":""},{"$f":"IF(ISNUMBER(A67),FCT_Estrada_Dados!P68,\"\")","v":""},{"$f":"IF(ISNUMBER(A67),FCT_Estrada_Dados!S68,\"\")","v":""}]
[{"$f":"IF(ISNUMBER(FCT_Estrada_Dados!A69),FCT_Estrada_Dados!A69,\"\")","v":""},{"$f":"IF(ISNUMBER(A68),FCT_Estrada_Dados!B69/FCT_Estrada_Dados!H69,\"\")","v":""},{"$f":"IF(ISNUMBER(A68),FCT_Estrada_Dados!C69/FCT_Estrada_Dados!H69,\"\")","v":""},{"$f":"IF(ISNUMBER(A68),FCT_Estrada_Dados!D69/FCT_Estrada_Dados!H69,\"\")","v":""},{"$f":"IF(ISNUMBER(A68),FCT_Estrada_Dados!E69/FCT_Estrada_Dados!H69,\"\")","v":""},{"$f":"IF(ISNUMBER(A68),FCT_Estrada_Dados!G69/FCT_Estrada_Dados!H69,\"\")","v":""},{"$f":"IF(ISNUMBER(H68),IF(AND(OR(FCT_Estrada_Dados!S69=\"CD\",FCT_Estrada_Dados!S69=\"n-1\",FCT_Estrada_Dados!S69=\"n\"),H68<0),(H68*FCT_Estrada_Dados!$G$10)/(SUMIFS(FCT_Estrada_Dados!$O$18:$O$71,FCT_Estrada_Dados!$S$18:$S$71,\"CD\")+SUMIFS(FCT_Estrada_Dados!$O$18:$O$71,FCT_Estrada_Dados!$S$18:$S$71,\"n-1\")+SUMIFS(FCT_Estrada_Dados!$O$18:$O$71,FCT_Estrada_Dados!$S$18:$S$71,\"n\")),0),\"\")","v":""},{"$f":"IFERROR(FCT_Estrada_Dados!K69*AVERAGE(FCT_Estrada_Dados!I69:J69),\"\")","v":""},"",{"$f":"IFERROR(IF(ISNUMBER(A68),G68/FCT_Estrada_Dados!H69,\"\"),\"\")","v":""},{"$f":"IFERROR(IF(ISNUMBER(A68),H68/FCT_Estrada_Dados!H69,\"\"),\"\")","v":""},{"$f":"IF(ISNUMBER(A68),100*((J68*0.0036)/VLOOKUP(CST_Urbano!$C$7,Combustíveis,2,FALSE)),\"\")","v":""},{"$f":"IF(ISNUMBER(A68),FCT_Estrada_Dados!P69,\"\")","v":""},{"$f":"IF(ISNUMBER(A68),FCT_Estrada_Dados!S69,\"\")","v":""}]
[{"$f":"IF(ISNUMBER(FCT_Estrada_Dados!A70),FCT_Estrada_Dados!A70,\"\")","v":""},{"$f":"IF(ISNUMBER(A69),FCT_Estrada_Dados!B70/FCT_Estrada_Dados!H70,\"\")","v":""},{"$f":"IF(ISNUMBER(A69),FCT_Estrada_Dados!C70/FCT_Estrada_Dados!H70,\"\")","v":""},{"$f":"IF(ISNUMBER(A69),FCT_Estrada_Dados!D70/FCT_Estrada_Dados!H70,\"\")","v":""},{"$f":"IF(ISNUMBER(A69),FCT_Estrada_Dados!E70/FCT_Estrada_Dados!H70,\"\")","v":""},{"$f":"IF(ISNUMBER(A69),FCT_Estrada_Dados!G70/FCT_Estrada_Dados!H70,\"\")","v":""},{"$f":"IF(ISNUMBER(H69),IF(AND(OR(FCT_Estrada_Dados!S70=\"CD\",FCT_Estrada_Dados!S70=\"n-1\",FCT_Estrada_Dados!S70=\"n\"),H69<0),(H69*FCT_Estrada_Dados!$G$10)/(SUMIFS(FCT_Estrada_Dados!$O$18:$O$71,FCT_Estrada_Dados!$S$18:$S$71,\"CD\")+SUMIFS(FCT_Estrada_Dados!$O$18:$O$71,FCT_Estrada_Dados!$S$18:$S$71,\"n-1\")+SUMIFS(FCT_Estrada_Dados!$O$18:$O$71,FCT_Estrada_Dados!$S$18:$S$71,\"n\")),0),\"\")","v":""},{"$f":"IFERROR(FCT_Estrada_Dados!K70*AVERAGE(FCT_Estrada_Dados!I70:J70),\"\")","v":""},"",{"$f":"IFERROR(IF(ISNUMBER(A69),G69/FCT_Estrada_Dados!H70,\"\"),\"\")","v":""},{"$f":"IFERROR(IF(ISNUMBER(A69),H69/FCT_Estrada_Dados!H70,\"\"),\"\")","v":""},{"$f":"IF(ISNUMBER(A69),100*((J69*0.0036)/VLOOKUP(CST_Urbano!$C$7,Combustíveis,2,FALSE)),\"\")","v":""},{"$f":"IF(ISNUMBER(A69),FCT_Estrada_Dados!P70,\"\")","v":""},{"$f":"IF(ISNUMBER(A69),FCT_Estrada_Dados!S70,\"\")","v":""}]
[{"$f":"IF(ISNUMBER(FCT_Estrada_Dados!A71),FCT_Estrada_Dados!A71,\"\")","v":""},{"$f":"IF(ISNUMBER(A70),FCT_Estrada_Dados!B71/FCT_Estrada_Dados!H71,\"\")","v":""},{"$f":"IF(ISNUMBER(A70),FCT_Estrada_Dados!C71/FCT_Estrada_Dados!H71,\"\")","v":""},{"$f":"IF(ISNUMBER(A70),FCT_Estrada_Dados!D71/FCT_Estrada_Dados!H71,\"\")","v":""},{"$f":"IF(ISNUMBER(A70),FCT_Estrada_Dados!E71/FCT_Estrada_Dados!H71,\"\")","v":""},{"$f":"IF(ISNUMBER(A70),FCT_Estrada_Dados!G71/FCT_Estrada_Dados!H71,\"\")","v":""},{"$f":"IF(ISNUMBER(H70),IF(AND(OR(FCT_Estrada_Dados!S71=\"CD\",FCT_Estrada_Dados!S71=\"n-1\",FCT_Estrada_Dados!S71=\"n\"),H70<0),(H70*FCT_Estrada_Dados!$G$10)/(SUMIFS(FCT_Estrada_Dados!$O$18:$O$71,FCT_Estrada_Dados!$S$18:$S$71,\"CD\")+SUMIFS(FCT_Estrada_Dados!$O$18:$O$71,FCT_Estrada_Dados!$S$18:$S$71,\"n-1\")+SUMIFS(FCT_Estrada_Dados!$O$18:$O$71,FCT_Estrada_Dados!$S$18:$S$71,\"n\")),0),\"\")","v":""},{"$f":"IFERROR(FCT_Estrada_Dados!K71*AVERAGE(FCT_Estrada_Dados!I71:J71),\"\")","v":""},"",{"$f":"IFERROR(IF(ISNUMBER(A70),G70/FCT_Estrada_Dados!H71,\"\"),\"\")","v":""},{"$f":"IFERROR(IF(ISNUMBER(A70),H70/FCT_Estrada_Dados!H71,\"\"),\"\")","v":""},{"$f":"IF(ISNUMBER(A70),100*((J70*0.0036)/VLOOKUP(CST_Urbano!$C$7,Combustíveis,2,FALSE)),\"\")","v":""},{"$f":"IF(ISNUMBER(A70),FCT_Estrada_Dados!P71,\"\")","v":""},{"$f":"IF(ISNUMBER(A70),FCT_Estrada_Dados!S71,\"\")","v":""}]

{"sheet":"Emissões 6.2.2.2 Estrada","index":7,"n_rows":70,"n_cols":14,"rows_kept":70,"cut":false,"hidden":false,"merged":[[0,1,0,13],[1,1,1,13],[2,1,2,13],[3,0,3,13],[4,0,4,1],[4,2,4,3],[4,4,4,5],[4,6,4,7],[8,1,8,9],[13,0,13,13],[5,0,5,1],[5,2,5,3],[5,4,5,5],[5,6,5,7],[6,0,6,1],[6,2,6,3],[6,4,6,5],[6,6,6,7]]}
[null,"Cálculos de veículos híbridos"]
[null,"Ensaios em redução de carga no ciclo estrada - Resultados conforme 6.2.2.2"]
[null,"    Versão 8"]
["Dados do veículo e do ensaio"]
["id do veículo",null,{"$f":"IF(ISBLANK(CST_Urbano!C5),\"\",CST_Urbano!C5)","v":""},null,"Capacidade do RESS",null,{"$f":"IF(ISBLANK(CST_Urbano!G5),\"\",CST_Urbano!G5)","v":""},null,"Ah"]
["nº do processo",null,{"$f":"IF(ISBLANK(CST_Urbano!C6),\"\",CST_Urbano!C6)","v":""},null,"Vsist1",null,{"$f":"IF(ISBLANK(CST_Urbano!G6),\"\",CST_Urbano!G6)","v":""},null,"V"]
["Combustível do ensaio",null,{"$f":"IF(ISBLANK(CST_Urbano!C7),\"\",CST_Urbano!C7)","v":""},null,"Vsist2",null,{"$f":"IF(ISBLANK(CST_Urbano!G7),\"\",CST_Urbano!G7)","v":""},null,"V"]
[]
[null,"Resultado das emissões e consumo energético conforme item 6.2.2.2"]
[null,"CO","HC","NOx","CO2","NMHC","ECCD","FCCD","ACequiv.","Consumotot."]
[null,"(g/km)","(g/km)","(g/km)","(g/km)","(g/km)","(Wh/km)","(l/100km)","(l/100km)","(l/100km)"]
[null,{"$f":"IF(COUNTIF($N$17:$N$70,\"Início EOT\")+COUNTIF($N$17:$N$70,\"CS1\")>0,SUMIF($N$17:$N$70,\"CD\",$B$17:$B$70)+SUMIF($N$17:$N$70,\"n-1\",$B$17:$B$70)+SUMIF($N$17:$N$70,\"n\",$B$17:$B$70)+SUMIF($N$17:$N$70,\"Transição\",$B$17:$B$70)+CST_Estrada!$B$17*(1-UTILITYFACTOR(FCT_Estrada_Dados!$G$13)),\"\")","v":""},{"$f":"IF(COUNTIF($N$17:$N$70,\"Início EOT\")+COUNTIF($N$17:$N$70,\"CS1\")>0,SUMIF($N$17:$N$70,\"CD\",$C$17:$C$70)+SUMIF($N$17:$N$70,\"n-1\",$C$17:$C$70)+SUMIF($N$17:$N$70,\"n\",$C$17:$C$70)+SUMIF($N$17:$N$70,\"Transição\",$C$17:$C$70)+CST_Estrada!$C$17*(1-UTILITYFACTOR(FCT_Estrada_Dados!$G$13)),\"\")","v":""},{"$f":"IF(COUNTIF($N$17:$N$70,\"Início EOT\")+COUNTIF($N$17:$N$70,\"CS1\")>0,SUMIF($N$17:$N$70,\"CD\",$D$17:$D$70)+SUMIF($N$17:$N$70,\"n-1\",$D$17:$D$70)+SUMIF($N$17:$N$70,\"n\",$D$17:$D$70)+SUMIF($N$17:$N$70,\"Transição\",$D$17:$D$70)+CST_Estrada!$D$17*(1-UTILITYFACTOR(FCT_Estrada_Dados!$G$13)),\"\")","v":""},{"$f":"IF(COUNTIF($N$17:$N$70,\"Início EOT\")+COUNTIF($N$17:$N$70,\"CS1\")>0,SUMIF($N$17:$N$70,\"CD\",$E$17:$E$70)+SUMIF($N$17:$N$70,\"n-1\",$E$17:$E$70)+SUMIF($N$17:$N$70,\"n\",$E$17:$E$70)+SUMIF($N$17:$N$70,\"Transição\",$E$17:$E$70)+CST_Estrada!$E$17*(1-UTILITYFACTOR(FCT_Estrada_Dados!$G$13)),\"\")","v":""},{"$f":"IF(COUNTIF($N$17:$N$70,\"Início EOT\")+COUNTIF($N$17:$N$70,\"CS1\")>0,SUMIF($N$17:$N$70,\"CD\",$F$17:$F$70)+SUMIF($N$17:$N$70,\"n-1\",$F$17:$F$70)+SUMIF($N$17:$N$70,\"n\",$F$17:$F$70)+SUMIF($N$17:$N$70,\"Transição\",$F$17:$F$70)+CST_Estrada!$G$17*(1-UTILITYFACTOR(FCT_Estrada_Dados!$G$13)),\"\")","v":""},{"$f":"IF(COUNTIF($N$17:$N$70,\"Início EOT\")+COUNTIF($N$17:$N$70,\"CS1\")>0,SUMIF($N$17:$N$70,\"CD\",$J$17:$J$70)+SUMIF($N$17:$N$70,\"n-1\",$J$17:$J$70)+SUMIF($N$17:$N$70,\"n\",$J$17:$J$70)+SUMIF($N$17:$N$70,\"Transição\",$J$17:$J$70),\"\")","v":""},{"$f":"IF(COUNTIF($N$17:$N$70,\"Início EOT\")+COUNTIF($N$17:$N$70,\"CS1\")>0,SUMIF($N$17:$N$70,\"CD\",$M$17:$M$70)+SUMIF($N$17:$N$70,\"n-1\",$M$17:$M$70)+SUMIF($N$17:$N$70,\"n\",$M$17:$M$70)+SUMIF($N$17:$N$70,\"Transição\",$M$17:$M$70)+CST_Estrada!$I$12*(1-UTILITYFACTOR(FCT_Estrada_Dados!$G$13)),\"\")","v":""},{"$f":"IFERROR(100*((G12*0.0036)/VLOOKUP(CST_Urbano!$C$7,Combustíveis,2,FALSE)),\"\")","v":""},{"$f":"IFERROR(H12+I12,\"\")","v":""}]
[]
["EMISSÕES E CONSUMOS PONDERADOS COM FATORES DE UTILIZAÇÃO PARA CADA CICLO"]
["Nº Ciclo","CO","HC","NOx","CO2","NMHC","ECDi","EDCi","UFi","Consumo_AC","Consumo_DC","AC equivalente","Consumo","Tipo de"]
[null,"(g/km)","(g/km)","(g/km)","(g/km)","(g/km)","(Wh)","(Wh)",null,"(Wh/km)","(Wh/km)","(l/100km)","(l/100km)","Ciclo"]
[{"$f":"IF(ISNUMBER(FCT_Estrada_Dados!A18),FCT_Estrada_Dados!A18,\"\")","v":""},{"$f":"IF(ISNUMBER(A17),IF(OR(N17=\"CD\",N17=\"Transição\",N17=\"n-1\",N17=\"n\"),(FCT_Estrada_Dados!B18/FCT_Estrada_Dados!H18)*I17,FCT_Estrada_Dados!B18/FCT_Estrada_Dados!H18),\"\")","v":""},{"$f":"IF(ISNUMBER(A17),(FCT_Estrada_Dados!C18/FCT_Estrada_Dados!H18)*I17,\"\")","v":""},{"$f":"IF(ISNUMBER(A17),(FCT_Estrada_Dados!D18/FCT_Estrada_Dados!H18)*I17,\"\")","v":""},{"$f":"IF(ISNUMBER(A17),(FCT_Estrada_Dados!E18/FCT_Estrada_Dados!H18)*I17,\"\")","v":""},{"$f":"IF(ISNUMBER(A17),(FCT_Estrada_Dados!G18/FCT_Estrada_Dados!H18)*I17,\"\")","v":""},{"$f":"IFERROR('Emissões 6.2.2.1 Estrada'!G17*'Emissões 6.2.2.2 Estrada'!I17,\"\")","v":""},{"$f":"IF(ISNUMBER(A17),'Emissões 6.2.2.1 Estrada'!H17*I17,\"\")","v":""},{"$f":"IF(ISNUMBER(A17),UTILITYFACTOR(A17*dEstrada),\"\")","v":""},{"$f":"IFERROR(IF(ISNUMBER(A17),G17/FCT_Estrada_Dados!H18,\"\"),\"\")","v":""},{"$f":"IFERROR(IF(ISNUMBER(A17),H17/FCT_Estrada_Dados!H18,\"\"),\"\")","v":""},{"$f":"IF(ISNUMBER(A17),100*((J17*0.0036)/VLOOKUP(CST_Urbano!$C$7,Combustíveis,2,FALSE)),\"\")","v":""},{"$f":"IF(ISNUMBER(A17),(FCT_Estrada_Dados!P18)*I17,\"\")","v":""},{"$f":"IF(ISNUMBER(A17),FCT_Estrada_Dados!S18,\"\")","v":""}]
[{"$f":"IF(ISNUMBER(FCT_Estrada_Dados!A19),FCT_Estrada_Dados!A19,\"\")","v":""},{"$f":"IF(ISNUMBER($A18),IF(OR($N18=\"CD\",$N18=\"Transição\",$N18=\"n-1\",$N18=\"n\"),(FCT_Estrada_Dados!B19/FCT_Estrada_Dados!$H19)*($I18-$I17),(FCT_Estrada_Dados!B19/FCT_Estrada_Dados!$H19)*(1-UTILITYFACTOR(FCT_Estrada_Dados!$G$13))),\"\")","v":""},{"$f":"IF(ISNUMBER($A18),IF(OR($N18=\"CD\",$N18=\"Transição\",$N18=\"n-1\",$N18=\"n\"),(FCT_Estrada_Dados!C19/FCT_Estrada_Dados!$H19)*($I18-$I17),(FCT_Estrada_Dados!C19/FCT_Estrada_Dados!$H19)*(1-UTILITYFACTOR(FCT_Estrada_Dados!$G$13))),\"\")","v":""},{"$f":"IF(ISNUMBER($A18),IF(OR($N18=\"CD\",$N18=\"Transição\",$N18=\"n-1\",$N18=\"n\"),(FCT_Estrada_Dados!D19/FCT_Estrada_Dados!$H19)*($I18-$I17),(FCT_Estrada_Dados!D19/FCT_Estrada_Dados!$H19)*(1-UTILITYFACTOR(FCT_Estrada_Dados!$G$13))),\"\")","v":""},{"$f":"IF(ISNUMBER($A18),IF(OR($N18=\"CD\",$N18=\"Transição\",$N18=\"n-1\",$N18=\"n\"),(FCT_Estrada_Dados!E19/FCT_Estrada_Dados!$H19)*($I18-$I17),(FCT_Estrada_Dados!E19/FCT_Estrada_Dados!$H19)*(1-UTILITYFACTOR(FCT_Estrada_Dados!$G$13))),\"\")","v":""},{"$f":"IF(ISNUMBER($A18),IF(OR($N18=\"CD\",$N18=\"Transição\",$N18=\"n-1\",$N18=\"n\"),(FCT_Estrada_Dados!G19/FCT_Estrada_Dados!$H19)*($I18-$I17),(FCT_Estrada_Dados!G19/FCT_Estrada_Dados!$H19)*(1-UTILITYFACTOR(FCT_Estrada_Dados!$G$13))),\"\")","v":""},{"$f":"IFERROR(IF(OR($N18=\"CD\",$N18=\"Transição\",$N18=\"n-1\",$N18=\"n\"),'Emissões 6.2.2.1 Estrada'!G18*(I18-I17),'Emissões 6.2.2.1 Estrada'!G18),\"\")","v":""},{"$f":"IF(ISNUMBER(A18),IF(OR($N18=\"CD\",$N18=\"Transição\",$N18=\"n-1\",$N18=\"n\"),'Emissões 6.2.2.1 Estrada'!H18*(I18-I17),(1-UTILITYFACTOR(FCT_Estrada_Dados!$G$13))*'Emissões 6.2.2.1 Estrada'!H18),\"\")","v":""},{"$f":"IF(ISNUMBER(A18),UTILITYFACTOR(A18*dEstrada),\"\")","v":""},{"$f":"IFERROR(IF(ISNUMBER(A18),G18/FCT_Estrada_Dados!H19,\"\"),\"\")","v":""},{"$f":"IFERROR(IF(ISNUMBER(A18),H18/FCT_Estrada_Dados!H19,\"\"),\"\")","v":""},{"$f":"IF(ISNUMBER(A18),100*((J18*0.0036)/VLOOKUP(CST_Urbano!$C$7,Combustíveis,2,FALSE)),\"\")","v":""},{"$f":"IF(ISNUMBER(A18),IF(OR($N18=\"CD\",$N18=\"Transição\",$N18=\"n-1\",$N18=\"n\"),FCT_Estrada_Dados!P19*(I18-I17),(FCT_Estrada_Dados!P19)*(1-UTILITYFACTOR(FCT_Estrada_Dados!$G$13))),\"\")","v":""},{"$f":"IF(ISNUMBER(A18),FCT_Estrada_Dados!S19,\"\")","v":""}]
[{"$f":"IF(ISNUMBER(FCT_Estrada_Dados!A20),FCT_Estrada_Dados!A20,\"\")","v":""},{"$f":"IF(ISNUMBER($A19),IF(OR($N19=\"CD\",$N19=\"Transição\",$N19=\"n-1\",$N19=\"n\"),(FCT_Estrada_Dados!B20/FCT_Estrada_Dados!$H20)*($I19-$I18),(FCT_Estrada_Dados!B20/FCT_Estrada_Dados!$H20)*(1-UTILITYFACTOR(FCT_Estrada_Dados!$G$13))),\"\")","v":""},{"$f":"IF(ISNUMBER($A19),IF(OR($N19=\"CD\",$N19=\"Transição\",$N19=\"n-1\",$N19=\"n\"),(FCT_Estrada_Dados!C20/FCT_Estrada_Dados!$H20)*($I19-$I18),(FCT_Estrada_Dados!C20/FCT_Estrada_Dados!$H20)*(1-UTILITYFACTOR(FCT_Estrada_Dados!$G$13))),\"\")","v":""},{"$f":"IF(ISNUMBER($A19),IF(OR($N19=\"CD\",$N19=\"Transição\",$N19=\"n-1\",$N19=\"n\"),(FCT_Estrada_Dados!D20/FCT_Estrada_Dados!$H20)*($I19-$I18),(FCT_Estrada_Dados!D20/FCT_Estrada_Dados!$H20)*(1-UTILITYFACTOR(FCT_Estrada_Dados!$G$13))),\"\")","v":""},{"$f":"IF(ISNUMBER($A19),IF(OR($N19=\"CD\",$N19=\"Transição\",$N19=\"n-1\",$N19=\"n\"),(FCT_Estrada_Dados!E20/FCT_Estrada_Dados!$H20)*($I19-$I18),(FCT_Estrada_Dados!E20/FCT_Estrada_Dados!$H20)*(1-UTILITYFACTOR(FCT_Estrada_Dados!$G$13))),\"\")","v":""},{"$f":"IF(ISNUMBER($A19),IF(OR($N19=\"CD\",$N19=\"Transição\",$N19=\"n-1\",$N19=\"n\"),(FCT_Estrada_Dados!G20/FCT_Estrada_Dados!$H20)*($I19-$I18),(FCT_Estrada_Dados!G20/FCT_Estrada_Dados!$H20)*(1-UTILITYFACTOR(FCT_Estrada_Dados!$G$13))),\"\")","v":""},{"$f":"IFERROR(IF(OR($N19=\"CD\",$N19=\"Transição\",$N19=\"n-1\",$N19=\"n\"),'Emissões 6.2.2.1 Estrada'!G19*(I19-I18),'Emissões 6.2.2.1 Estrada'!G19),\"\")","v":""},{"$f":"IF(ISNUMBER(A19),IF(OR($N19=\"CD\",$N19=\"Transição\",$N19=\"n-1\",$N19=\"n\"),'Emissões 6.2.2.1 Estrada'!H19*(I19-I18),(1-UTILITYFACTOR(FCT_Estrada_Dados!$G$13))*'Emissões 6.2.2.1 Estrada'!H19),\"\")","v":""},{"$f":"IF(ISNUMBER(A19),UTILITYFACTOR(A19*dEstrada),\"\")","v":""},{"$f":"IFERROR(IF(ISNUMBER(A19),G19/FCT_Estrada_Dados!H20,\"\"),\"\")","v":""},{"$f":"IFERROR(IF(ISNUMBER(A19),H19/FCT_Estrada_Dados!H20,\"\"),\"\")","v":""},{"$f":"IF(ISNUMBER(A19),100*((J19*0.0036)/VLOOKUP(CST_Urbano!$C$7,Combustíveis,2,FALSE)),\"\")","v":""},{"$f":"IF(ISNUMBER(A19),IF(OR($N19=\"CD\",$N19=\"Transição\",$N19=\"n-1\",$N19=\"n\"),FCT_Estrada_Dados!P20*(I19-I18),(FCT_Estrada_Dados!P20)*(1-UTILITYFACTOR(FCT_Estrada_Dados!$G$13))),\"\")","v":""},{"$f":"IF(ISNUMBER(A19),FCT_Estrada_Dados!S20,\"\")","v":""}]
[{"$f":"IF(ISNUMBER(FCT_Estrada_Dados!A21),FCT_Estrada_Dados!A21,\"\")","v":""},{"$f":"IF(ISNUMBER($A20),IF(OR($N20=\"CD\",$N20=\"Transição\",$N20=\"n-1\",$N20=\"n\"),(FCT_Estrada_Dados!B21/FCT_Estrada_Dados!$H21)*($I20-$I19),(FCT_Estrada_Dados!B21/FCT_Estrada_Dados!$H21)*(1-UTILITYFACTOR(FCT_Estrada_Dados!$G$13))),\"\")","v":""},{"$f":"IF(ISNUMBER($A20),IF(OR($N20=\"CD\",$N20=\"Transição\",$N20=\"n-1\",$N20=\"n\"),(FCT_Estrada_Dados!C21/FCT_Estrada_Dados!$H21)*($I20-$I19),(FCT_Estrada_Dados!C21/FCT_Estrada_Dados!$H21)*(1-UTILITYFACTOR(FCT_Estrada_Dados!$G$13))),\"\")","v":""},{"$f":"IF(ISNUMBER($A20),IF(OR($N20=\"CD\",$N20=\"Transição\",$N20=\"n-1\",$N20=\"n\"),(FCT_Estrada_Dados!D21/FCT_Estrada_Dados!$H21)*($I20-$I19),(FCT_Estrada_Dados!D21/FCT_Estrada_Dados!$H21)*(1-UTILITYFACTOR(FCT_Estrada_Dados!$G$13))),\"\")","v":""},{"$f":"IF(ISNUMBER($A20),IF(OR($N20=\"CD\",$N20=\"Transição\",$N20=\"n-1\",$N20=\"n\"),(FCT_Estrada_Dados!E21/FCT_Estrada_Dados!$H21)*($I20-$I19),(FCT_Estrada_Dados!E21/FCT_Estrada_Dados!$H21)*(1-UTILITYFACTOR(FCT_Estrada_Dados!$G$13))),\"\")","v":""},{"$f":"IF(ISNUMBER($A20),IF(OR($N20=\"CD\",$N20=\"Transição\",$N20=\"n-1\",$N20=\"n\"),(FCT_Estrada_Dados!G21/FCT_Estrada_Dados!$H21)*($I20-$I19),(FCT_Estrada_Dados!G21/FCT_Estrada_Dados!$H21)*(1-UTILITYFACTOR(FCT_Estrada_Dados!$G$13))),\"\")","v":""},{"$f":"IFERROR(IF(OR($N20=\"CD\",$N20=\"Transição\",$N20=\"n-1\",$N20=\"n\"),'Emissões 6.2.2.1 Estrada'!G20*(I20-I19),'Emissões 6.2.2.1 Estrada'!G20),\"\")","v":""},{"$f":"IF(ISNUMBER(A20),IF(OR($N20=\"CD\",$N20=\"Transição\",$N20=\"n-1\",$N20=\"n\"),'Emissões 6.2.2.1 Estrada'!H20*(I20-I19),(1-UTILITYFACTOR(FCT_Estrada_Dados!$G$13))*'Emissões 6.2.2.1 Estrada'!H20),\"\")","v":""},{"$f":"IF(ISNUMBER(A20),UTILITYFACTOR(A20*dEstrada),\"\")","v":""},{"$f":"IFERROR(IF(ISNUMBER(A20),G20/FCT_Estrada_Dados!H21,\"\"),\"\")","v":""},{"$f":"IFERROR(IF(ISNUMBER(A20),H20/FCT_Estrada_Dados!H21,\"\"),\"\")","v":""},{"$f":"IF(ISNUMBER(A20),100*((J20*0.0036)/VLOOKUP(CST_Urbano!$C$7,Combustíveis,2,FALSE)),\"\")","v":""},{"$f":"IF(ISNUMBER(A20),IF(OR($N20=\"CD\",$N20=\"Transição\",$N20=\"n-1\",$N20=\"n\"),FCT_Estrada_Dados!P21*(I20-I19),(FCT_Estrada_Dados!P21)*(1-UTILITYFACTOR(FCT_Estrada_Dados!$G$13))),\"\")","v":""},{"$f":"IF(ISNUMBER(A20),FCT_Estrada_Dados!S21,\"\")","v":""}]
[{"$f":"IF(ISNUMBER(FCT_Estrada_Dados!A22),FCT_Estrada_Dados!A22,\"\")","v":""},{"$f":"IF(ISNUMBER($A21),IF(OR($N21=\"CD\",$N21=\"Transição\",$N21=\"n-1\",$N21=\"n\"),(FCT_Estrada_Dados!B22/FCT_Estrada_Dados!$H22)*($I21-$I20),(FCT_Estrada_Dados!B22/FCT_Estrada_Dados!$H22)*(1-UTILITYFACTOR(FCT_Estrada_Dados!$G$13))),\"\")","v":""},{"$f":"IF(ISNUMBER($A21),IF(OR($N21=\"CD\",$N21=\"Transição\",$N21=\"n-1\",$N21=\"n\"),(FCT_Estrada_Dados!C22/FCT_Estrada_Dados!$H22)*($I21-$I20),(FCT_Estrada_Dados!C22/FCT_Estrada_Dados!$H22)*(1-UTILITYFACTOR(FCT_Estrada_Dados!$G$13))),\"\")","v":""},{"$f":"IF(ISNUMBER($A21),IF(OR($N21=\"CD\",$N21=\"Transição\",$N21=\"n-1\",$N21=\"n\"),(FCT_Estrada_Dados!D22/FCT_Estrada_Dados!$H22)*($I21-$I20),(FCT_Estrada_Dados!D22/FCT_Estrada_Dados!$H22)*(1-UTILITYFACTOR(FCT_Estrada_Dados!$G$13))),\"\")","v":""},{"$f":"IF(ISNUMBER($A21),IF(OR($N21=\"CD\",$N21=\"Transição\",$N21=\"n-1\",$N21=\"n\"),(FCT_Estrada_Dados!E22/FCT_Estrada_Dados!$H22)*($I21-$I20),(FCT_Estrada_Dados!E22/FCT_Estrada_Dados!$H22)*(1-UTILITYFACTOR(FCT_Estrada_Dados!$G$13))),\"\")","v":""},{"$f":"IF(ISNUMBER($A21),IF(OR($N21=\"CD\",$N21=\"Transição\",$N21=\"n-1\",$N21=\"n\"),(FCT_Estrada_Dados!G22/FCT_Estrada_Dados!$H22)*($I21-$I20),(FCT_Estrada_Dados!G22/FCT_Estrada_Dados!$H22)*(1-UTILITYFACTOR(FCT_Estrada_Dados!$G$13))),\"\")","v":""},{"$f":"IFERROR(IF(OR($N21=\"CD\",$N21=\"Transição\",$N21=\"n-1\",$N21=\"n\"),'Emissões 6.2.2.1 Estrada'!G21*(I21-I20),'Emissões 6.2.2.1 Estrada'!G21),\"\")","v":""},{"$f":"IF(ISNUMBER(A21),IF(OR($N21=\"CD\",$N21=\"Transição\",$N21=\"n-1\",$N21=\"n\"),'Emissões 6.2.2.1 Estrada'!H21*(I21-I20),(1-UTILITYFACTOR(FCT_Estrada_Dados!$G$13))*'Emissões 6.2.2.1 Estrada'!H21),\"\")","v":""},{"$f":"IF(ISNUMBER(A21),UTILITYFACTOR(A21*dEstrada),\"\")","v":""},{"$f":"IFERROR(IF(ISNUMBER(A21),G21/FCT_Estrada_Dados!H22,\"\"),\"\")","v":""},{"$f":"IFERROR(IF(ISNUMBER(A21),H21/FCT_Estrada_Dados!H22,\"\"),\"\")","v":""},{"$f":"IF(ISNUMBER(A21),100*((J21*0.0036)/VLOOKUP(CST_Urbano!$C$7,Combustíveis,2,FALSE)),\"\")","v":""},{"$f":"IF(ISNUMBER(A21),IF(OR($N21=\"CD\",$N21=\"Transição\",$N21=\"n-1\",$N21=\"n\"),FCT_Estrada_Dados!P22*(I21-I20),(FCT_Estrada_Dados!P22)*(1-UTILITYFACTOR(FCT_Estrada_Dados!$G$13))),\"\")","v":""},{"$f":"IF(ISNUMBER(A21),FCT_Estrada_Dados!S22,\"\")","v":""}]
[{"$f":"IF(ISNUMBER(FCT_Estrada_Dados!A23),FCT_Estrada_Dados!A23,\"\")","v":""},{"$f":"IF(ISNUMBER($A22),IF(OR($N22=\"CD\",$N22=\"Transição\",$N22=\"n-1\",$N22=\"n\"),(FCT_Estrada_Dados!B23/FCT_Estrada_Dados!$H23)*($I22-$I21),(FCT_Estrada_Dados!B23/FCT_Estrada_Dados!$H23)*(1-UTILITYFACTOR(FCT_Estrada_Dados!$G$13))),\"\")","v":""},{"$f":"IF(ISNUMBER($A22),IF(OR($N22=\"CD\",$N22=\"Transição\",$N22=\"n-1\",$N22=\"n\"),(FCT_Estrada_Dados!C23/FCT_Estrada_Dados!$H23)*($I22-$I21),(FCT_Estrada_Dados!C23/FCT_Estrada_Dados!$H23)*(1-UTILITYFACTOR(FCT_Estrada_Dados!$G$13))),\"\")","v":""},{"$f":"IF(ISNUMBER($A22),IF(OR($N22=\"CD\",$N22=\"Transição\",$N22=\"n-1\",$N22=\"n\"),(FCT_Estrada_Dados!D23/FCT_Estrada_Dados!$H23)*($I22-$I21),(FCT_Estrada_Dados!D23/FCT_Estrada_Dados!$H23)*(1-UTILITYFACTOR(FCT_Estrada_Dados!$G$13))),\"\")","v":""},{"$f":"IF(ISNUMBER($A22),IF(OR($N22=\"CD\",$N22=\"Transição\",$N22=\"n-1\",$N22=\"n\"),(FCT_Estrada_Dados!E23/FCT_Estrada_Dados!$H23)*($I22-$I21),(FCT_Estrada_Dados!E23/FCT_Estrada_Dados!$H23)*(1-UTILITYFACTOR(FCT_Estrada_Dados!$G$13))),\"\")","v":""},{"$f":"IF(ISNUMBER($A22),IF(OR($N22=\"CD\",$N22=\"Transição\",$N22=\"n-1\",$N22=\"n\"),(FCT_Estrada_Dados!G23/FCT_Estrada_Dados!$H23)*($I22-$I21),(FCT_Estrada_Dados!G23/FCT_Estrada_Dados!$H23)*(1-UTILITYFACTOR(FCT_Estrada_Dados!$G$13))),\"\")","v":""},{"$f":"IFERROR(IF(OR($N22=\"CD\",$N22=\"Transição\",$N22=\"n-1\",$N22=\"n\"),'Emissões 6.2.2.1 Estrada'!G22*(I22-I21),'Emissões 6.2.2.1 Estrada'!G22),\"\")","v":""},{"$f":"IF(ISNUMBER(A22),IF(OR($N22=\"CD\",$N22=\"Transição\",$N22=\"n-1\",$N22=\"n\"),'Emissões 6.2.2.1 Estrada'!H22*(I22-I21),(1-UTILITYFACTOR(FCT_Estrada_Dados!$G$13))*'Emissões 6.2.2.1 Estrada'!H22),\"\")","v":""},{"$f":"IF(ISNUMBER(A22),UTILITYFACTOR(A22*dEstrada),\"\")","v":""},{"$f":"IFERROR(IF(ISNUMBER(A22),G22/FCT_Estrada_Dados!H23,\"\"),\"\")","v":""},{"$f":"IFERROR(IF(ISNUMBER(A22),H22/FCT_Estrada_Dados!H23,\"\"),\"\")","v":""},{"$f":"IF(ISNUMBER(A22),100*((J22*0.0036)/VLOOKUP(CST_Urbano!$C$7,Combustíveis,2,FALSE)),\"\")","v":""},{"$f":"IF(ISNUMBER(A22),IF(OR($N22=\"CD\",$N22=\"Transição\",$N22=\"n-1\",$N22=\"n\"),FCT_Estrada_Dados!P23*(I22-I21),(FCT_Estrada_Dados!P23)*(1-UTILITYFACTOR(FCT_Estrada_Dados!$G$13))),\"\")","v":""},{"$f":"IF(ISNUMBER(A22),FCT_Estrada_Dados!S23,\"\")","v":""}]
[{"$f":"IF(ISNUMBER(FCT_Estrada_Dados!A24),FCT_Estrada_Dados!A24,\"\")","v":""},{"$f":"IF(ISNUMBER($A23),IF(OR($N23=\"CD\",$N23=\"Transição\",$N23=\"n-1\",$N23=\"n\"),(FCT_Estrada_Dados!B24/FCT_Estrada_Dados!$H24)*($I23-$I22),(FCT_Estrada_Dados!B24/FCT_Estrada_Dados!$H24)*(1-UTILITYFACTOR(FCT_Estrada_Dados!$G$13))),\"\")","v":""},{"$f":"IF(ISNUMBER($A23),IF(OR($N23=\"CD\",$N23=\"Transição\",$N23=\"n-1\",$N23=\"n\"),(FCT_Estrada_Dados!C24/FCT_Estrada_Dados!$H24)*($I23-$I22),(FCT_Estrada_Dados!C24/FCT_Estrada_Dados!$H24)*(1-UTILITYFACTOR(FCT_Estrada_Dados!$G$13))),\"\")","v":""},{"$f":"IF(ISNUMBER($A23),IF(OR($N23=\"CD\",$N23=\"Transição\",$N23=\"n-1\",$N23=\"n\"),(FCT_Estrada_Dados!D24/FCT_Estrada_Dados!$H24)*($I23-$I22),(FCT_Estrada_Dados!D24/FCT_Estrada_Dados!$H24)*(1-UTILITYFACTOR(FCT_Estrada_Dados!$G$13))),\"\")","v":""},{"$f":"IF(ISNUMBER($A23),IF(OR($N23=\"CD\",$N23=\"Transição\",$N23=\"n-1\",$N23=\"n\"),(FCT_Estrada_Dados!E24/FCT_Estrada_Dados!$H24)*($I23-$I22),(FCT_Estrada_Dados!E24/FCT_Estrada_Dados!$H24)*(1-UTILITYFACTOR(FCT_Estrada_Dados!$G$13))),\"\")","v":""},{"$f":"IF(ISNUMBER($A23),IF(OR($N23=\"CD\",$N23=\"Transição\",$N23=\"n-1\",$N23=\"n\"),(FCT_Estrada_Dados!G24/FCT_Estrada_Dados!$H24)*($I23-$I22),(FCT_Estrada_Dados!G24/FCT_Estrada_Dados!$H24)*(1-UTILITYFACTOR(FCT_Estrada_Dados!$G$13))),\"\")","v":""},{"$f":"IFERROR(IF(OR($N23=\"CD\",$N23=\"Transição\",$N23=\"n-1\",$N23=\"n\"),'Emissões 6.2.2.1 Estrada'!G23*(I23-I22),'Emissões 6.2.2.1 Estrada'!G23),\"\")","v":""},{"$f":"IF(ISNUMBER(A23),IF(OR($N23=\"CD\",$N23=\"Transição\",$N23=\"n-1\",$N23=\"n\"),'Emissões 6.2.2.1 Estrada'!H23*(I23-I22),(1-UTILITYFACTOR(FCT_Estrada_Dados!$G$13))*'Emissões 6.2.2.1 Estrada'!H23),\"\")","v":""},{"$f":"IF(ISNUMBER(A23),UTILITYFACTOR(A23*dEstrada),\"\")","v":""},{"$f":"IFERROR(IF(ISNUMBER(A23),G23/FCT_Estrada_Dados!H24,\"\"),\"\")","v":""},{"$f":"IFERROR(IF(ISNUMBER(A23),H23/FCT_Estrada_Dados!H24,\"\"),\"\")","v":""},{"$f":"IF(ISNUMBER(A23),100*((J23*0.0036)/VLOOKUP(CST_Urbano!$C$7,Combustíveis,2,FALSE)),\"\")","v":""},{"$f":"IF(ISNUMBER(A23),IF(OR($N23=\"CD\",$N23=\"Transição\",$N23=\"n-1\",$N23=\"n\"),FCT_Estrada_Dados!P24*(I23-I22),(FCT_Estrada_Dados!P24)*(1-UTILITYFACTOR(FCT_Estrada_Dados!$G$13))),\"\")","v":""},{"$f":"IF(ISNUMBER(A23),FCT_Estrada_Dados!S24,\"\")","v":""}]
[{"$f":"IF(ISNUMBER(FCT_Estrada_Dados!A25),FCT_Estrada_Dados!A25,\"\")","v":""},{"$f":"IF(ISNUMBER($A24),IF(OR($N24=\"CD\",$N24=\"Transição\",$N24=\"n-1\",$N24=\"n\"),(FCT_Estrada_Dados!B25/FCT_Estrada_Dados!$H25)*($I24-$I23),(FCT_Estrada_Dados!B25/FCT_Estrada_Dados!$H25)*(1-UTILITYFACTOR(FCT_Estrada_Dados!$G$13))),\"\")","v":""},{"$f":"IF(ISNUMBER($A24),IF(OR($N24=\"CD\",$N24=\"Transição\",$N24=\"n-1\",$N24=\"n\"),(FCT_Estrada_Dados!C25/FCT_Estrada_Dados!$H25)*($I24-$I23),(FCT_Estrada_Dados!C25/FCT_Estrada_Dados!$H25)*(1-UTILITYFACTOR(FCT_Estrada_Dados!$G$13))),\"\")","v":""},{"$f":"IF(ISNUMBER($A24),IF(OR($N24=\"CD\",$N24=\"Transição\",$N24=\"n-1\",$N24=\"n\"),(FCT_Estrada_Dados!D25/FCT_Estrada_Dados!$H25)*($I24-$I23),(FCT_Estrada_Dados!D25/FCT_Estrada_Dados!$H25)*(1-UTILITYFACTOR(FCT_Estrada_Dados!$G$13))),\"\")","v":""},{"$f":"IF(ISNUMBER($A24),IF(OR($N24=\"CD\",$N24=\"Transição\",$N24=\"n-1\",$N24=\"n\"),(FCT_Estrada_Dados!E25/FCT_Estrada_Dados!$H25)*($I24-$I23),(FCT_Estrada_Dados!E25/FCT_Estrada_Dados!$H25)*(1-UTILITYFACTOR(FCT_Estrada_Dados!$G$13))),\"\")","v":""},{"$f":"IF(ISNUMBER($A24),IF(OR($N24=\"CD\",$N24=\"Transição\",$N24=\"n-1\",$N24=\"n\"),(FCT_Estrada_Dados!G25/FCT_Estrada_Dados!$H25)*($I24-$I23),(FCT_Estrada_Dados!G25/FCT_Estrada_Dados!$H25)*(1-UTILITYFACTOR(FCT_Estrada_Dados!$G$13))),\"\")","v":""},{"$f":"IFERROR(IF(OR($N24=\"CD\",$N24=\"Transição\",$N24=\"n-1\",$N24=\"n\"),'Emissões 6.2.2.1 Estrada'!G24*(I24-I23),'Emissões 6.2.2.1 Estrada'!G24),\"\")","v":""},{"$f":"IF(ISNUMBER(A24),IF(OR($N24=\"CD\",$N24=\"Transição\",$N24=\"n-1\",$N24=\"n\"),'Emissões 6.2.2.1 Estrada'!H24*(I24-I23),(1-UTILITYFACTOR(FCT_Estrada_Dados!$G$13))*'Emissões 6.2.2.1 Estrada'!H24),\"\")","v":""},{"$f":"IF(ISNUMBER(A24),UTILITYFACTOR(A24*dEstrada),\"\")","v":""},{"$f":"IFERROR(IF(ISNUMBER(A24),G24/FCT_Estrada_Dados!H25,\"\"),\"\")","v":""},{"$f":"IFERROR(IF(ISNUMBER(A24),H24/FCT_Estrada_Dados!H25,\"\"),\"\")","v":""},{"$f":"IF(ISNUMBER(A24),100*((J24*0.0036)/VLOOKUP(CST_Urbano!$C$7,Combustíveis,2,FALSE)),\"\")","v":""},{"$f":"IF(ISNUMBER(A24),IF(OR($N24=\"CD\",$N24=\"Transição\",$N24=\"n-1\",$N24=\"n\"),FCT_Estrada_Dados!P25*(I24-I23),(FCT_Estrada_Dados!P25)*(1-UTILITYFACTOR(FCT_Estrada_Dados!$G$13))),\"\")","v":""},{"$f":"IF(ISNUMBER(A24),FCT_Estrada_Dados!S25,\"\")","v":""}]
[{"$f":"IF(ISNUMBER(FCT_Estrada_Dados!A26),FCT_Estrada_Dados!A26,\"\")","v":""},{"$f":"IF(ISNUMBER($A25),IF(OR($N25=\"CD\",$N25=\"Transição\",$N25=\"n-1\",$N25=\"n\"),(FCT_Estrada_Dados!B26/FCT_Estrada_Dados!$H26)*($I25-$I24),(FCT_Estrada_Dados!B26/FCT_Estrada_Dados!$H26)*(1-UTILITYFACTOR(FCT_Estrada_Dados!$G$13))),\"\")","v":""},{"$f":"IF(ISNUMBER($A25),IF(OR($N25=\"CD\",$N25=\"Transição\",$N25=\"n-1\",$N25=\"n\"),(FCT_Estrada_Dados!C26/FCT_Estrada_Dados!$H26)*($I25-$I24),(FCT_Estrada_Dados!C26/FCT_Estrada_Dados!$H26)*(1-UTILITYFACTOR(FCT_Estrada_Dados!$G$13))),\"\")","v":""},{"$f":"IF(ISNUMBER($A25),IF(OR($N25=\"CD\",$N25=\"Transição\",$N25=\"n-1\",$N25=\"n\"),(FCT_Estrada_Dados!D26/FCT_Estrada_Dados!$H26)*($I25-$I24),(FCT_Estrada_Dados!D26/FCT_Estrada_Dados!$H26)*(1-UTILITYFACTOR(FCT_Estrada_Dados!$G$13))),\"\")","v":""},{"$f":"IF(ISNUMBER($A25),IF(OR($N25=\"CD\",$N25=\"Transição\",$N25=\"n-1\",$N25=\"n\"),(FCT_Estrada_Dados!E26/FCT_Estrada_Dados!$H26)*($I25-$I24),(FCT_Estrada_Dados!E26/FCT_Estrada_Dados!$H26)*(1-UTILITYFACTOR(FCT_Estrada_Dados!$G$13))),\"\")","v":""},{"$f":"IF(ISNUMBER($A25),IF(OR($N25=\"CD\",$N25=\"Transição\",$N25=\"n-1\",$N25=\"n\"),(FCT_Estrada_Dados!G26/FCT_Estrada_Dados!$H26)*($I25-$I24),(FCT_Estrada_Dados!G26/FCT_Estrada_Dados!$H26)*(1-UTILITYFACTOR(FCT_Estrada_Dados!$G$13))),\"\")","v":""},{"$f":"IFERROR(IF(OR($N25=\"CD\",$N25=\"Transição\",$N25=\"n-1\",$N25=\"n\"),'Emissões 6.2.2.1 Estrada'!G25*(I25-I24),'Emissões 6.2.2.1 Estrada'!G25),\"\")","v":""},{"$f":"IF(ISNUMBER(A25),IF(OR($N25=\"CD\",$N25=\"Transição\",$N25=\"n-1\",$N25=\"n\"),'Emissões 6.2.2.1 Estrada'!H25*(I25-I24),(1-UTILITYFACTOR(FCT_Estrada_Dados!$G$13))*'Emissões 6.2.2.1 Estrada'!H25),\"\")","v":""},{"$f":"IF(ISNUMBER(A25),UTILITYFACTOR(A25*dEstrada),\"\")","v":""},{"$f":"IFERROR(IF(ISNUMBER(A25),G25/FCT_Estrada_Dados!H26,\"\"),\"\")","v":""},{"$f":"IFERROR(IF(ISNUMBER(A25),H25/FCT_Estrada_Dados!H26,\"\"),\"\")","v":""},{"$f":"IF(ISNUMBER(A25),100*((J25*0.0036)/VLOOKUP(CST_Urbano!$C$7,Combustíveis,2,FALSE)),\"\")","v":""},{"$f":"IF(ISNUMBER(A25),IF(OR($N25=\"CD\",$N25=\"Transição\",$N25=\"n-1\",$N25=\"n\"),FCT_Estrada_Dados!P26*(I25-I24),(FCT_Estrada_Dados!P26)*(1-UTILITYFACTOR(FCT_Estrada_Dados!$G$13))),\"\")","v":""},{"$f":"IF(ISNUMBER(A25),FCT_Estrada_Dados!S26,\"\")","v":""}]
[{"$f":"IF(ISNUMBER(FCT_Estrada_Dados!A27),FCT_Estrada_Dados!A27,\"\")","v":""},{"$f":"IF(ISNUMBER($A26),IF(OR($N26=\"CD\",$N26=\"Transição\",$N26=\"n-1\",$N26=\"n\"),(FCT_Estrada_Dados!B27/FCT_Estrada_Dados!$H27)*($I26-$I25),(FCT_Estrada_Dados!B27/FCT_Estrada_Dados!$H27)*(1-UTILITYFACTOR(FCT_Estrada_Dados!$G$13))),\"\")","v":""},{"$f":"IF(ISNUMBER($A26),IF(OR($N26=\"CD\",$N26=\"Transição\",$N26=\"n-1\",$N26=\"n\"),(FCT_Estrada_Dados!C27/FCT_Estrada_Dados!$H27)*($I26-$I25),(FCT_Estrada_Dados!C27/FCT_Estrada_Dados!$H27)*(1-UTILITYFACTOR(FCT_Estrada_Dados!$G$13))),\"\")","v":""},{"$f":"IF(ISNUMBER($A26),IF(OR($N26=\"CD\",$N26=\"Transição\",$N26=\"n-1\",$N26=\"n\"),(FCT_Estrada_Dados!D27/FCT_Estrada_Dados!$H27)*($I26-$I25),(FCT_Estrada_Dados!D27/FCT_Estrada_Dados!$H27)*(1-UTILITYFACTOR(FCT_Estrada_Dados!$G$13))),\"\")","v":""},{"$f":"IF(ISNUMBER($A26),IF(OR($N26=\"CD\",$N26=\"Transição\",$N26=\"n-1\",$N26=\"n\"),(FCT_Estrada_Dados!E27/FCT_Estrada_Dados!$H27)*($I26-$I25),(FCT_Estrada_Dados!E27/FCT_Estrada_Dados!$H27)*(1-UTILITYFACTOR(FCT_Estrada_Dados!$G$13))),\"\")","v":""},{"$f":"IF(ISNUMBER($A26),IF(OR($N26=\"CD\",$N26=\"Transição\",$N26=\"n-1\",$N26=\"n\"),(FCT_Estrada_Dados!G27/FCT_Estrada_Dados!$H27)*($I26-$I25),(FCT_Estrada_Dados!G27/FCT_Estrada_Dados!$H27)*(1-UTILITYFACTOR(FCT_Estrada_Dados!$G$13))),\"\")","v":""},{"$f":"IFERROR(IF(OR($N26=\"CD\",$N26=\"Transição\",$N26=\"n-1\",$N26=\"n\"),'Emissões 6.2.2.1 Estrada'!G26*(I26-I25),'Emissões 6.2.2.1 Estrada'!G26),\"\")","v":""},{"$f":"IF(ISNUMBER(A26),IF(OR($N26=\"CD\",$N26=\"Transição\",$N26=\"n-1\",$N26=\"n\"),'Emissões 6.2.2.1 Estrada'!H26*(I26-I25),(1-UTILITYFACTOR(FCT_Estrada_Dados!$G$13))*'Emissões 6.2.2.1 Estrada'!H26),\"\")","v":""},{"$f":"IF(ISNUMBER(A26),UTILITYFACTOR(A26*dEstrada),\"\")","v":""},{"$f":"IFERROR(IF(ISNUMBER(A26),G26/FCT_Estrada_Dados!H27,\"\"),\"\")","v":""},{"$f":"IFERROR(IF(ISNUMBER(A26),H26/FCT_Estrada_Dados!H27,\"\"),\"\")","v":""},{"$f":"IF(ISNUMBER(A26),100*((J26*0.0036)/VLOOKUP(CST_Urbano!$C$7,Combustíveis,2,FALSE)),\"\")","v":""},{"$f":"IF(ISNUMBER(A26),IF(OR($N26=\"CD\",$N26=\"Transição\",$N26=\"n-1\",$N26=\"n\"),FCT_Estrada_Dados!P27*(I26-I25),(FCT_Estrada_Dados!P27)*(1-UTILITYFACTOR(FCT_Estrada_Dados!$G$13))),\"\")","v":""},{"$f":"IF(ISNUMBER(A26),FCT_Estrada_Dados!S27,\"\")","v":""}]
[{"$f":"IF(ISNUMBER(FCT_Estrada_Dados!A28),FCT_Estrada_Dados!A28,\"\")","v":""},{"$f":"IF(ISNUMBER($A27),IF(OR($N27=\"CD\",$N27=\"Transição\",$N27=\"n-1\",$N27=\"n\"),(FCT_Estrada_Dados!B28/FCT_Estrada_Dados!$H28)*($I27-$I26),(FCT_Estrada_Dados!B28/FCT_Estrada_Dados!$H28)*(1-UTILITYFACTOR(FCT_Estrada_Dados!$G$13))),\"\")","v":""},{"$f":"IF(ISNUMBER($A27),IF(OR($N27=\"CD\",$N27=\"Transição\",$N27=\"n-1\",$N27=\"n\"),(FCT_Estrada_Dados!C28/FCT_Estrada_Dados!$H28)*($I27-$I26),(FCT_Estrada_Dados!C28/FCT_Estrada_Dados!$H28)*(1-UTILITYFACTOR(FCT_Estrada_Dados!$G$13))),\"\")","v":""},{"$f":"IF(ISNUMBER($A27),IF(OR($N27=\"CD\",$N27=\"Transição\",$N27=\"n-1\",$N27=\"n\"),(FCT_Estrada_Dados!D28/FCT_Estrada_Dados!$H28)*($I27-$I26),(FCT_Estrada_Dados!D28/FCT_Estrada_Dados!$H28)*(1-UTILITYFACTOR(FCT_Estrada_Dados!$G$13))),\"\")","v":""},{"$f":"IF(ISNUMBER($A27),IF(OR($N27=\"CD\",$N27=\"Transição\",$N27=\"n-1\",$N27=\"n\"),(FCT_Estrada_Dados!E28/FCT_Estrada_Dados!$H28)*($I27-$I26),(FCT_Estrada_Dados!E28/FCT_Estrada_Dados!$H28)*(1-UTILITYFACTOR(FCT_Estrada_Dados!$G$13))),\"\")","v":""},{"$f":"IF(ISNUMBER($A27),IF(OR($N27=\"CD\",$N27=\"Transição\",$N27=\"n-1\",$N27=\"n\"),(FCT_Estrada_Dados!G28/FCT_Estrada_Dados!$H28)*($I27-$I26),(FCT_Estrada_Dados!G28/FCT_Estrada_Dados!$H28)*(1-UTILITYFACTOR(FCT_Estrada_Dados!$G$13))),\"\")","v":""},{"$f":"IFERROR(IF(OR($N27=\"CD\",$N27=\"Transição\",$N27=\"n-1\",$N27=\"n\"),'Emissões 6.2.2.1 Estrada'!G27*(I27-I26),'Emissões 6.2.2.1 Estrada'!G27),\"\")","v":""},{"$f":"IF(ISNUMBER(A27),IF(OR($N27=\"CD\",$N27=\"Transição\",$N27=\"n-1\",$N27=\"n\"),'Emissões 6.2.2.1 Estrada'!H27*(I27-I26),(1-UTILITYFACTOR(FCT_Estrada_Dados!$G$13))*'Emissões 6.2.2.1 Estrada'!H27),\"\")","v":""},{"$f":"IF(ISNUMBER(A27),UTILITYFACTOR(A27*dEstrada),\"\")","v":""},{"$f":"IFERROR(IF(ISNUMBER(A27),G27/FCT_Estrada_Dados!H28,\"\"),\"\")","v":""},{"$f":"IFERROR(IF(ISNUMBER(A27),H27/FCT_Estrada_Dados!H28,\"\"),\"\")","v":""},{"$f":"IF(ISNUMBER(A27),100*((J27*0.0036)/VLOOKUP(CST_Urbano!$C$7,Combustíveis,2,FALSE)),\"\")","v":""},{"$f":"IF(ISNUMBER(A27),IF(OR($N27=\"CD\",$N27=\"Transição\",$N27=\"n-1\",$N27=\"n\"),FCT_Estrada_Dados!P28*(I27-I26),(FCT_Estrada_Dados!P28)*(1-UTILITYFACTOR(FCT_Estrada_Dados!$G$13))),\"\")","v":""},{"$f":"IF(ISNUMBER(A27),FCT_Estrada_Dados!S28,\"\")","v":""}]
[{"$f":"IF(ISNUMBER(FCT_Estrada_Dados!A29),FCT_Estrada_Dados!A29,\"\")","v":""},{"$f":"IF(ISNUMBER($A28),IF(OR($N28=\"CD\",$N28=\"Transição\",$N28=\"n-1\",$N28=\"n\"),(FCT_Estrada_Dados!B29/FCT_Estrada_Dados!$H29)*($I28-$I27),(FCT_Estrada_Dados!B29/FCT_Estrada_Dados!$H29)*(1-UTILITYFACTOR(FCT_Estrada_Dados!$G$13))),\"\")","v":""},{"$f":"IF(ISNUMBER($A28),IF(OR($N28=\"CD\",$N28=\"Transição\",$N28=\"n-1\",$N28=\"n\"),(FCT_Estrada_Dados!C29/FCT_Estrada_Dados!$H29)*($I28-$I27),(FCT_Estrada_Dados!C29/FCT_Estrada_Dados!$H29)*(1-UTILITYFACTOR(FCT_Estrada_Dados!$G$13))),\"\")","v":""},{"$f":"IF(ISNUMBER($A28),IF(OR($N28=\"CD\",$N28=\"Transição\",$N28=\"n-1\",$N28=\"n\"),(FCT_Estrada_Dados!D29/FCT_Estrada_Dados!$H29)*($I28-$I27),(FCT_Estrada_Dados!D29/FCT_Estrada_Dados!$H29)*(1-UTILITYFACTOR(FCT_Estrada_Dados!$G$13))),\"\")","v":""},{"$f":"IF(ISNUMBER($A28),IF(OR($N28=\"CD\",$N28=\"Transição\",$N28=\"n-1\",$N28=\"n\"),(FCT_Estrada_Dados!E29/FCT_Estrada_Dados!$H29)*($I28-$I27),(FCT_Estrada_Dados!E29/FCT_Estrada_Dados!$H29)*(1-UTILITYFACTOR(FCT_Estrada_Dados!$G$13))),\"\")","v":""},{"$f":"IF(ISNUMBER($A28),IF(OR($N28=\"CD\",$N28=\"Transição\",$N28=\"n-1\",$N28=\"n\"),(FCT_Estrada_Dados!G29/FCT_Estrada_Dados!$H29)*($I28-$I27),(FCT_Estrada_Dados!G29/FCT_Estrada_Dados!$H29)*(1-UTILITYFACTOR(FCT_Estrada_Dados!$G$13))),\"\")","v":""},{"$f":"IFERROR(IF(OR($N28=\"CD\",$N28=\"Transição\",$N28=\"n-1\",$N28=\"n\"),'Emissões 6.2.2.1 Estrada'!G28*(I28-I27),'Emissões 6.2.2.1 Estrada'!G28),\"\")","v":""},{"$f":"IF(ISNUMBER(A28),IF(OR($N28=\"CD\",$N28=\"Transição\",$N28=\"n-1\",$N28=\"n\"),'Emissões 6.2.2.1 Estrada'!H28*(I28-I27),(1-UTILITYFACTOR(FCT_Estrada_Dados!$G$13))*'Emissões 6.2.2.1 Estrada'!H28),\"\")","v":""},{"$f":"IF(ISNUMBER(A28),UTILITYFACTOR(A28*dEstrada),\"\")","v":""},{"$f":"IFERROR(IF(ISNUMBER(A28),G28/FCT_Estrada_Dados!H29,\"\"),\"\")","v":""},{"$f":"IFERROR(IF(ISNUMBER(A28),H28/FCT_Estrada_Dados!H29,\"\"),\"\")","v":""},{"$f":"IF(ISNUMBER(A28),100*((J28*0.0036)/VLOOKUP(CST_Urbano!$C$7,Combustíveis,2,FALSE)),\"\")","v":""},{"$f":"IF(ISNUMBER(A28),IF(OR($N28=\"CD\",$N28=\"Transição\",$N28=\"n-1\",$N28=\"n\"),FCT_Estrada_Dados!P29*(I28-I27),(FCT_Estrada_Dados!P29)*(1-UTILITYFACTOR(FCT_Estrada_Dados!$G$13))),\"\")","v":""},{"$f":"IF(ISNUMBER(A28),FCT_Estrada_Dados!S29,\"\")","v":""}]
[{"$f":"IF(ISNUMBER(FCT_Estrada_Dados!A30),FCT_Estrada_Dados!A30,\"\")","v":""},{"$f":"IF(ISNUMBER($A29),IF(OR($N29=\"CD\",$N29=\"Transição\",$N29=\"n-1\",$N29=\"n\"),(FCT_Estrada_Dados!B30/FCT_Estrada_Dados!$H30)*($I29-$I28),(FCT_Estrada_Dados!B30/FCT_Estrada_Dados!$H30)*(1-UTILITYFACTOR(FCT_Estrada_Dados!$G$13))),\"\")","v":""},{"$f":"IF(ISNUMBER($A29),IF(OR($N29=\"CD\",$N29=\"Transição\",$N29=\"n-1\",$N29=\"n\"),(FCT_Estrada_Dados!C30/FCT_Estrada_Dados!$H30)*($I29-$I28),(FCT_Estrada_Dados!C30/FCT_Estrada_Dados!$H30)*(1-UTILITYFACTOR(FCT_Estrada_Dados!$G$13))),\"\")","v":""},{"$f":"IF(ISNUMBER($A29),IF(OR($N29=\"CD\",$N29=\"Transição\",$N29=\"n-1\",$N29=\"n\"),(FCT_Estrada_Dados!D30/FCT_Estrada_Dados!$H30)*($I29-$I28),(FCT_Estrada_Dados!D30/FCT_Estrada_Dados!$H30)*(1-UTILITYFACTOR(FCT_Estrada_Dados!$G$13))),\"\")","v":""},{"$f":"IF(ISNUMBER($A29),IF(OR($N29=\"CD\",$N29=\"Transição\",$N29=\"n-1\",$N29=\"n\"),(FCT_Estrada_Dados!E30/FCT_Estrada_Dados!$H30)*($I29-$I28),(FCT_Estrada_Dados!E30/FCT_Estrada_Dados!$H30)*(1-UTILITYFACTOR(FCT_Estrada_Dados!$G$13))),\"\")","v":""},{"$f":"IF(ISNUMBER($A29),IF(OR($N29=\"CD\",$N29=\"Transição\",$N29=\"n-1\",$N29=\"n\"),(FCT_Estrada_Dados!G30/FCT_Estrada_Dados!$H30)*($I29-$I28),(FCT_Estrada_Dados!G30/FCT_Estrada_Dados!$H30)*(1-UTILITYFACTOR(FCT_Estrada_Dados!$G$13))),\"\")","v":""},{"$f":"IFERROR(IF(OR($N29=\"CD\",$N29=\"Transição\",$N29=\"n-1\",$N29=\"n\"),'Emissões 6.2.2.1 Estrada'!G29*(I29-I28),'Emissões 6.2.2.1 Estrada'!G29),\"\")","v":""},{"$f":"IF(ISNUMBER(A29),IF(OR($N29=\"CD\",$N29=\"Transição\",$N29=\"n-1\",$N29=\"n\"),'Emissões 6.2.2.1 Estrada'!H29*(I29-I28),(1-UTILITYFACTOR(FCT_Estrada_Dados!$G$13))*'Emissões 6.2.2.1 Estrada'!H29),\"\")","v":""},{"$f":"IF(ISNUMBER(A29),UTILITYFACTOR(A29*dEstrada),\"\")","v":""},{"$f":"IFERROR(IF(ISNUMBER(A29),G29/FCT_Estrada_Dados!H30,\"\"),\"\")","v":""},{"$f":"IFERROR(IF(ISNUMBER(A29),H29/FCT_Estrada_Dados!H30,\"\"),\"\")","v":""},{"$f":"IF(ISNUMBER(A29),100*((J29*0.0036)/VLOOKUP(CST_Urbano!$C$7,Combustíveis,2,FALSE)),\"\")","v":""},{"$f":"IF(ISNUMBER(A29),IF(OR($N29=\"CD\",$N29=\"Transição\",$N29=\"n-1\",$N29=\"n\"),FCT_Estrada_Dados!P30*(I29-I28),(FCT_Estrada_Dados!P30)*(1-UTILITYFACTOR(FCT_Estrada_Dados!$G$13))),\"\")","v":""},{"$f":"IF(ISNUMBER(A29),FCT_Estrada_Dados!S30,\"\")","v":""}]
[{"$f":"IF(ISNUMBER(FCT_Estrada_Dados!A31),FCT_Estrada_Dados!A31,\"\")","v":""},{"$f":"IF(ISNUMBER($A30),IF(OR($N30=\"CD\",$N30=\"Transição\",$N30=\"n-1\",$N30=\"n\"),(FCT_Estrada_Dados!B31/FCT_Estrada_Dados!$H31)*($I30-$I29),(FCT_Estrada_Dados!B31/FCT_Estrada_Dados!$H31)*(1-UTILITYFACTOR(FCT_Estrada_Dados!$G$13))),\"\")","v":""},{"$f":"IF(ISNUMBER($A30),IF(OR($N30=\"CD\",$N30=\"Transição\",$N30=\"n-1\",$N30=\"n\"),(FCT_Estrada_Dados!C31/FCT_Estrada_Dados!$H31)*($I30-$I29),(FCT_Estrada_Dados!C31/FCT_Estrada_Dados!$H31)*(1-UTILITYFACTOR(FCT_Estrada_Dados!$G$13))),\"\")","v":""},{"$f":"IF(ISNUMBER($A30),IF(OR($N30=\"CD\",$N30=\"Transição\",$N30=\"n-1\",$N30=\"n\"),(FCT_Estrada_Dados!D31/FCT_Estrada_Dados!$H31)*($I30-$I29),(FCT_Estrada_Dados!D31/FCT_Estrada_Dados!$H31)*(1-UTILITYFACTOR(FCT_Estrada_Dados!$G$13))),\"\")","v":""},{"$f":"IF(ISNUMBER($A30),IF(OR($N30=\"CD\",$N30=\"Transição\",$N30=\"n-1\",$N30=\"n\"),(FCT_Estrada_Dados!E31/FCT_Estrada_Dados!$H31)*($I30-$I29),(FCT_Estrada_Dados!E31/FCT_Estrada_Dados!$H31)*(1-UTILITYFACTOR(FCT_Estrada_Dados!$G$13))),\"\")","v":""},{"$f":"IF(ISNUMBER($A30),IF(OR($N30=\"CD\",$N30=\"Transição\",$N30=\"n-1\",$N30=\"n\"),(FCT_Estrada_Dados!G31/FCT_Estrada_Dados!$H31)*($I30-$I29),(FCT_Estrada_Dados!G31/FCT_Estrada_Dados!$H31)*(1-UTILITYFACTOR(FCT_Estrada_Dados!$G$13))),\"\")","v":""},{"$f":"IFERROR(IF(OR($N30=\"CD\",$N30=\"Transição\",$N30=\"n-1\",$N30=\"n\"),'Emissões 6.2.2.1 Estrada'!G30*(I30-I29),'Emissões 6.2.2.1 Estrada'!G30),\"\")","v":""},{"$f":"IF(ISNUMBER(A30),IF(OR($N30=\"CD\",$N30=\"Transição\",$N30=\"n-1\",$N30=\"n\"),'Emissões 6.2.2.1 Estrada'!H30*(I30-I29),(1-UTILITYFACTOR(FCT_Estrada_Dados!$G$13))*'Emissões 6.2.2.1 Estrada'!H30),\"\")","v":""},{"$f":"IF(ISNUMBER(A30),UTILITYFACTOR(A30*dEstrada),\"\")","v":""},{"$f":"IFERROR(IF(ISNUMBER(A30),G30/FCT_Estrada_Dados!H31,\"\"),\"\")","v":""},{"$f":"IFERROR(IF(ISNUMBER(A30),H30/FCT_Estrada_Dados!H31,\"\"),\"\")","v":""},{"$f":"IF(ISNUMBER(A30),100*((J30*0.0036)/VLOOKUP(CST_Urbano!$C$7,Combustíveis,2,FALSE)),\"\")","v":""},{"$f":"IF(ISNUMBER(A30),IF(OR($N30=\"CD\",$N30=\"Transição\",$N30=\"n-1\",$N30=\"n\"),FCT_Estrada_Dados!P31*(I30-I29),(FCT_Estrada_Dados!P31)*(1-UTILITYFACTOR(FCT_Estrada_Dados!$G$13))),\"\")","v":""},{"$f":"IF(ISNUMBER(A30),FCT_Estrada_Dados!S31,\"\")","v":""}]
[{"$f":"IF(ISNUMBER(FCT_Estrada_Dados!A32),FCT_Estrada_Dados!A32,\"\")","v":""},{"$f":"IF(ISNUMBER($A31),IF(OR($N31=\"CD\",$N31=\"Transição\",$N31=\"n-1\",$N31=\"n\"),(FCT_Estrada_Dados!B32/FCT_Estrada_Dados!$H32)*($I31-$I30),(FCT_Estrada_Dados!B32/FCT_Estrada_Dados!$H32)*(1-UTILITYFACTOR(FCT_Estrada_Dados!$G$13))),\"\")","v":""},{"$f":"IF(ISNUMBER($A31),IF(OR($N31=\"CD\",$N31=\"Transição\",$N31=\"n-1\",$N31=\"n\"),(FCT_Estrada_Dados!C32/FCT_Estrada_Dados!$H32)*($I31-$I30),(FCT_Estrada_Dados!C32/FCT_Estrada_Dados!$H32)*(1-UTILITYFACTOR(FCT_Estrada_Dados!$G$13))),\"\")","v":""},{"$f":"IF(ISNUMBER($A31),IF(OR($N31=\"CD\",$N31=\"Transição\",$N31=\"n-1\",$N31=\"n\"),(FCT_Estrada_Dados!D32/FCT_Estrada_Dados!$H32)*($I31-$I30),(FCT_Estrada_Dados!D32/FCT_Estrada_Dados!$H32)*(1-UTILITYFACTOR(FCT_Estrada_Dados!$G$13))),\"\")","v":""},{"$f":"IF(ISNUMBER($A31),IF(OR($N31=\"CD\",$N31=\"Transição\",$N31=\"n-1\",$N31=\"n\"),(FCT_Estrada_Dados!E32/FCT_Estrada_Dados!$H32)*($I31-$I30),(FCT_Estrada_Dados!E32/FCT_Estrada_Dados!$H32)*(1-UTILITYFACTOR(FCT_Estrada_Dados!$G$13))),\"\")","v":""},{"$f":"IF(ISNUMBER($A31),IF(OR($N31=\"CD\",$N31=\"Transição\",$N31=\"n-1\",$N31=\"n\"),(FCT_Estrada_Dados!G32/FCT_Estrada_Dados!$H32)*($I31-$I30),(FCT_Estrada_Dados!G32/FCT_Estrada_Dados!$H32)*(1-UTILITYFACTOR(FCT_Estrada_Dados!$G$13))),\"\")","v":""},{"$f":"IFERROR(IF(OR($N31=\"CD\",$N31=\"Transição\",$N31=\"n-1\",$N31=\"n\"),'Emissões 6.2.2.1 Estrada'!G31*(I31-I30),'Emissões 6.2.2.1 Estrada'!G31),\"\")","v":""},{"$f":"IF(ISNUMBER(A31),IF(OR($N31=\"CD\",$N31=\"Transição\",$N31=\"n-1\",$N31=\"n\"),'Emissões 6.2.2.1 Estrada'!H31*(I31-I30),(1-UTILITYFACTOR(FCT_Estrada_Dados!$G$13))*'Emissões 6.2.2.1 Estrada'!H31),\"\")","v":""},{"$f":"IF(ISNUMBER(A31),UTILITYFACTOR(A31*dEstrada),\"\")","v":""},{"$f":"IFERROR(IF(ISNUMBER(A31),G31/FCT_Estrada_Dados!H32,\"\"),\"\")","v":""},{"$f":"IFERROR(IF(ISNUMBER(A31),H31/FCT_Estrada_Dados!H32,\"\"),\"\")","v":""},{"$f":"IF(ISNUMBER(A31),100*((J31*0.0036)/VLOOKUP(CST_Urbano!$C$7,Combustíveis,2,FALSE)),\"\")","v":""},{"$f":"IF(ISNUMBER(A31),IF(OR($N31=\"CD\",$N31=\"Transição\",$N31=\"n-1\",$N31=\"n\"),FCT_Estrada_Dados!P32*(I31-I30),(FCT_Estrada_Dados!P32)*(1-UTILITYFACTOR(FCT_Estrada_Dados!$G$13))),\"\")","v":""},{"$f":"IF(ISNUMBER(A31),FCT_Estrada_Dados!S32,\"\")","v":""}]
[{"$f":"IF(ISNUMBER(FCT_Estrada_Dados!A33),FCT_Estrada_Dados!A33,\"\")","v":""},{"$f":"IF(ISNUMBER($A32),IF(OR($N32=\"CD\",$N32=\"Transição\",$N32=\"n-1\",$N32=\"n\"),(FCT_Estrada_Dados!B33/FCT_Estrada_Dados!$H33)*($I32-$I31),(FCT_Estrada_Dados!B33/FCT_Estrada_Dados!$H33)*(1-UTILITYFACTOR(FCT_Estrada_Dados!$G$13))),\"\")","v":""},{"$f":"IF(ISNUMBER($A32),IF(OR($N32=\"CD\",$N32=\"Transição\",$N32=\"n-1\",$N32=\"n\"),(FCT_Estrada_Dados!C33/FCT_Estrada_Dados!$H33)*($I32-$I31),(FCT_Estrada_Dados!C33/FCT_Estrada_Dados!$H33)*(1-UTILITYFACTOR(FCT_Estrada_Dados!$G$13))),\"\")","v":""},{"$f":"IF(ISNUMBER($A32),IF(OR($N32=\"CD\",$N32=\"Transição\",$N32=\"n-1\",$N32=\"n\"),(FCT_Estrada_Dados!D33/FCT_Estrada_Dados!$H33)*($I32-$I31),(FCT_Estrada_Dados!D33/FCT_Estrada_Dados!$H33)*(1-UTILITYFACTOR(FCT_Estrada_Dados!$G$13))),\"\")","v":""},{"$f":"IF(ISNUMBER($A32),IF(OR($N32=\"CD\",$N32=\"Transição\",$N32=\"n-1\",$N32=\"n\"),(FCT_Estrada_Dados!E33/FCT_Estrada_Dados!$H33)*($I32-$I31),(FCT_Estrada_Dados!E33/FCT_Estrada_Dados!$H33)*(1-UTILITYFACTOR(FCT_Estrada_Dados!$G$13))),\"\")","v":""},{"$f":"IF(ISNUMBER($A32),IF(OR($N32=\"CD\",$N32=\"Transição\",$N32=\"n-1\",$N32=\"n\"),(FCT_Estrada_Dados!G33/FCT_Estrada_Dados!$H33)*($I32-$I31),(FCT_Estrada_Dados!G33/FCT_Estrada_Dados!$H33)*(1-UTILITYFACTOR(FCT_Estrada_Dados!$G$13))),\"\")","v":""},{"$f":"IFERROR(IF(OR($N32=\"CD\",$N32=\"Transição\",$N32=\"n-1\",$N32=\"n\"),'Emissões 6.2.2.1 Estrada'!G32*(I32-I31),'Emissões 6.2.2.1 Estrada'!G32),\"\")","v":""},{"$f":"IF(ISNUMBER(A32),IF(OR($N32=\"CD\",$N32=\"Transição\",$N32=\"n-1\",$N32=\"n\"),'Emissões 6.2.2.1 Estrada'!H32*(I32-I31),(1-UTILITYFACTOR(FCT_Estrada_Dados!$G$13))*'Emissões 6.2.2.1 Estrada'!H32),\"\")","v":""},{"$f":"IF(ISNUMBER(A32),UTILITYFACTOR(A32*dEstrada),\"\")","v":""},{"$f":"IFERROR(IF(ISNUMBER(A32),G32/FCT_Estrada_Dados!H33,\"\"),\"\")","v":""},{"$f":"IFERROR(IF(ISNUMBER(A32),H32/FCT_Estrada_Dados!H33,\"\"),\"\")","v":""},{"$f":"IF(ISNUMBER(A32),100*((J32*0.0036)/VLOOKUP(CST_Urbano!$C$7,Combustíveis,2,FALSE)),\"\")","v":""},{"$f":"IF(ISNUMBER(A32),IF(OR($N32=\"CD\",$N32=\"Transição\",$N32=\"n-1\",$N32=\"n\"),FCT_Estrada_Dados!P33*(I32-I31),(FCT_Estrada_Dados!P33)*(1-UTILITYFACTOR(FCT_Estrada_Dados!$G$13))),\"\")","v":""},{"$f":"IF(ISNUMBER(A32),FCT_Estrada_Dados!S33,\"\")","v":""}]
[{"$f":"IF(ISNUMBER(FCT_Estrada_Dados!A34),FCT_Estrada_Dados!A34,\"\")","v":""},{"$f":"IF(ISNUMBER($A33),IF(OR($N33=\"CD\",$N33=\"Transição\",$N33=\"n-1\",$N33=\"n\"),(FCT_Estrada_Dados!B34/FCT_Estrada_Dados!$H34)*($I33-$I32),(FCT_Estrada_Dados!B34/FCT_Estrada_Dados!$H34)*(1-UTILITYFACTOR(FCT_Estrada_Dados!$G$13))),\"\")","v":""},{"$f":"IF(ISNUMBER($A33),IF(OR($N33=\"CD\",$N33=\"Transição\",$N33=\"n-1\",$N33=\"n\"),(FCT_Estrada_Dados!C34/FCT_Estrada_Dados!$H34)*($I33-$I32),(FCT_Estrada_Dados!C34/FCT_Estrada_Dados!$H34)*(1-UTILITYFACTOR(FCT_Estrada_Dados!$G$13))),\"\")","v":""},{"$f":"IF(ISNUMBER($A33),IF(OR($N33=\"CD\",$N33=\"Transição\",$N33=\"n-1\",$N33=\"n\"),(FCT_Estrada_Dados!D34/FCT_Estrada_Dados!$H34)*($I33-$I32),(FCT_Estrada_Dados!D34/FCT_Estrada_Dados!$H34)*(1-UTILITYFACTOR(FCT_Estrada_Dados!$G$13))),\"\")","v":""},{"$f":"IF(ISNUMBER($A33),IF(OR($N33=\"CD\",$N33=\"Transição\",$N33=\"n-1\",$N33=\"n\"),(FCT_Estrada_Dados!E34/FCT_Estrada_Dados!$H34)*($I33-$I32),(FCT_Estrada_Dados!E34/FCT_Estrada_Dados!$H34)*(1-UTILITYFACTOR(FCT_Estrada_Dados!$G$13))),\"\")","v":""},{"$f":"IF(ISNUMBER($A33),IF(OR($N33=\"CD\",$N33=\"Transição\",$N33=\"n-1\",$N33=\"n\"),(FCT_Estrada_Dados!G34/FCT_Estrada_Dados!$H34)*($I33-$I32),(FCT_Estrada_Dados!G34/FCT_Estrada_Dados!$H34)*(1-UTILITYFACTOR(FCT_Estrada_Dados!$G$13))),\"\")","v":""},{"$f":"IFERROR(IF(OR($N33=\"CD\",$N33=\"Transição\",$N33=\"n-1\",$N33=\"n\"),'Emissões 6.2.2.1 Estrada'!G33*(I33-I32),'Emissões 6.2.2.1 Estrada'!G33),\"\")","v":""},{"$f":"IF(ISNUMBER(A33),IF(OR($N33=\"CD\",$N33=\"Transição\",$N33=\"n-1\",$N33=\"n\"),'Emissões 6.2.2.1 Estrada'!H33*(I33-I32),(1-UTILITYFACTOR(FCT_Estrada_Dados!$G$13))*'Emissões 6.2.2.1 Estrada'!H33),\"\")","v":""},{"$f":"IF(ISNUMBER(A33),UTILITYFACTOR(A33*dEstrada),\"\")","v":""},{"$f":"IFERROR(IF(ISNUMBER(A33),G33/FCT_Estrada_Dados!H34,\"\"),\"\")","v":""},{"$f":"IFERROR(IF(ISNUMBER(A33),H33/FCT_Estrada_Dados!H34,\"\"),\"\")","v":""},{"$f":"IF(ISNUMBER(A33),100*((J33*0.0036)/VLOOKUP(CST_Urbano!$C$7,Combustíveis,2,FALSE)),\"\")","v":""},{"$f":"IF(ISNUMBER(A33),IF(OR($N33=\"CD\",$N33=\"Transição\",$N33=\"n-1\",$N33=\"n\"),FCT_Estrada_Dados!P34*(I33-I32),(FCT_Estrada_Dados!P34)*(1-UTILITYFACTOR(FCT_Estrada_Dados!$G$13))),\"\")","v":""},{"$f":"IF(ISNUMBER(A33),FCT_Estrada_Dados!S34,\"\")","v":""}]
[{"$f":"IF(ISNUMBER(FCT_Estrada_Dados!A35),FCT_Estrada_Dados!A35,\"\")","v":""},{"$f":"IF(ISNUMBER($A34),IF(OR($N34=\"CD\",$N34=\"Transição\",$N34=\"n-1\",$N34=\"n\"),(FCT_Estrada_Dados!B35/FCT_Estrada_Dados!$H35)*($I34-$I33),(FCT_Estrada_Dados!B35/FCT_Estrada_Dados!$H35)*(1-UTILITYFACTOR(FCT_Estrada_Dados!$G$13))),\"\")","v":""},{"$f":"IF(ISNUMBER($A34),IF(OR($N34=\"CD\",$N34=\"Transição\",$N34=\"n-1\",$N34=\"n\"),(FCT_Estrada_Dados!C35/FCT_Estrada_Dados!$H35)*($I34-$I33),(FCT_Estrada_Dados!C35/FCT_Estrada_Dados!$H35)*(1-UTILITYFACTOR(FCT_Estrada_Dados!$G$13))),\"\")","v":""},{"$f":"IF(ISNUMBER($A34),IF(OR($N34=\"CD\",$N34=\"Transição\",$N34=\"n-1\",$N34=\"n\"),(FCT_Estrada_Dados!D35/FCT_Estrada_Dados!$H35)*($I34-$I33),(FCT_Estrada_Dados!D35/FCT_Estrada_Dados!$H35)*(1-UTILITYFACTOR(FCT_Estrada_Dados!$G$13))),\"\")","v":""},{"$f":"IF(ISNUMBER($A34),IF(OR($N34=\"CD\",$N34=\"Transição\",$N34=\"n-1\",$N34=\"n\"),(FCT_Estrada_Dados!E35/FCT_Estrada_Dados!$H35)*($I34-$I33),(FCT_Estrada_Dados!E35/FCT_Estrada_Dados!$H35)*(1-UTILITYFACTOR(FCT_Estrada_Dados!$G$13))),\"\")","v":""},{"$f":"IF(ISNUMBER($A34),IF(OR($N34=\"CD\",$N34=\"Transição\",$N34=\"n-1\",$N34=\"n\"),(FCT_Estrada_Dados!G35/FCT_Estrada_Dados!$H35)*($I34-$I33),(FCT_Estrada_Dados!G35/FCT_Estrada_Dados!$H35)*(1-UTILITYFACTOR(FCT_Estrada_Dados!$G$13))),\"\")","v":""},{"$f":"IFERROR(IF(OR($N34=\"CD\",$N34=\"Transição\",$N34=\"n-1\",$N34=\"n\"),'Emissões 6.2.2.1 Estrada'!G34*(I34-I33),'Emissões 6.2.2.1 Estrada'!G34),\"\")","v":""},{"$f":"IF(ISNUMBER(A34),IF(OR($N34=\"CD\",$N34=\"Transição\",$N34=\"n-1\",$N34=\"n\"),'Emissões 6.2.2.1 Estrada'!H34*(I34-I33),(1-UTILITYFACTOR(FCT_Estrada_Dados!$G$13))*'Emissões 6.2.2.1 Estrada'!H34),\"\")","v":""},{"$f":"IF(ISNUMBER(A34),UTILITYFACTOR(A34*dEstrada),\"\")","v":""},{"$f":"IFERROR(IF(ISNUMBER(A34),G34/FCT_Estrada_Dados!H35,\"\"),\"\")","v":""},{"$f":"IFERROR(IF(ISNUMBER(A34),H34/FCT_Estrada_Dados!H35,\"\"),\"\")","v":""},{"$f":"IF(ISNUMBER(A34),100*((J34*0.0036)/VLOOKUP(CST_Urbano!$C$7,Combustíveis,2,FALSE)),\"\")","v":""},{"$f":"IF(ISNUMBER(A34),IF(OR($N34=\"CD\",$N34=\"Transição\",$N34=\"n-1\",$N34=\"n\"),FCT_Estrada_Dados!P35*(I34-I33),(FCT_Estrada_Dados!P35)*(1-UTILITYFACTOR(FCT_Estrada_Dados!$G$13))),\"\")","v":""},{"$f":"IF(ISNUMBER(A34),FCT_Estrada_Dados!S35,\"\")","v":""}]
[{"$f":"IF(ISNUMBER(FCT_Estrada_Dados!A36),FCT_Estrada_Dados!A36,\"\")","v":""},{"$f":"IF(ISNUMBER($A35),IF(OR($N35=\"CD\",$N35=\"Transição\",$N35=\"n-1\",$N35=\"n\"),(FCT_Estrada_Dados!B36/FCT_Estrada_Dados!$H36)*($I35-$I34),(FCT_Estrada_Dados!B36/FCT_Estrada_Dados!$H36)*(1-UTILITYFACTOR(FCT_Estrada_Dados!$G$13))),\"\")","v":""},{"$f":"IF(ISNUMBER($A35),IF(OR($N35=\"CD\",$N35=\"Transição\",$N35=\"n-1\",$N35=\"n\"),(FCT_Estrada_Dados!C36/FCT_Estrada_Dados!$H36)*($I35-$I34),(FCT_Estrada_Dados!C36/FCT_Estrada_Dados!$H36)*(1-UTILITYFACTOR(FCT_Estrada_Dados!$G$13))),\"\")","v":""},{"$f":"IF(ISNUMBER($A35),IF(OR($N35=\"CD\",$N35=\"Transição\",$N35=\"n-1\",$N35=\"n\"),(FCT_Estrada_Dados!D36/FCT_Estrada_Dados!$H36)*($I35-$I34),(FCT_Estrada_Dados!D36/FCT_Estrada_Dados!$H36)*(1-UTILITYFACTOR(FCT_Estrada_Dados!$G$13))),\"\")","v":""},{"$f":"IF(ISNUMBER($A35),IF(OR($N35=\"CD\",$N35=\"Transição\",$N35=\"n-1\",$N35=\"n\"),(FCT_Estrada_Dados!E36/FCT_Estrada_Dados!$H36)*($I35-$I34),(FCT_Estrada_Dados!E36/FCT_Estrada_Dados!$H36)*(1-UTILITYFACTOR(FCT_Estrada_Dados!$G$13))),\"\")","v":""},{"$f":"IF(ISNUMBER($A35),IF(OR($N35=\"CD\",$N35=\"Transição\",$N35=\"n-1\",$N35=\"n\"),(FCT_Estrada_Dados!G36/FCT_Estrada_Dados!$H36)*($I35-$I34),(FCT_Estrada_Dados!G36/FCT_Estrada_Dados!$H36)*(1-UTILITYFACTOR(FCT_Estrada_Dados!$G$13))),\"\")","v":""},{"$f":"IFERROR(IF(OR($N35=\"CD\",$N35=\"Transição\",$N35=\"n-1\",$N35=\"n\"),'Emissões 6.2.2.1 Estrada'!G35*(I35-I34),'Emissões 6.2.2.1 Estrada'!G35),\"\")","v":""},{"$f":"IF(ISNUMBER(A35),IF(OR($N35=\"CD\",$N35=\"Transição\",$N35=\"n-1\",$N35=\"n\"),'Emissões 6.2.2.1 Estrada'!H35*(I35-I34),(1-UTILITYFACTOR(FCT_Estrada_Dados!$G$13))*'Emissões 6.2.2.1 Estrada'!H35),\"\")","v":""},{"$f":"IF(ISNUMBER(A35),UTILITYFACTOR(A35*dEstrada),\"\")","v":""},{"$f":"IFERROR(IF(ISNUMBER(A35),G35/FCT_Estrada_Dados!H36,\"\"),\"\")","v":""},{"$f":"IFERROR(IF(ISNUMBER(A35),H35/FCT_Estrada_Dados!H36,\"\"),\"\")","v":""},{"$f":"IF(ISNUMBER(A35),100*((J35*0.0036)/VLOOKUP(CST_Urbano!$C$7,Combustíveis,2,FALSE)),\"\")","v":""},{"$f":"IF(ISNUMBER(A35),IF(OR($N35=\"CD\",$N35=\"Transição\",$N35=\"n-1\",$N35=\"n\"),FCT_Estrada_Dados!P36*(I35-I34),(FCT_Estrada_Dados!P36)*(1-UTILITYFACTOR(FCT_Estrada_Dados!$G$13))),\"\")","v":""},{"$f":"IF(ISNUMBER(A35),FCT_Estrada_Dados!S36,\"\")","v":""}]
[{"$f":"IF(ISNUMBER(FCT_Estrada_Dados!A37),FCT_Estrada_Dados!A37,\"\")","v":""},{"$f":"IF(ISNUMBER($A36),IF(OR($N36=\"CD\",$N36=\"Transição\",$N36=\"n-1\",$N36=\"n\"),(FCT_Estrada_Dados!B37/FCT_Estrada_Dados!$H37)*($I36-$I35),(FCT_Estrada_Dados!B37/FCT_Estrada_Dados!$H37)*(1-UTILITYFACTOR(FCT_Estrada_Dados!$G$13))),\"\")","v":""},{"$f":"IF(ISNUMBER($A36),IF(OR($N36=\"CD\",$N36=\"Transição\",$N36=\"n-1\",$N36=\"n\"),(FCT_Estrada_Dados!C37/FCT_Estrada_Dados!$H37)*($I36-$I35),(FCT_Estrada_Dados!C37/FCT_Estrada_Dados!$H37)*(1-UTILITYFACTOR(FCT_Estrada_Dados!$G$13))),\"\")","v":""},{"$f":"IF(ISNUMBER($A36),IF(OR($N36=\"CD\",$N36=\"Transição\",$N36=\"n-1\",$N36=\"n\"),(FCT_Estrada_Dados!D37/FCT_Estrada_Dados!$H37)*($I36-$I35),(FCT_Estrada_Dados!D37/FCT_Estrada_Dados!$H37)*(1-UTILITYFACTOR(FCT_Estrada_Dados!$G$13))),\"\")","v":""},{"$f":"IF(ISNUMBER($A36),IF(OR($N36=\"CD\",$N36=\"Transição\",$N36=\"n-1\",$N36=\"n\"),(FCT_Estrada_Dados!E37/FCT_Estrada_Dados!$H37)*($I36-$I35),(FCT_Estrada_Dados!E37/FCT_Estrada_Dados!$H37)*(1-UTILITYFACTOR(FCT_Estrada_Dados!$G$13))),\"\")","v":""},{"$f":"IF(ISNUMBER($A36),IF(OR($N36=\"CD\",$N36=\"Transição\",$N36=\"n-1\",$N36=\"n\"),(FCT_Estrada_Dados!G37/FCT_Estrada_Dados!$H37)*($I36-$I35),(FCT_Estrada_Dados!G37/FCT_Estrada_Dados!$H37)*(1-UTILITYFACTOR(FCT_Estrada_Dados!$G$13))),\"\")","v":""},{"$f":"IFERROR(IF(OR($N36=\"CD\",$N36=\"Transição\",$N36=\"n-1\",$N36=\"n\"),'Emissões 6.2.2.1 Estrada'!G36*(I36-I35),'Emissões 6.2.2.1 Estrada'!G36),\"\")","v":""},{"$f":"IF(ISNUMBER(A36),IF(OR($N36=\"CD\",$N36=\"Transição\",$N36=\"n-1\",$N36=\"n\"),'Emissões 6.2.2.1 Estrada'!H36*(I36-I35),(1-UTILITYFACTOR(FCT_Estrada_Dados!$G$13))*'Emissões 6.2.2.1 Estrada'!H36),\"\")","v":""},{"$f":"IF(ISNUMBER(A36),UTILITYFACTOR(A36*dEstrada),\"\")","v":""},{"$f":"IFERROR(IF(ISNUMBER(A36),G36/FCT_Estrada_Dados!H37,\"\"),\"\")","v":""},{"$f":"IFERROR(IF(ISNUMBER(A36),H36/FCT_Estrada_Dados!H37,\"\"),\"\")","v":""},{"$f":"IF(ISNUMBER(A36),100*((J36*0.0036)/VLOOKUP(CST_Urbano!$C$7,Combustíveis,2,FALSE)),\"\")","v":""},{"$f":"IF(ISNUMBER(A36),IF(OR($N36=\"CD\",$N36=\"Transição\",$N36=\"n-1\",$N36=\"n\"),FCT_Estrada_Dados!P37*(I36-I35),(FCT_Estrada_Dados!P37)*(1-UTILITYFACTOR(FCT_Estrada_Dados!$G$13))),\"\")","v":""},{"$f":"IF(ISNUMBER(A36),FCT_Estrada_Dados!S37,\"\")","v":""}]
[{"$f":"IF(ISNUMBER(FCT_Estrada_Dados!A38),FCT_Estrada_Dados!A38,\"\")","v":""},{"$f":"IF(ISNUMBER($A37),IF(OR($N37=\"CD\",$N37=\"Transição\",$N37=\"n-1\",$N37=\"n\"),(FCT_Estrada_Dados!B38/FCT_Estrada_Dados!$H38)*($I37-$I36),(FCT_Estrada_Dados!B38/FCT_Estrada_Dados!$H38)*(1-UTILITYFACTOR(FCT_Estrada_Dados!$G$13))),\"\")","v":""},{"$f":"IF(ISNUMBER($A37),IF(OR($N37=\"CD\",$N37=\"Transição\",$N37=\"n-1\",$N37=\"n\"),(FCT_Estrada_Dados!C38/FCT_Estrada_Dados!$H38)*($I37-$I36),(FCT_Estrada_Dados!C38/FCT_Estrada_Dados!$H38)*(1-UTILITYFACTOR(FCT_Estrada_Dados!$G$13))),\"\")","v":""},{"$f":"IF(ISNUMBER($A37),IF(OR($N37=\"CD\",$N37=\"Transição\",$N37=\"n-1\",$N37=\"n\"),(FCT_Estrada_Dados!D38/FCT_Estrada_Dados!$H38)*($I37-$I36),(FCT_Estrada_Dados!D38/FCT_Estrada_Dados!$H38)*(1-UTILITYFACTOR(FCT_Estrada_Dados!$G$13))),\"\")","v":""},{"$f":"IF(ISNUMBER($A37),IF(OR($N37=\"CD\",$N37=\"Transição\",$N37=\"n-1\",$N37=\"n\"),(FCT_Estrada_Dados!E38/FCT_Estrada_Dados!$H38)*($I37-$I36),(FCT_Estrada_Dados!E38/FCT_Estrada_Dados!$H38)*(1-UTILITYFACTOR(FCT_Estrada_Dados!$G$13))),\"\")","v":""},{"$f":"IF(ISNUMBER($A37),IF(OR($N37=\"CD\",$N37=\"Transição\",$N37=\"n-1\",$N37=\"n\"),(FCT_Estrada_Dados!G38/FCT_Estrada_Dados!$H38)*($I37-$I36),(FCT_Estrada_Dados!G38/FCT_Estrada_Dados!$H38)*(1-UTILITYFACTOR(FCT_Estrada_Dados!$G$13))),\"\")","v":""},{"$f":"IFERROR(IF(OR($N37=\"CD\",$N37=\"Transição\",$N37=\"n-1\",$N37=\"n\"),'Emissões 6.2.2.1 Estrada'!G37*(I37-I36),'Emissões 6.2.2.1 Estrada'!G37),\"\")","v":""},{"$f":"IF(ISNUMBER(A37),IF(OR($N37=\"CD\",$N37=\"Transição\",$N37=\"n-1\",$N37=\"n\"),'Emissões 6.2.2.1 Estrada'!H37*(I37-I36),(1-UTILITYFACTOR(FCT_Estrada_Dados!$G$13))*'Emissões 6.2.2.1 Estrada'!H37),\"\")","v":""},{"$f":"IF(ISNUMBER(A37),UTILITYFACTOR(A37*dEstrada),\"\")","v":""},{"$f":"IFERROR(IF(ISNUMBER(A37),G37/FCT_Estrada_Dados!H38,\"\"),\"\")","v":""},{"$f":"IFERROR(IF(ISNUMBER(A37),H37/FCT_Estrada_Dados!H38,\"\"),\"\")","v":""},{"$f":"IF(ISNUMBER(A37),100*((J37*0.0036)/VLOOKUP(CST_Urbano!$C$7,Combustíveis,2,FALSE)),\"\")","v":""},{"$f":"IF(ISNUMBER(A37),IF(OR($N37=\"CD\",$N37=\"Transição\",$N37=\"n-1\",$N37=\"n\"),FCT_Estrada_Dados!P38*(I37-I36),(FCT_Estrada_Dados!P38)*(1-UTILITYFACTOR(FCT_Estrada_Dados!$G$13))),\"\")","v":""},{"$f":"IF(ISNUMBER(A37),FCT_Estrada_Dados!S38,\"\")","v":""}]
[{"$f":"IF(ISNUMBER(FCT_Estrada_Dados!A39),FCT_Estrada_Dados!A39,\"\")","v":""},{"$f":"IF(ISNUMBER($A38),IF(OR($N38=\"CD\",$N38=\"Transição\",$N38=\"n-1\",$N38=\"n\"),(FCT_Estrada_Dados!B39/FCT_Estrada_Dados!$H39)*($I38-$I37),(FCT_Estrada_Dados!B39/FCT_Estrada_Dados!$H39)*(1-UTILITYFACTOR(FCT_Estrada_Dados!$G$13))),\"\")","v":""},{"$f":"IF(ISNUMBER($A38),IF(OR($N38=\"CD\",$N38=\"Transição\",$N38=\"n-1\",$N38=\"n\"),(FCT_Estrada_Dados!C39/FCT_Estrada_Dados!$H39)*($I38-$I37),(FCT_Estrada_Dados!C39/FCT_Estrada_Dados!$H39)*(1-UTILITYFACTOR(FCT_Estrada_Dados!$G$13))),\"\")","v":""},{"$f":"IF(ISNUMBER($A38),IF(OR($N38=\"CD\",$N38=\"Transição\",$N38=\"n-1\",$N38=\"n\"),(FCT_Estrada_Dados!D39/FCT_Estrada_Dados!$H39)*($I38-$I37),(FCT_Estrada_Dados!D39/FCT_Estrada_Dados!$H39)*(1-UTILITYFACTOR(FCT_Estrada_Dados!$G$13))),\"\")","v":""},{"$f":"IF(ISNUMBER($A38),IF(OR($N38=\"CD\",$N38=\"Transição\",$N38=\"n-1\",$N38=\"n\"),(FCT_Estrada_Dados!E39/FCT_Estrada_Dados!$H39)*($I38-$I37),(FCT_Estrada_Dados!E39/FCT_Estrada_Dados!$H39)*(1-UTILITYFACTOR(FCT_Estrada_Dados!$G$13))),\"\")","v":""},{"$f":"IF(ISNUMBER($A38),IF(OR($N38=\"CD\",$N38=\"Transição\",$N38=\"n-1\",$N38=\"n\"),(FCT_Estrada_Dados!G39/FCT_Estrada_Dados!$H39)*($I38-$I37),(FCT_Estrada_Dados!G39/FCT_Estrada_Dados!$H39)*(1-UTILITYFACTOR(FCT_Estrada_Dados!$G$13))),\"\")","v":""},{"$f":"IFERROR(IF(OR($N38=\"CD\",$N38=\"Transição\",$N38=\"n-1\",$N38=\"n\"),'Emissões 6.2.2.1 Estrada'!G38*(I38-I37),'Emissões 6.2.2.1 Estrada'!G38),\"\")","v":""},{"$f":"IF(ISNUMBER(A38),IF(OR($N38=\"CD\",$N38=\"Transição\",$N38=\"n-1\",$N38=\"n\"),'Emissões 6.2.2.1 Estrada'!H38*(I38-I37),(1-UTILITYFACTOR(FCT_Estrada_Dados!$G$13))*'Emissões 6.2.2.1 Estrada'!H38),\"\")","v":""},{"$f":"IF(ISNUMBER(A38),UTILITYFACTOR(A38*dEstrada),\"\")","v":""},{"$f":"IFERROR(IF(ISNUMBER(A38),G38/FCT_Estrada_Dados!H39,\"\"),\"\")","v":""},{"$f":"IFERROR(IF(ISNUMBER(A38),H38/FCT_Estrada_Dados!H39,\"\"),\"\")","v":""},{"$f":"IF(ISNUMBER(A38),100*((J38*0.0036)/VLOOKUP(CST_Urbano!$C$7,Combustíveis,2,FALSE)),\"\")","v":""},{"$f":"IF(ISNUMBER(A38),IF(OR($N38=\"CD\",$N38=\"Transição\",$N38=\"n-1\",$N38=\"n\"),FCT_Estrada_Dados!P39*(I38-I37),(FCT_Estrada_Dados!P39)*(1-UTILITYFACTOR(FCT_Estrada_Dados!$G$13))),\"\")","v":""},{"$f":"IF(ISNUMBER(A38),FCT_Estrada_Dados!S39,\"\")","v":""}]
[{"$f":"IF(ISNUMBER(FCT_Estrada_Dados!A40),FCT_Estrada_Dados!A40,\"\")","v":""},{"$f":"IF(ISNUMBER($A39),IF(OR($N39=\"CD\",$N39=\"Transição\",$N39=\"n-1\",$N39=\"n\"),(FCT_Estrada_Dados!B40/FCT_Estrada_Dados!$H40)*($I39-$I38),(FCT_Estrada_Dados!B40/FCT_Estrada_Dados!$H40)*(1-UTILITYFACTOR(FCT_Estrada_Dados!$G$13))),\"\")","v":""},{"$f":"IF(ISNUMBER($A39),IF(OR($N39=\"CD\",$N39=\"Transição\",$N39=\"n-1\",$N39=\"n\"),(FCT_Estrada_Dados!C40/FCT_Estrada_Dados!$H40)*($I39-$I38),(FCT_Estrada_Dados!C40/FCT_Estrada_Dados!$H40)*(1-UTILITYFACTOR(FCT_Estrada_Dados!$G$13))),\"\")","v":""},{"$f":"IF(ISNUMBER($A39),IF(OR($N39=\"CD\",$N39=\"Transição\",$N39=\"n-1\",$N39=\"n\"),(FCT_Estrada_Dados!D40/FCT_Estrada_Dados!$H40)*($I39-$I38),(FCT_Estrada_Dados!D40/FCT_Estrada_Dados!$H40)*(1-UTILITYFACTOR(FCT_Estrada_Dados!$G$13))),\"\")","v":""},{"$f":"IF(ISNUMBER($A39),IF(OR($N39=\"CD\",$N39=\"Transição\",$N39=\"n-1\",$N39=\"n\"),(FCT_Estrada_Dados!E40/FCT_Estrada_Dados!$H40)*($I39-$I38),(FCT_Estrada_Dados!E40/FCT_Estrada_Dados!$H40)*(1-UTILITYFACTOR(FCT_Estrada_Dados!$G$13))),\"\")","v":""},{"$f":"IF(ISNUMBER($A39),IF(OR($N39=\"CD\",$N39=\"Transição\",$N39=\"n-1\",$N39=\"n\"),(FCT_Estrada_Dados!G40/FCT_Estrada_Dados!$H40)*($I39-$I38),(FCT_Estrada_Dados!G40/FCT_Estrada_Dados!$H40)*(1-UTILITYFACTOR(FCT_Estrada_Dados!$G$13))),\"\")","v":""},{"$f":"IFERROR(IF(OR($N39=\"CD\",$N39=\"Transição\",$N39=\"n-1\",$N39=\"n\"),'Emissões 6.2.2.1 Estrada'!G39*(I39-I38),'Emissões 6.2.2.1 Estrada'!G39),\"\")","v":""},{"$f":"IF(ISNUMBER(A39),IF(OR($N39=\"CD\",$N39=\"Transição\",$N39=\"n-1\",$N39=\"n\"),'Emissões 6.2.2.1 Estrada'!H39*(I39-I38),(1-UTILITYFACTOR(FCT_Estrada_Dados!$G$13))*'Emissões 6.2.2.1 Estrada'!H39),\"\")","v":""},{"$f":"IF(ISNUMBER(A39),UTILITYFACTOR(A39*dEstrada),\"\")","v":""},{"$f":"IFERROR(IF(ISNUMBER(A39),G39/FCT_Estrada_Dados!H40,\"\"),\"\")","v":""},{"$f":"IFERROR(IF(ISNUMBER(A39),H39/FCT_Estrada_Dados!H40,\"\"),\"\")","v":""},{"$f":"IF(ISNUMBER(A39),100*((J39*0.0036)/VLOOKUP(CST_Urbano!$C$7,Combustíveis,2,FALSE)),\"\")","v":""},{"$f":"IF(ISNUMBER(A39),IF(OR($N39=\"CD\",$N39=\"Transição\",$N39=\"n-1\",$N39=\"n\"),FCT_Estrada_Dados!P40*(I39-I38),(FCT_Estrada_Dados!P40)*(1-UTILITYFACTOR(FCT_Estrada_Dados!$G$13))),\"\")","v":""},{"$f":"IF(ISNUMBER(A39),FCT_Estrada_Dados!S40,\"\")","v":""}]
[{"$f":"IF(ISNUMBER(FCT_Estrada_Dados!A41),FCT_Estrada_Dados!A41,\"\")","v":""},{"$f":"IF(ISNUMBER($A40),IF(OR($N40=\"CD\",$N40=\"Transição\",$N40=\"n-1\",$N40=\"n\"),(FCT_Estrada_Dados!B41/FCT_Estrada_Dados!$H41)*($I40-$I39),(FCT_Estrada_Dados!B41/FCT_Estrada_Dados!$H41)*(1-UTILITYFACTOR(FCT_Estrada_Dados!$G$13))),\"\")","v":""},{"$f":"IF(ISNUMBER($A40),IF(OR($N40=\"CD\",$N40=\"Transição\",$N40=\"n-1\",$N40=\"n\"),(FCT_Estrada_Dados!C41/FCT_Estrada_Dados!$H41)*($I40-$I39),(FCT_Estrada_Dados!C41/FCT_Estrada_Dados!$H41)*(1-UTILITYFACTOR(FCT_Estrada_Dados!$G$13))),\"\")","v":""},{"$f":"IF(ISNUMBER($A40),IF(OR($N40=\"CD\",$N40=\"Transição\",$N40=\"n-1\",$N40=\"n\"),(FCT_Estrada_Dados!D41/FCT_Estrada_Dados!$H41)*($I40-$I39),(FCT_Estrada_Dados!D41/FCT_Estrada_Dados!$H41)*(1-UTILITYFACTOR(FCT_Estrada_Dados!$G$13))),\"\")","v":""},{"$f":"IF(ISNUMBER($A40),IF(OR($N40=\"CD\",$N40=\"Transição\",$N40=\"n-1\",$N40=\"n\"),(FCT_Estrada_Dados!E41/FCT_Estrada_Dados!$H41)*($I40-$I39),(FCT_Estrada_Dados!E41/FCT_Estrada_Dados!$H41)*(1-UTILITYFACTOR(FCT_Estrada_Dados!$G$13))),\"\")","v":""},{"$f":"IF(ISNUMBER($A40),IF(OR($N40=\"CD\",$N40=\"Transição\",$N40=\"n-1\",$N40=\"n\"),(FCT_Estrada_Dados!G41/FCT_Estrada_Dados!$H41)*($I40-$I39),(FCT_Estrada_Dados!G41/FCT_Estrada_Dados!$H41)*(1-UTILITYFACTOR(FCT_Estrada_Dados!$G$13))),\"\")","v":""},{"$f":"IFERROR(IF(OR($N40=\"CD\",$N40=\"Transição\",$N40=\"n-1\",$N40=\"n\"),'Emissões 6.2.2.1 Estrada'!G40*(I40-I39),'Emissões 6.2.2.1 Estrada'!G40),\"\")","v":""},{"$f":"IF(ISNUMBER(A40),IF(OR($N40=\"CD\",$N40=\"Transição\",$N40=\"n-1\",$N40=\"n\"),'Emissões 6.2.2.1 Estrada'!H40*(I40-I39),(1-UTILITYFACTOR(FCT_Estrada_Dados!$G$13))*'Emissões 6.2.2.1 Estrada'!H40),\"\")","v":""},{"$f":"IF(ISNUMBER(A40),UTILITYFACTOR(A40*dEstrada),\"\")","v":""},{"$f":"IFERROR(IF(ISNUMBER(A40),G40/FCT_Estrada_Dados!H41,\"\"),\"\")","v":""},{"$f":"IFERROR(IF(ISNUMBER(A40),H40/FCT_Estrada_Dados!H41,\"\"),\"\")","v":""},{"$f":"IF(ISNUMBER(A40),100*((J40*0.0036)/VLOOKUP(CST_Urbano!$C$7,Combustíveis,2,FALSE)),\"\")","v":""},{"$f":"IF(ISNUMBER(A40),IF(OR($N40=\"CD\",$N40=\"Transição\",$N40=\"n-1\",$N40=\"n\"),FCT_Estrada_Dados!P41*(I40-I39),(FCT_Estrada_Dados!P41)*(1-UTILITYFACTOR(FCT_Estrada_Dados!$G$13))),\"\")","v":""},{"$f":"IF(ISNUMBER(A40),FCT_Estrada_Dados!S41,\"\")","v":""}]
[{"$f":"IF(ISNUMBER(FCT_Estrada_Dados!A42),FCT_Estrada_Dados!A42,\"\")","v":""},{"$f":"IF(ISNUMBER($A41),IF(OR($N41=\"CD\",$N41=\"Transição\",$N41=\"n-1\",$N41=\"n\"),(FCT_Estrada_Dados!B42/FCT_Estrada_Dados!$H42)*($I41-$I40),(FCT_Estrada_Dados!B42/FCT_Estrada_Dados!$H42)*(1-UTILITYFACTOR(FCT_Estrada_Dados!$G$13))),\"\")","v":""},{"$f":"IF(ISNUMBER($A41),IF(OR($N41=\"CD\",$N41=\"Transição\",$N41=\"n-1\",$N41=\"n\"),(FCT_Estrada_Dados!C42/FCT_Estrada_Dados!$H42)*($I41-$I40),(FCT_Estrada_Dados!C42/FCT_Estrada_Dados!$H42)*(1-UTILITYFACTOR(FCT_Estrada_Dados!$G$13))),\"\")","v":""},{"$f":"IF(ISNUMBER($A41),IF(OR($N41=\"CD\",$N41=\"Transição\",$N41=\"n-1\",$N41=\"n\"),(FCT_Estrada_Dados!D42/FCT_Estrada_Dados!$H42)*($I41-$I40),(FCT_Estrada_Dados!D42/FCT_Estrada_Dados!$H42)*(1-UTILITYFACTOR(FCT_Estrada_Dados!$G$13))),\"\")","v":""},{"$f":"IF(ISNUMBER($A41),IF(OR($N41=\"CD\",$N41=\"Transição\",$N41=\"n-1\",$N41=\"n\"),(FCT_Estrada_Dados!E42/FCT_Estrada_Dados!$H42)*($I41-$I40),(FCT_Estrada_Dados!E42/FCT_Estrada_Dados!$H42)*(1-UTILITYFACTOR(FCT_Estrada_Dados!$G$13))),\"\")","v":""},{"$f":"IF(ISNUMBER($A41),IF(OR($N41=\"CD\",$N41=\"Transição\",$N41=\"n-1\",$N41=\"n\"),(FCT_Estrada_Dados!G42/FCT_Estrada_Dados!$H42)*($I41-$I40),(FCT_Estrada_Dados!G42/FCT_Estrada_Dados!$H42)*(1-UTILITYFACTOR(FCT_Estrada_Dados!$G$13))),\"\")","v":""},{"$f":"IFERROR(IF(OR($N41=\"CD\",$N41=\"Transição\",$N41=\"n-1\",$N41=\"n\"),'Emissões 6.2.2.1 Estrada'!G41*(I41-I40),'Emissões 6.2.2.1 Estrada'!G41),\"\")","v":""},{"$f":"IF(ISNUMBER(A41),IF(OR($N41=\"CD\",$N41=\"Transição\",$N41=\"n-1\",$N41=\"n\"),'Emissões 6.2.2.1 Estrada'!H41*(I41-I40),(1-UTILITYFACTOR(FCT_Estrada_Dados!$G$13))*'Emissões 6.2.2.1 Estrada'!H41),\"\")","v":""},{"$f":"IF(ISNUMBER(A41),UTILITYFACTOR(A41*dEstrada),\"\")","v":""},{"$f":"IFERROR(IF(ISNUMBER(A41),G41/FCT_Estrada_Dados!H42,\"\"),\"\")","v":""},{"$f":"IFERROR(IF(ISNUMBER(A41),H41/FCT_Estrada_Dados!H42,\"\"),\"\")","v":""},{"$f":"IF(ISNUMBER(A41),100*((J41*0.0036)/VLOOKUP(CST_Urbano!$C$7,Combustíveis,2,FALSE)),\"\")","v":""},{"$f":"IF(ISNUMBER(A41),IF(OR($N41=\"CD\",$N41=\"Transição\",$N41=\"n-1\",$N41=\"n\"),FCT_Estrada_Dados!P42*(I41-I40),(FCT_Estrada_Dados!P42)*(1-UTILITYFACTOR(FCT_Estrada_Dados!$G$13))),\"\")","v":""},{"$f":"IF(ISNUMBER(A41),FCT_Estrada_Dados!S42,\"\")","v":""}]
[{"$f":"IF(ISNUMBER(FCT_Estrada_Dados!A43),FCT_Estrada_Dados!A43,\"\")","v":""},{"$f":"IF(ISNUMBER($A42),IF(OR($N42=\"CD\",$N42=\"Transição\",$N42=\"n-1\",$N42=\"n\"),(FCT_Estrada_Dados!B43/FCT_Estrada_Dados!$H43)*($I42-$I41),(FCT_Estrada_Dados!B43/FCT_Estrada_Dados!$H43)*(1-UTILITYFACTOR(FCT_Estrada_Dados!$G$13))),\"\")","v":""},{"$f":"IF(ISNUMBER($A42),IF(OR($N42=\"CD\",$N42=\"Transição\",$N42=\"n-1\",$N42=\"n\"),(FCT_Estrada_Dados!C43/FCT_Estrada_Dados!$H43)*($I42-$I41),(FCT_Estrada_Dados!C43/FCT_Estrada_Dados!$H43)*(1-UTILITYFACTOR(FCT_Estrada_Dados!$G$13))),\"\")","v":""},{"$f":"IF(ISNUMBER($A42),IF(OR($N42=\"CD\",$N42=\"Transição\",$N42=\"n-1\",$N42=\"n\"),(FCT_Estrada_Dados!D43/FCT_Estrada_Dados!$H43)*($I42-$I41),(FCT_Estrada_Dados!D43/FCT_Estrada_Dados!$H43)*(1-UTILITYFACTOR(FCT_Estrada_Dados!$G$13))),\"\")","v":""},{"$f":"IF(ISNUMBER($A42),IF(OR($N42=\"CD\",$N42=\"Transição\",$N42=\"n-1\",$N42=\"n\"),(FCT_Estrada_Dados!E43/FCT_Estrada_Dados!$H43)*($I42-$I41),(FCT_Estrada_Dados!E43/FCT_Estrada_Dados!$H43)*(1-UTILITYFACTOR(FCT_Estrada_Dados!$G$13))),\"\")","v":""},{"$f":"IF(ISNUMBER($A42),IF(OR($N42=\"CD\",$N42=\"Transição\",$N42=\"n-1\",$N42=\"n\"),(FCT_Estrada_Dados!G43/FCT_Estrada_Dados!$H43)*($I42-$I41),(FCT_Estrada_Dados!G43/FCT_Estrada_Dados!$H43)*(1-UTILITYFACTOR(FCT_Estrada_Dados!$G$13))),\"\")","v":""},{"$f":"IFERROR(IF(OR($N42=\"CD\",$N42=\"Transição\",$N42=\"n-1\",$N42=\"n\"),'Emissões 6.2.2.1 Estrada'!G42*(I42-I41),'Emissões 6.2.2.1 Estrada'!G42),\"\")","v":""},{"$f":"IF(ISNUMBER(A42),IF(OR($N42=\"CD\",$N42=\"Transição\",$N42=\"n-1\",$N42=\"n\"),'Emissões 6.2.2.1 Estrada'!H42*(I42-I41),(1-UTILITYFACTOR(FCT_Estrada_Dados!$G$13))*'Emissões 6.2.2.1 Estrada'!H42),\"\")","v":""},{"$f":"IF(ISNUMBER(A42),UTILITYFACTOR(A42*dEstrada),\"\")","v":""},{"$f":"IFERROR(IF(ISNUMBER(A42),G42/FCT_Estrada_Dados!H43,\"\"),\"\")","v":""},{"$f":"IFERROR(IF(ISNUMBER(A42),H42/FCT_Estrada_Dados!H43,\"\"),\"\")","v":""},{"$f":"IF(ISNUMBER(A42),100*((J42*0.0036)/VLOOKUP(CST_Urbano!$C$7,Combustíveis,2,FALSE)),\"\")","v":""},{"$f":"IF(ISNUMBER(A42),IF(OR($N42=\"CD\",$N42=\"Transição\",$N42=\"n-1\",$N42=\"n\"),FCT_Estrada_Dados!P43*(I42-I41),(FCT_Estrada_Dados!P43)*(1-UTILITYFACTOR(FCT_Estrada_Dados!$G$13))),\"\")","v":""},{"$f":"IF(ISNUMBER(A42),FCT_Estrada_Dados!S43,\"\")","v":""}]
[{"$f":"IF(ISNUMBER(FCT_Estrada_Dados!A44),FCT_Estrada_Dados!A44,\"\")","v":""},{"$f":"IF(ISNUMBER($A43),IF(OR($N43=\"CD\",$N43=\"Transição\",$N43=\"n-1\",$N43=\"n\"),(FCT_Estrada_Dados!B44/FCT_Estrada_Dados!$H44)*($I43-$I42),(FCT_Estrada_Dados!B44/FCT_Estrada_Dados!$H44)*(1-UTILITYFACTOR(FCT_Estrada_Dados!$G$13))),\"\")","v":""},{"$f":"IF(ISNUMBER($A43),IF(OR($N43=\"CD\",$N43=\"Transição\",$N43=\"n-1\",$N43=\"n\"),(FCT_Estrada_Dados!C44/FCT_Estrada_Dados!$H44)*($I43-$I42),(FCT_Estrada_Dados!C44/FCT_Estrada_Dados!$H44)*(1-UTILITYFACTOR(FCT_Estrada_Dados!$G$13))),\"\")","v":""},{"$f":"IF(ISNUMBER($A43),IF(OR($N43=\"CD\",$N43=\"Transição\",$N43=\"n-1\",$N43=\"n\"),(FCT_Estrada_Dados!D44/FCT_Estrada_Dados!$H44)*($I43-$I42),(FCT_Estrada_Dados!D44/FCT_Estrada_Dados!$H44)*(1-UTILITYFACTOR(FCT_Estrada_Dados!$G$13))),\"\")","v":""},{"$f":"IF(ISNUMBER($A43),IF(OR($N43=\"CD\",$N43=\"Transição\",$N43=\"n-1\",$N43=\"n\"),(FCT_Estrada_Dados!E44/FCT_Estrada_Dados!$H44)*($I43-$I42),(FCT_Estrada_Dados!E44/FCT_Estrada_Dados!$H44)*(1-UTILITYFACTOR(FCT_Estrada_Dados!$G$13))),\"\")","v":""},{"$f":"IF(ISNUMBER($A43),IF(OR($N43=\"CD\",$N43=\"Transição\",$N43=\"n-1\",$N43=\"n\"),(FCT_Estrada_Dados!G44/FCT_Estrada_Dados!$H44)*($I43-$I42),(FCT_Estrada_Dados!G44/FCT_Estrada_Dados!$H44)*(1-UTILITYFACTOR(FCT_Estrada_Dados!$G$13))),\"\")","v":""},{"$f":"IFERROR(IF(OR($N43=\"CD\",$N43=\"Transição\",$N43=\"n-1\",$N43=\"n\"),'Emissões 6.2.2.1 Estrada'!G43*(I43-I42),'Emissões 6.2.2.1 Estrada'!G43),\"\")","v":""},{"$f":"IF(ISNUMBER(A43),IF(OR($N43=\"CD\",$N43=\"Transição\",$N43=\"n-1\",$N43=\"n\"),'Emissões 6.2.2.1 Estrada'!H43*(I43-I42),(1-UTILITYFACTOR(FCT_Estrada_Dados!$G$13))*'Emissões 6.2.2.1 Estrada'!H43),\"\")","v":""},{"$f":"IF(ISNUMBER(A43),UTILITYFACTOR(A43*dEstrada),\"\")","v":""},{"$f":"IFERROR(IF(ISNUMBER(A43),G43/FCT_Estrada_Dados!H44,\"\"),\"\")","v":""},{"$f":"IFERROR(IF(ISNUMBER(A43),H43/FCT_Estrada_Dados!H44,\"\"),\"\")","v":""},{"$f":"IF(ISNUMBER(A43),100*((J43*0.0036)/VLOOKUP(CST_Urbano!$C$7,Combustíveis,2,FALSE)),\"\")","v":""},{"$f":"IF(ISNUMBER(A43),IF(OR($N43=\"CD\",$N43=\"Transição\",$N43=\"n-1\",$N43=\"n\"),FCT_Estrada_Dados!P44*(I43-I42),(FCT_Estrada_Dados!P44)*(1-UTILITYFACTOR(FCT_Estrada_Dados!$G$13))),\"\")","v":""},{"$f":"IF(ISNUMBER(A43),FCT_Estrada_Dados!S44,\"\")","v":""}]
[{"$f":"IF(ISNUMBER(FCT_Estrada_Dados!A45),FCT_Estrada_Dados!A45,\"\")","v":""},{"$f":"IF(ISNUMBER($A44),IF(OR($N44=\"CD\",$N44=\"Transição\",$N44=\"n-1\",$N44=\"n\"),(FCT_Estrada_Dados!B45/FCT_Estrada_Dados!$H45)*($I44-$I43),(FCT_Estrada_Dados!B45/FCT_Estrada_Dados!$H45)*(1-UTILITYFACTOR(FCT_Estrada_Dados!$G$13))),\"\")","v":""},{"$f":"IF(ISNUMBER($A44),IF(OR($N44=\"CD\",$N44=\"Transição\",$N44=\"n-1\",$N44=\"n\"),(FCT_Estrada_Dados!C45/FCT_Estrada_Dados!$H45)*($I44-$I43),(FCT_Estrada_Dados!C45/FCT_Estrada_Dados!$H45)*(1-UTILITYFACTOR(FCT_Estrada_Dados!$G$13))),\"\")","v":""},{"$f":"IF(ISNUMBER($A44),IF(OR($N44=\"CD\",$N44=\"Transição\",$N44=\"n-1\",$N44=\"n\"),(FCT_Estrada_Dados!D45/FCT_Estrada_Dados!$H45)*($I44-$I43),(FCT_Estrada_Dados!D45/FCT_Estrada_Dados!$H45)*(1-UTILITYFACTOR(FCT_Estrada_Dados!$G$13))),\"\")","v":""},{"$f":"IF(ISNUMBER($A44),IF(OR($N44=\"CD\",$N44=\"Transição\",$N44=\"n-1\",$N44=\"n\"),(FCT_Estrada_Dados!E45/FCT_Estrada_Dados!$H45)*($I44-$I43),(FCT_Estrada_Dados!E45/FCT_Estrada_Dados!$H45)*(1-UTILITYFACTOR(FCT_Estrada_Dados!$G$13))),\"\")","v":""},{"$f":"IF(ISNUMBER($A44),IF(OR($N44=\"CD\",$N44=\"Transição\",$N44=\"n-1\",$N44=\"n\"),(FCT_Estrada_Dados!G45/FCT_Estrada_Dados!$H45)*($I44-$I43),(FCT_Estrada_Dados!G45/FCT_Estrada_Dados!$H45)*(1-UTILITYFACTOR(FCT_Estrada_Dados!$G$13))),\"\")","v":""},{"$f":"IFERROR(IF(OR($N44=\"CD\",$N44=\"Transição\",$N44=\"n-1\",$N44=\"n\"),'Emissões 6.2.2.1 Estrada'!G44*(I44-I43),'Emissões 6.2.2.1 Estrada'!G44),\"\")","v":""},{"$f":"IF(ISNUMBER(A44),IF(OR($N44=\"CD\",$N44=\"Transição\",$N44=\"n-1\",$N44=\"n\"),'Emissões 6.2.2.1 Estrada'!H44*(I44-I43),(1-UTILITYFACTOR(FCT_Estrada_Dados!$G$13))*'Emissões 6.2.2.1 Estrada'!H44),\"\")","v":""},{"$f":"IF(ISNUMBER(A44),UTILITYFACTOR(A44*dEstrada),\"\")","v":""},{"$f":"IFERROR(IF(ISNUMBER(A44),G44/FCT_Estrada_Dados!H45,\"\"),\"\")","v":""},{"$f":"IFERROR(IF(ISNUMBER(A44),H44/FCT_Estrada_Dados!H45,\"\"),\"\")","v":""},{"$f":"IF(ISNUMBER(A44),100*((J44*0.0036)/VLOOKUP(CST_Urbano!$C$7,Combustíveis,2,FALSE)),\"\")","v":""},{"$f":"IF(ISNUMBER(A44),IF(OR($N44=\"CD\",$N44=\"Transição\",$N44=\"n-1\",$N44=\"n\"),FCT_Estrada_Dados!P45*(I44-I43),(FCT_Estrada_Dados!P45)*(1-UTILITYFACTOR(FCT_Estrada_Dados!$G$13))),\"\")","v":""},{"$f":"IF(ISNUMBER(A44),FCT_Estrada_Dados!S45,\"\")","v":""}]
[{"$f":"IF(ISNUMBER(FCT_Estrada_Dados!A46),FCT_Estrada_Dados!A46,\"\")","v":""},{"$f":"IF(ISNUMBER($A45),IF(OR($N45=\"CD\",$N45=\"Transição\",$N45=\"n-1\",$N45=\"n\"),(FCT_Estrada_Dados!B46/FCT_Estrada_Dados!$H46)*($I45-$I44),(FCT_Estrada_Dados!B46/FCT_Estrada_Dados!$H46)*(1-UTILITYFACTOR(FCT_Estrada_Dados!$G$13))),\"\")","v":""},{"$f":"IF(ISNUMBER($A45),IF(OR($N45=\"CD\",$N45=\"Transição\",$N45=\"n-1\",$N45=\"n\"),(FCT_Estrada_Dados!C46/FCT_Estrada_Dados!$H46)*($I45-$I44),(FCT_Estrada_Dados!C46/FCT_Estrada_Dados!$H46)*(1-UTILITYFACTOR(FCT_Estrada_Dados!$G$13))),\"\")","v":""},{"$f":"IF(ISNUMBER($A45),IF(OR($N45=\"CD\",$N45=\"Transição\",$N45=\"n-1\",$N45=\"n\"),(FCT_Estrada_Dados!D46/FCT_Estrada_Dados!$H46)*($I45-$I44),(FCT_Estrada_Dados!D46/FCT_Estrada_Dados!$H46)*(1-UTILITYFACTOR(FCT_Estrada_Dados!$G$13))),\"\")","v":""},{"$f":"IF(ISNUMBER($A45),IF(OR($N45=\"CD\",$N45=\"Transição\",$N45=\"n-1\",$N45=\"n\"),(FCT_Estrada_Dados!E46/FCT_Estrada_Dados!$H46)*($I45-$I44),(FCT_Estrada_Dados!E46/FCT_Estrada_Dados!$H46)*(1-UTILITYFACTOR(FCT_Estrada_Dados!$G$13))),\"\")","v":""},{"$f":"IF(ISNUMBER($A45),IF(OR($N45=\"CD\",$N45=\"Transição\",$N45=\"n-1\",$N45=\"n\"),(FCT_Estrada_Dados!G46/FCT_Estrada_Dados!$H46)*($I45-$I44),(FCT_Estrada_Dados!G46/FCT_Estrada_Dados!$H46)*(1-UTILITYFACTOR(FCT_Estrada_Dados!$G$13))),\"\")","v":""},{"$f":"IFERROR(IF(OR($N45=\"CD\",$N45=\"Transição\",$N45=\"n-1\",$N45=\"n\"),'Emissões 6.2.2.1 Estrada'!G45*(I45-I44),'Emissões 6.2.2.1 Estrada'!G45),\"\")","v":""},{"$f":"IF(ISNUMBER(A45),IF(OR($N45=\"CD\",$N45=\"Transição\",$N45=\"n-1\",$N45=\"n\"),'Emissões 6.2.2.1 Estrada'!H45*(I45-I44),(1-UTILITYFACTOR(FCT_Estrada_Dados!$G$13))*'Emissões 6.2.2.1 Estrada'!H45),\"\")","v":""},{"$f":"IF(ISNUMBER(A45),UTILITYFACTOR(A45*dEstrada),\"\")","v":""},{"$f":"IFERROR(IF(ISNUMBER(A45),G45/FCT_Estrada_Dados!H46,\"\"),\"\")","v":""},{"$f":"IFERROR(IF(ISNUMBER(A45),H45/FCT_Estrada_Dados!H46,\"\"),\"\")","v":""},{"$f":"IF(ISNUMBER(A45),100*((J45*0.0036)/VLOOKUP(CST_Urbano!$C$7,Combustíveis,2,FALSE)),\"\")","v":""},{"$f":"IF(ISNUMBER(A45),IF(OR($N45=\"CD\",$N45=\"Transição\",$N45=\"n-1\",$N45=\"n\"),FCT_Estrada_Dados!P46*(I45-I44),(FCT_Estrada_Dados!P46)*(1-UTILITYFACTOR(FCT_Estrada_Dados!$G$13))),\"\")","v":""},{"$f":"IF(ISNUMBER(A45),FCT_Estrada_Dados!S46,\"\")","v":""}]
[{"$f":"IF(ISNUMBER(FCT_Estrada_Dados!A47),FCT_Estrada_Dados!A47,\"\")","v":""},{"$f":"IF(ISNUMBER($A46),IF(OR($N46=\"CD\",$N46=\"Transição\",$N46=\"n-1\",$N46=\"n\"),(FCT_Estrada_Dados!B47/FCT_Estrada_Dados!$H47)*($I46-$I45),(FCT_Estrada_Dados!B47/FCT_Estrada_Dados!$H47)*(1-UTILITYFACTOR(FCT_Estrada_Dados!$G$13))),\"\")","v":""},{"$f":"IF(ISNUMBER($A46),IF(OR($N46=\"CD\",$N46=\"Transição\",$N46=\"n-1\",$N46=\"n\"),(FCT_Estrada_Dados!C47/FCT_Estrada_Dados!$H47)*($I46-$I45),(FCT_Estrada_Dados!C47/FCT_Estrada_Dados!$H47)*(1-UTILITYFACTOR(FCT_Estrada_Dados!$G$13))),\"\")","v":""},{"$f":"IF(ISNUMBER($A46),IF(OR($N46=\"CD\",$N46=\"Transição\",$N46=\"n-1\",$N46=\"n\"),(FCT_Estrada_Dados!D47/FCT_Estrada_Dados!$H47)*($I46-$I45),(FCT_Estrada_Dados!D47/FCT_Estrada_Dados!$H47)*(1-UTILITYFACTOR(FCT_Estrada_Dados!$G$13))),\"\")","v":""},{"$f":"IF(ISNUMBER($A46),IF(OR($N46=\"CD\",$N46=\"Transição\",$N46=\"n-1\",$N46=\"n\"),(FCT_Estrada_Dados!E47/FCT_Estrada_Dados!$H47)*($I46-$I45),(FCT_Estrada_Dados!E47/FCT_Estrada_Dados!$H47)*(1-UTILITYFACTOR(FCT_Estrada_Dados!$G$13))),\"\")","v":""},{"$f":"IF(ISNUMBER($A46),IF(OR($N46=\"CD\",$N46=\"Transição\",$N46=\"n-1\",$N46=\"n\"),(FCT_Estrada_Dados!G47/FCT_Estrada_Dados!$H47)*($I46-$I45),(FCT_Estrada_Dados!G47/FCT_Estrada_Dados!$H47)*(1-UTILITYFACTOR(FCT_Estrada_Dados!$G$13))),\"\")","v":""},{"$f":"IFERROR(IF(OR($N46=\"CD\",$N46=\"Transição\",$N46=\"n-1\",$N46=\"n\"),'Emissões 6.2.2.1 Estrada'!G46*(I46-I45),'Emissões 6.2.2.1 Estrada'!G46),\"\")","v":""},{"$f":"IF(ISNUMBER(A46),IF(OR($N46=\"CD\",$N46=\"Transição\",$N46=\"n-1\",$N46=\"n\"),'Emissões 6.2.2.1 Estrada'!H46*(I46-I45),(1-UTILITYFACTOR(FCT_Estrada_Dados!$G$13))*'Emissões 6.2.2.1 Estrada'!H46),\"\")","v":""},{"$f":"IF(ISNUMBER(A46),UTILITYFACTOR(A46*dEstrada),\"\")","v":""},{"$f":"IFERROR(IF(ISNUMBER(A46),G46/FCT_Estrada_Dados!H47,\"\"),\"\")","v":""},{"$f":"IFERROR(IF(ISNUMBER(A46),H46/FCT_Estrada_Dados!H47,\"\"),\"\")","v":""},{"$f":"IF(ISNUMBER(A46),100*((J46*0.0036)/VLOOKUP(CST_Urbano!$C$7,Combustíveis,2,FALSE)),\"\")","v":""},{"$f":"IF(ISNUMBER(A46),IF(OR($N46=\"CD\",$N46=\"Transição\",$N46=\"n-1\",$N46=\"n\"),FCT_Estrada_Dados!P47*(I46-I45),(FCT_Estrada_Dados!P47)*(1-UTILITYFACTOR(FCT_Estrada_Dados!$G$13))),\"\")","v":""},{"$f":"IF(ISNUMBER(A46),FCT_Estrada_Dados!S47,\"\")","v":""}]
[{"$f":"IF(ISNUMBER(FCT_Estrada_Dados!A48),FCT_Estrada_Dados!A48,\"\")","v":""},{"$f":"IF(ISNUMBER($A47),IF(OR($N47=\"CD\",$N47=\"Transição\",$N47=\"n-1\",$N47=\"n\"),(FCT_Estrada_Dados!B48/FCT_Estrada_Dados!$H48)*($I47-$I46),(FCT_Estrada_Dados!B48/FCT_Estrada_Dados!$H48)*(1-UTILITYFACTOR(FCT_Estrada_Dados!$G$13))),\"\")","v":""},{"$f":"IF(ISNUMBER($A47),IF(OR($N47=\"CD\",$N47=\"Transição\",$N47=\"n-1\",$N47=\"n\"),(FCT_Estrada_Dados!C48/FCT_Estrada_Dados!$H48)*($I47-$I46),(FCT_Estrada_Dados!C48/FCT_Estrada_Dados!$H48)*(1-UTILITYFACTOR(FCT_Estrada_Dados!$G$13))),\"\")","v":""},{"$f":"IF(ISNUMBER($A47),IF(OR($N47=\"CD\",$N47=\"Transição\",$N47=\"n-1\",$N47=\"n\"),(FCT_Estrada_Dados!D48/FCT_Estrada_Dados!$H48)*($I47-$I46),(FCT_Estrada_Dados!D48/FCT_Estrada_Dados!$H48)*(1-UTILITYFACTOR(FCT_Estrada_Dados!$G$13))),\"\")","v":""},{"$f":"IF(ISNUMBER($A47),IF(OR($N47=\"CD\",$N47=\"Transição\",$N47=\"n-1\",$N47=\"n\"),(FCT_Estrada_Dados!E48/FCT_Estrada_Dados!$H48)*($I47-$I46),(FCT_Estrada_Dados!E48/FCT_Estrada_Dados!$H48)*(1-UTILITYFACTOR(FCT_Estrada_Dados!$G$13))),\"\")","v":""},{"$f":"IF(ISNUMBER($A47),IF(OR($N47=\"CD\",$N47=\"Transição\",$N47=\"n-1\",$N47=\"n\"),(FCT_Estrada_Dados!G48/FCT_Estrada_Dados!$H48)*($I47-$I46),(FCT_Estrada_Dados!G48/FCT_Estrada_Dados!$H48)*(1-UTILITYFACTOR(FCT_Estrada_Dados!$G$13))),\"\")","v":""},{"$f":"IFERROR(IF(OR($N47=\"CD\",$N47=\"Transição\",$N47=\"n-1\",$N47=\"n\"),'Emissões 6.2.2.1 Estrada'!G47*(I47-I46),'Emissões 6.2.2.1 Estrada'!G47),\"\")","v":""},{"$f":"IF(ISNUMBER(A47),IF(OR($N47=\"CD\",$N47=\"Transição\",$N47=\"n-1\",$N47=\"n\"),'Emissões 6.2.2.1 Estrada'!H47*(I47-I46),(1-UTILITYFACTOR(FCT_Estrada_Dados!$G$13))*'Emissões 6.2.2.1 Estrada'!H47),\"\")","v":""},{"$f":"IF(ISNUMBER(A47),UTILITYFACTOR(A47*dEstrada),\"\")","v":""},{"$f":"IFERROR(IF(ISNUMBER(A47),G47/FCT_Estrada_Dados!H48,\"\"),\"\")","v":""},{"$f":"IFERROR(IF(ISNUMBER(A47),H47/FCT_Estrada_Dados!H48,\"\"),\"\")","v":""},{"$f":"IF(ISNUMBER(A47),100*((J47*0.0036)/VLOOKUP(CST_Urbano!$C$7,Combustíveis,2,FALSE)),\"\")","v":""},{"$f":"IF(ISNUMBER(A47),IF(OR($N47=\"CD\",$N47=\"Transição\",$N47=\"n-1\",$N47=\"n\"),FCT_Estrada_Dados!P48*(I47-I46),(FCT_Estrada_Dados!P48)*(1-UTILITYFACTOR(FCT_Estrada_Dados!$G$13))),\"\")","v":""},{"$f":"IF(ISNUMBER(A47),FCT_Estrada_Dados!S48,\"\")","v":""}]
[{"$f":"IF(ISNUMBER(FCT_Estrada_Dados!A49),FCT_Estrada_Dados!A49,\"\")","v":""},{"$f":"IF(ISNUMBER($A48),IF(OR($N48=\"CD\",$N48=\"Transição\",$N48=\"n-1\",$N48=\"n\"),(FCT_Estrada_Dados!B49/FCT_Estrada_Dados!$H49)*($I48-$I47),(FCT_Estrada_Dados!B49/FCT_Estrada_Dados!$H49)*(1-UTILITYFACTOR(FCT_Estrada_Dados!$G$13))),\"\")","v":""},{"$f":"IF(ISNUMBER($A48),IF(OR($N48=\"CD\",$N48=\"Transição\",$N48=\"n-1\",$N48=\"n\"),(FCT_Estrada_Dados!C49/FCT_Estrada_Dados!$H49)*($I48-$I47),(FCT_Estrada_Dados!C49/FCT_Estrada_Dados!$H49)*(1-UTILITYFACTOR(FCT_Estrada_Dados!$G$13))),\"\")","v":""},{"$f":"IF(ISNUMBER($A48),IF(OR($N48=\"CD\",$N48=\"Transição\",$N48=\"n-1\",$N48=\"n\"),(FCT_Estrada_Dados!D49/FCT_Estrada_Dados!$H49)*($I48-$I47),(FCT_Estrada_Dados!D49/FCT_Estrada_Dados!$H49)*(1-UTILITYFACTOR(FCT_Estrada_Dados!$G$13))),\"\")","v":""},{"$f":"IF(ISNUMBER($A48),IF(OR($N48=\"CD\",$N48=\"Transição\",$N48=\"n-1\",$N48=\"n\"),(FCT_Estrada_Dados!E49/FCT_Estrada_Dados!$H49)*($I48-$I47),(FCT_Estrada_Dados!E49/FCT_Estrada_Dados!$H49)*(1-UTILITYFACTOR(FCT_Estrada_Dados!$G$13))),\"\")","v":""},{"$f":"IF(ISNUMBER($A48),IF(OR($N48=\"CD\",$N48=\"Transição\",$N48=\"n-1\",$N48=\"n\"),(FCT_Estrada_Dados!G49/FCT_Estrada_Dados!$H49)*($I48-$I47),(FCT_Estrada_Dados!G49/FCT_Estrada_Dados!$H49)*(1-UTILITYFACTOR(FCT_Estrada_Dados!$G$13))),\"\")","v":""},{"$f":"IFERROR(IF(OR($N48=\"CD\",$N48=\"Transição\",$N48=\"n-1\",$N48=\"n\"),'Emissões 6.2.2.1 Estrada'!G48*(I48-I47),'Emissões 6.2.2.1 Estrada'!G48),\"\")","v":""},{"$f":"IF(ISNUMBER(A48),IF(OR($N48=\"CD\",$N48=\"Transição\",$N48=\"n-1\",$N48=\"n\"),'Emissões 6.2.2.1 Estrada'!H48*(I48-I47),(1-UTILITYFACTOR(FCT_Estrada_Dados!$G$13))*'Emissões 6.2.2.1 Estrada'!H48),\"\")","v":""},{"$f":"IF(ISNUMBER(A48),UTILITYFACTOR(A48*dEstrada),\"\")","v":""},{"$f":"IFERROR(IF(ISNUMBER(A48),G48/FCT_Estrada_Dados!H49,\"\"),\"\")","v":""},{"$f":"IFERROR(IF(ISNUMBER(A48),H48/FCT_Estrada_Dados!H49,\"\"),\"\")","v":""},{"$f":"IF(ISNUMBER(A48),100*((J48*0.0036)/VLOOKUP(CST_Urbano!$C$7,Combustíveis,2,FALSE)),\"\")","v":""},{"$f":"IF(ISNUMBER(A48),IF(OR($N48=\"CD\",$N48=\"Transição\",$N48=\"n-1\",$N48=\"n\"),FCT_Estrada_Dados!P49*(I48-I47),(FCT_Estrada_Dados!P49)*(1-UTILITYFACTOR(FCT_Estrada_Dados!$G$13))),\"\")","v":""},{"$f":"IF(ISNUMBER(A48),FCT_Estrada_Dados!S49,\"\")","v":""}]
[{"$f":"IF(ISNUMBER(FCT_Estrada_Dados!A50),FCT_Estrada_Dados!A50,\"\")","v":""},{"$f":"IF(ISNUMBER($A49),IF(OR($N49=\"CD\",$N49=\"Transição\",$N49=\"n-1\",$N49=\"n\"),(FCT_Estrada_Dados!B50/FCT_Estrada_Dados!$H50)*($I49-$I48),(FCT_Estrada_Dados!B50/FCT_Estrada_Dados!$H50)*(1-UTILITYFACTOR(FCT_Estrada_Dados!$G$13))),\"\")","v":""},{"$f":"IF(ISNUMBER($A49),IF(OR($N49=\"CD\",$N49=\"Transição\",$N49=\"n-1\",$N49=\"n\"),(FCT_Estrada_Dados!C50/FCT_Estrada_Dados!$H50)*($I49-$I48),(FCT_Estrada_Dados!C50/FCT_Estrada_Dados!$H50)*(1-UTILITYFACTOR(FCT_Estrada_Dados!$G$13))),\"\")","v":""},{"$f":"IF(ISNUMBER($A49),IF(OR($N49=\"CD\",$N49=\"Transição\",$N49=\"n-1\",$N49=\"n\"),(FCT_Estrada_Dados!D50/FCT_Estrada_Dados!$H50)*($I49-$I48),(FCT_Estrada_Dados!D50/FCT_Estrada_Dados!$H50)*(1-UTILITYFACTOR(FCT_Estrada_Dados!$G$13))),\"\")","v":""},{"$f":"IF(ISNUMBER($A49),IF(OR($N49=\"CD\",$N49=\"Transição\",$N49=\"n-1\",$N49=\"n\"),(FCT_Estrada_Dados!E50/FCT_Estrada_Dados!$H50)*($I49-$I48),(FCT_Estrada_Dados!E50/FCT_Estrada_Dados!$H50)*(1-UTILITYFACTOR(FCT_Estrada_Dados!$G$13))),\"\")","v":""},{"$f":"IF(ISNUMBER($A49),IF(OR($N49=\"CD\",$N49=\"Transição\",$N49=\"n-1\",$N49=\"n\"),(FCT_Estrada_Dados!G50/FCT_Estrada_Dados!$H50)*($I49-$I48),(FCT_Estrada_Dados!G50/FCT_Estrada_Dados!$H50)*(1-UTILITYFACTOR(FCT_Estrada_Dados!$G$13))),\"\")","v":""},{"$f":"IFERROR(IF(OR($N49=\"CD\",$N49=\"Transição\",$N49=\"n-1\",$N49=\"n\"),'Emissões 6.2.2.1 Estrada'!G49*(I49-I48),'Emissões 6.2.2.1 Estrada'!G49),\"\")","v":""},{"$f":"IF(ISNUMBER(A49),IF(OR($N49=\"CD\",$N49=\"Transição\",$N49=\"n-1\",$N49=\"n\"),'Emissões 6.2.2.1 Estrada'!H49*(I49-I48),(1-UTILITYFACTOR(FCT_Estrada_Dados!$G$13))*'Emissões 6.2.2.1 Estrada'!H49),\"\")","v":""},{"$f":"IF(ISNUMBER(A49),UTILITYFACTOR(A49*dEstrada),\"\")","v":""},{"$f":"IFERROR(IF(ISNUMBER(A49),G49/FCT_Estrada_Dados!H50,\"\"),\"\")","v":""},{"$f":"IFERROR(IF(ISNUMBER(A49),H49/FCT_Estrada_Dados!H50,\"\"),\"\")","v":""},{"$f":"IF(ISNUMBER(A49),100*((J49*0.0036)/VLOOKUP(CST_Urbano!$C$7,Combustíveis,2,FALSE)),\"\")","v":""},{"$f":"IF(ISNUMBER(A49),IF(OR($N49=\"CD\",$N49=\"Transição\",$N49=\"n-1\",$N49=\"n\"),FCT_Estrada_Dados!P50*(I49-I48),(FCT_Estrada_Dados!P50)*(1-UTILITYFACTOR(FCT_Estrada_Dados!$G$13))),\"\")","v":""},{"$f":"IF(ISNUMBER(A49),FCT_Estrada_Dados!S50,\"\")","v":""}]
[{"$f":"IF(ISNUMBER(FCT_Estrada_Dados!A51),FCT_Estrada_Dados!A51,\"\")","v":""},{"$f":"IF(ISNUMBER($A50),IF(OR($N50=\"CD\",$N50=\"Transição\",$N50=\"n-1\",$N50=\"n\"),(FCT_Estrada_Dados!B51/FCT_Estrada_Dados!$H51)*($I50-$I49),(FCT_Estrada_Dados!B51/FCT_Estrada_Dados!$H51)*(1-UTILITYFACTOR(FCT_Estrada_Dados!$G$13))),\"\")","v":""},{"$f":"IF(ISNUMBER($A50),IF(OR($N50=\"CD\",$N50=\"Transição\",$N50=\"n-1\",$N50=\"n\"),(FCT_Estrada_Dados!C51/FCT_Estrada_Dados!$H51)*($I50-$I49),(FCT_Estrada_Dados!C51/FCT_Estrada_Dados!$H51)*(1-UTILITYFACTOR(FCT_Estrada_Dados!$G$13))),\"\")","v":""},{"$f":"IF(ISNUMBER($A50),IF(OR($N50=\"CD\",$N50=\"Transição\",$N50=\"n-1\",$N50=\"n\"),(FCT_Estrada_Dados!D51/FCT_Estrada_Dados!$H51)*($I50-$I49),(FCT_Estrada_Dados!D51/FCT_Estrada_Dados!$H51)*(1-UTILITYFACTOR(FCT_Estrada_Dados!$G$13))),\"\")","v":""},{"$f":"IF(ISNUMBER($A50),IF(OR($N50=\"CD\",$N50=\"Transição\",$N50=\"n-1\",$N50=\"n\"),(FCT_Estrada_Dados!E51/FCT_Estrada_Dados!$H51)*($I50-$I49),(FCT_Estrada_Dados!E51/FCT_Estrada_Dados!$H51)*(1-UTILITYFACTOR(FCT_Estrada_Dados!$G$13))),\"\")","v":""},{"$f":"IF(ISNUMBER($A50),IF(OR($N50=\"CD\",$N50=\"Transição\",$N50=\"n-1\",$N50=\"n\"),(FCT_Estrada_Dados!G51/FCT_Estrada_Dados!$H51)*($I50-$I49),(FCT_Estrada_Dados!G51/FCT_Estrada_Dados!$H51)*(1-UTILITYFACTOR(FCT_Estrada_Dados!$G$13))),\"\")","v":""},{"$f":"IFERROR(IF(OR($N50=\"CD\",$N50=\"Transição\",$N50=\"n-1\",$N50=\"n\"),'Emissões 6.2.2.1 Estrada'!G50*(I50-I49),'Emissões 6.2.2.1 Estrada'!G50),\"\")","v":""},{"$f":"IF(ISNUMBER(A50),IF(OR($N50=\"CD\",$N50=\"Transição\",$N50=\"n-1\",$N50=\"n\"),'Emissões 6.2.2.1 Estrada'!H50*(I50-I49),(1-UTILITYFACTOR(FCT_Estrada_Dados!$G$13))*'Emissões 6.2.2.1 Estrada'!H50),\"\")","v":""},{"$f":"IF(ISNUMBER(A50),UTILITYFACTOR(A50*dEstrada),\"\")","v":""},{"$f":"IFERROR(IF(ISNUMBER(A50),G50/FCT_Estrada_Dados!H51,\"\"),\"\")","v":""},{"$f":"IFERROR(IF(ISNUMBER(A50),H50/FCT_Estrada_Dados!H51,\"\"),\"\")","v":""},{"$f":"IF(ISNUMBER(A50),100*((J50*0.0036)/VLOOKUP(CST_Urbano!$C$7,Combustíveis,2,FALSE)),\"\")","v":""},{"$f":"IF(ISNUMBER(A50),IF(OR($N50=\"CD\",$N50=\"Transição\",$N50=\"n-1\",$N50=\"n\"),FCT_Estrada_Dados!P51*(I50-I49),(FCT_Estrada_Dados!P51)*(1-UTILITYFACTOR(FCT_Estrada_Dados!$G$13))),\"\")","v":""},{"$f":"IF(ISNUMBER(A50),FCT_Estrada_Dados!S51,\"\")","v":""}]
[{"$f":"IF(ISNUMBER(FCT_Estrada_Dados!A52),FCT_Estrada_Dados!A52,\"\")","v":""},{"$f":"IF(ISNUMBER($A51),IF(OR($N51=\"CD\",$N51=\"Transição\",$N51=\"n-1\",$N51=\"n\"),(FCT_Estrada_Dados!B52/FCT_Estrada_Dados!$H52)*($I51-$I50),(FCT_Estrada_Dados!B52/FCT_Estrada_Dados!$H52)*(1-UTILITYFACTOR(FCT_Estrada_Dados!$G$13))),\"\")","v":""},{"$f":"IF(ISNUMBER($A51),IF(OR($N51=\"CD\",$N51=\"Transição\",$N51=\"n-1\",$N51=\"n\"),(FCT_Estrada_Dados!C52/FCT_Estrada_Dados!$H52)*($I51-$I50),(FCT_Estrada_Dados!C52/FCT_Estrada_Dados!$H52)*(1-UTILITYFACTOR(FCT_Estrada_Dados!$G$13))),\"\")","v":""},{"$f":"IF(ISNUMBER($A51),IF(OR($N51=\"CD\",$N51=\"Transição\",$N51=\"n-1\",$N51=\"n\"),(FCT_Estrada_Dados!D52/FCT_Estrada_Dados!$H52)*($I51-$I50),(FCT_Estrada_Dados!D52/FCT_Estrada_Dados!$H52)*(1-UTILITYFACTOR(FCT_Estrada_Dados!$G$13))),\"\")","v":""},{"$f":"IF(ISNUMBER($A51),IF(OR($N51=\"CD\",$N51=\"Transição\",$N51=\"n-1\",$N51=\"n\"),(FCT_Estrada_Dados!E52/FCT_Estrada_Dados!$H52)*($I51-$I50),(FCT_Estrada_Dados!E52/FCT_Estrada_Dados!$H52)*(1-UTILITYFACTOR(FCT_Estrada_Dados!$G$13))),\"\")","v":""},{"$f":"IF(ISNUMBER($A51),IF(OR($N51=\"CD\",$N51=\"Transição\",$N51=\"n-1\",$N51=\"n\"),(FCT_Estrada_Dados!G52/FCT_Estrada_Dados!$H52)*($I51-$I50),(FCT_Estrada_Dados!G52/FCT_Estrada_Dados!$H52)*(1-UTILITYFACTOR(FCT_Estrada_Dados!$G$13))),\"\")","v":""},{"$f":"IFERROR(IF(OR($N51=\"CD\",$N51=\"Transição\",$N51=\"n-1\",$N51=\"n\"),'Emissões 6.2.2.1 Estrada'!G51*(I51-I50),'Emissões 6.2.2.1 Estrada'!G51),\"\")","v":""},{"$f":"IF(ISNUMBER(A51),IF(OR($N51=\"CD\",$N51=\"Transição\",$N51=\"n-1\",$N51=\"n\"),'Emissões 6.2.2.1 Estrada'!H51*(I51-I50),(1-UTILITYFACTOR(FCT_Estrada_Dados!$G$13))*'Emissões 6.2.2.1 Estrada'!H51),\"\")","v":""},{"$f":"IF(ISNUMBER(A51),UTILITYFACTOR(A51*dEstrada),\"\")","v":""},{"$f":"IFERROR(IF(ISNUMBER(A51),G51/FCT_Estrada_Dados!H52,\"\"),\"\")","v":""},{"$f":"IFERROR(IF(ISNUMBER(A51),H51/FCT_Estrada_Dados!H52,\"\"),\"\")","v":""},{"$f":"IF(ISNUMBER(A51),100*((J51*0.0036)/VLOOKUP(CST_Urbano!$C$7,Combustíveis,2,FALSE)),\"\")","v":""},{"$f":"IF(ISNUMBER(A51),IF(OR($N51=\"CD\",$N51=\"Transição\",$N51=\"n-1\",$N51=\"n\"),FCT_Estrada_Dados!P52*(I51-I50),(FCT_Estrada_Dados!P52)*(1-UTILITYFACTOR(FCT_Estrada_Dados!$G$13))),\"\")","v":""},{"$f":"IF(ISNUMBER(A51),FCT_Estrada_Dados!S52,\"\")","v":""}]
[{"$f":"IF(ISNUMBER(FCT_Estrada_Dados!A53),FCT_Estrada_Dados!A53,\"\")","v":""},{"$f":"IF(ISNUMBER($A52),IF(OR($N52=\"CD\",$N52=\"Transição\",$N52=\"n-1\",$N52=\"n\"),(FCT_Estrada_Dados!B53/FCT_Estrada_Dados!$H53)*($I52-$I51),(FCT_Estrada_Dados!B53/FCT_Estrada_Dados!$H53)*(1-UTILITYFACTOR(FCT_Estrada_Dados!$G$13))),\"\")","v":""},{"$f":"IF(ISNUMBER($A52),IF(OR($N52=\"CD\",$N52=\"Transição\",$N52=\"n-1\",$N52=\"n\"),(FCT_Estrada_Dados!C53/FCT_Estrada_Dados!$H53)*($I52-$I51),(FCT_Estrada_Dados!C53/FCT_Estrada_Dados!$H53)*(1-UTILITYFACTOR(FCT_Estrada_Dados!$G$13))),\"\")","v":""},{"$f":"IF(ISNUMBER($A52),IF(OR($N52=\"CD\",$N52=\"Transição\",$N52=\"n-1\",$N52=\"n\"),(FCT_Estrada_Dados!D53/FCT_Estrada_Dados!$H53)*($I52-$I51),(FCT_Estrada_Dados!D53/FCT_Estrada_Dados!$H53)*(1-UTILITYFACTOR(FCT_Estrada_Dados!$G$13))),\"\")","v":""},{"$f":"IF(ISNUMBER($A52),IF(OR($N52=\"CD\",$N52=\"Transição\",$N52=\"n-1\",$N52=\"n\"),(FCT_Estrada_Dados!E53/FCT_Estrada_Dados!$H53)*($I52-$I51),(FCT_Estrada_Dados!E53/FCT_Estrada_Dados!$H53)*(1-UTILITYFACTOR(FCT_Estrada_Dados!$G$13))),\"\")","v":""},{"$f":"IF(ISNUMBER($A52),IF(OR($N52=\"CD\",$N52=\"Transição\",$N52=\"n-1\",$N52=\"n\"),(FCT_Estrada_Dados!G53/FCT_Estrada_Dados!$H53)*($I52-$I51),(FCT_Estrada_Dados!G53/FCT_Estrada_Dados!$H53)*(1-UTILITYFACTOR(FCT_Estrada_Dados!$G$13))),\"\")","v":""},{"$f":"IFERROR(IF(OR($N52=\"CD\",$N52=\"Transição\",$N52=\"n-1\",$N52=\"n\"),'Emissões 6.2.2.1 Estrada'!G52*(I52-I51),'Emissões 6.2.2.1 Estrada'!G52),\"\")","v":""},{"$f":"IF(ISNUMBER(A52),IF(OR($N52=\"CD\",$N52=\"Transição\",$N52=\"n-1\",$N52=\"n\"),'Emissões 6.2.2.1 Estrada'!H52*(I52-I51),(1-UTILITYFACTOR(FCT_Estrada_Dados!$G$13))*'Emissões 6.2.2.1 Estrada'!H52),\"\")","v":""},{"$f":"IF(ISNUMBER(A52),UTILITYFACTOR(A52*dEstrada),\"\")","v":""},{"$f":"IFERROR(IF(ISNUMBER(A52),G52/FCT_Estrada_Dados!H53,\"\"),\"\")","v":""},{"$f":"IFERROR(IF(ISNUMBER(A52),H52/FCT_Estrada_Dados!H53,\"\"),\"\")","v":""},{"$f":"IF(ISNUMBER(A52),100*((J52*0.0036)/VLOOKUP(CST_Urbano!$C$7,Combustíveis,2,FALSE)),\"\")","v":""},{"$f":"IF(ISNUMBER(A52),IF(OR($N52=\"CD\",$N52=\"Transição\",$N52=\"n-1\",$N52=\"n\"),FCT_Estrada_Dados!P53*(I52-I51),(FCT_Estrada_Dados!P53)*(1-UTILITYFACTOR(FCT_Estrada_Dados!$G$13))),\"\")","v":""},{"$f":"IF(ISNUMBER(A52),FCT_Estrada_Dados!S53,\"\")","v":""}]
[{"$f":"IF(ISNUMBER(FCT_Estrada_Dados!A54),FCT_Estrada_Dados!A54,\"\")","v":""},{"$f":"IF(ISNUMBER($A53),IF(OR($N53=\"CD\",$N53=\"Transição\",$N53=\"n-1\",$N53=\"n\"),(FCT_Estrada_Dados!B54/FCT_Estrada_Dados!$H54)*($I53-$I52),(FCT_Estrada_Dados!B54/FCT_Estrada_Dados!$H54)*(1-UTILITYFACTOR(FCT_Estrada_Dados!$G$13))),\"\")","v":""},{"$f":"IF(ISNUMBER($A53),IF(OR($N53=\"CD\",$N53=\"Transição\",$N53=\"n-1\",$N53=\"n\"),(FCT_Estrada_Dados!C54/FCT_Estrada_Dados!$H54)*($I53-$I52),(FCT_Estrada_Dados!C54/FCT_Estrada_Dados!$H54)*(1-UTILITYFACTOR(FCT_Estrada_Dados!$G$13))),\"\")","v":""},{"$f":"IF(ISNUMBER($A53),IF(OR($N53=\"CD\",$N53=\"Transição\",$N53=\"n-1\",$N53=\"n\"),(FCT_Estrada_Dados!D54/FCT_Estrada_Dados!$H54)*($I53-$I52),(FCT_Estrada_Dados!D54/FCT_Estrada_Dados!$H54)*(1-UTILITYFACTOR(FCT_Estrada_Dados!$G$13))),\"\")","v":""},{"$f":"IF(ISNUMBER($A53),IF(OR($N53=\"CD\",$N53=\"Transição\",$N53=\"n-1\",$N53=\"n\"),(FCT_Estrada_Dados!E54/FCT_Estrada_Dados!$H54)*($I53-$I52),(FCT_Estrada_Dados!E54/FCT_Estrada_Dados!$H54)*(1-UTILITYFACTOR(FCT_Estrada_Dados!$G$13))),\"\")","v":""},{"$f":"IF(ISNUMBER($A53),IF(OR($N53=\"CD\",$N53=\"Transição\",$N53=\"n-1\",$N53=\"n\"),(FCT_Estrada_Dados!G54/FCT_Estrada_Dados!$H54)*($I53-$I52),(FCT_Estrada_Dados!G54/FCT_Estrada_Dados!$H54)*(1-UTILITYFACTOR(FCT_Estrada_Dados!$G$13))),\"\")","v":""},{"$f":"IFERROR(IF(OR($N53=\"CD\",$N53=\"Transição\",$N53=\"n-1\",$N53=\"n\"),'Emissões 6.2.2.1 Estrada'!G53*(I53-I52),'Emissões 6.2.2.1 Estrada'!G53),\"\")","v":""},{"$f":"IF(ISNUMBER(A53),IF(OR($N53=\"CD\",$N53=\"Transição\",$N53=\"n-1\",$N53=\"n\"),'Emissões 6.2.2.1 Estrada'!H53*(I53-I52),(1-UTILITYFACTOR(FCT_Estrada_Dados!$G$13))*'Emissões 6.2.2.1 Estrada'!H53),\"\")","v":""},{"$f":"IF(ISNUMBER(A53),UTILITYFACTOR(A53*dEstrada),\"\")","v":""},{"$f":"IFERROR(IF(ISNUMBER(A53),G53/FCT_Estrada_Dados!H54,\"\"),\"\")","v":""},{"$f":"IFERROR(IF(ISNUMBER(A53),H53/FCT_Estrada_Dados!H54,\"\"),\"\")","v":""},{"$f":"IF(ISNUMBER(A53),100*((J53*0.0036)/VLOOKUP(CST_Urbano!$C$7,Combustíveis,2,FALSE)),\"\")","v":""},{"$f":"IF(ISNUMBER(A53),IF(OR($N53=\"CD\",$N53=\"Transição\",$N53=\"n-1\",$N53=\"n\"),FCT_Estrada_Dados!P54*(I53-I52),(FCT_Estrada_Dados!P54)*(1-UTILITYFACTOR(FCT_Estrada_Dados!$G$13))),\"\")","v":""},{"$f":"IF(ISNUMBER(A53),FCT_Estrada_Dados!S54,\"\")","v":""}]
[{"$f":"IF(ISNUMBER(FCT_Estrada_Dados!A55),FCT_Estrada_Dados!A55,\"\")","v":""},{"$f":"IF(ISNUMBER($A54),IF(OR($N54=\"CD\",$N54=\"Transição\",$N54=\"n-1\",$N54=\"n\"),(FCT_Estrada_Dados!B55/FCT_Estrada_Dados!$H55)*($I54-$I53),(FCT_Estrada_Dados!B55/FCT_Estrada_Dados!$H55)*(1-UTILITYFACTOR(FCT_Estrada_Dados!$G$13))),\"\")","v":""},{"$f":"IF(ISNUMBER($A54),IF(OR($N54=\"CD\",$N54=\"Transição\",$N54=\"n-1\",$N54=\"n\"),(FCT_Estrada_Dados!C55/FCT_Estrada_Dados!$H55)*($I54-$I53),(FCT_Estrada_Dados!C55/FCT_Estrada_Dados!$H55)*(1-UTILITYFACTOR(FCT_Estrada_Dados!$G$13))),\"\")","v":""},{"$f":"IF(ISNUMBER($A54),IF(OR($N54=\"CD\",$N54=\"Transição\",$N54=\"n-1\",$N54=\"n\"),(FCT_Estrada_Dados!D55/FCT_Estrada_Dados!$H55)*($I54-$I53),(FCT_Estrada_Dados!D55/FCT_Estrada_Dados!$H55)*(1-UTILITYFACTOR(FCT_Estrada_Dados!$G$13))),\"\")","v":""},{"$f":"IF(ISNUMBER($A54),IF(OR($N54=\"CD\",$N54=\"Transição\",$N54=\"n-1\",$N54=\"n\"),(FCT_Estrada_Dados!E55/FCT_Estrada_Dados!$H55)*($I54-$I53),(FCT_Estrada_Dados!E55/FCT_Estrada_Dados!$H55)*(1-UTILITYFACTOR(FCT_Estrada_Dados!$G$13))),\"\")","v":""},{"$f":"IF(ISNUMBER($A54),IF(OR($N54=\"CD\",$N54=\"Transição\",$N54=\"n-1\",$N54=\"n\"),(FCT_Estrada_Dados!G55/FCT_Estrada_Dados!$H55)*($I54-$I53),(FCT_Estrada_Dados!G55/FCT_Estrada_Dados!$H55)*(1-UTILITYFACTOR(FCT_Estrada_Dados!$G$13))),\"\")","v":""},{"$f":"IFERROR(IF(OR($N54=\"CD\",$N54=\"Transição\",$N54=\"n-1\",$N54=\"n\"),'Emissões 6.2.2.1 Estrada'!G54*(I54-I53),'Emissões 6.2.2.1 Estrada'!G54),\"\")","v":""},{"$f":"IF(ISNUMBER(A54),IF(OR($N54=\"CD\",$N54=\"Transição\",$N54=\"n-1\",$N54=\"n\"),'Emissões 6.2.2.1 Estrada'!H54*(I54-I53),(1-UTILITYFACTOR(FCT_Estrada_Dados!$G$13))*'Emissões 6.2.2.1 Estrada'!H54),\"\")","v":""},{"$f":"IF(ISNUMBER(A54),UTILITYFACTOR(A54*dEstrada),\"\")","v":""},{"$f":"IFERROR(IF(ISNUMBER(A54),G54/FCT_Estrada_Dados!H55,\"\"),\"\")","v":""},{"$f":"IFERROR(IF(ISNUMBER(A54),H54/FCT_Estrada_Dados!H55,\"\"),\"\")","v":""},{"$f":"IF(ISNUMBER(A54),100*((J54*0.0036)/VLOOKUP(CST_Urbano!$C$7,Combustíveis,2,FALSE)),\"\")","v":""},{"$f":"IF(ISNUMBER(A54),IF(OR($N54=\"CD\",$N54=\"Transição\",$N54=\"n-1\",$N54=\"n\"),FCT_Estrada_Dados!P55*(I54-I53),(FCT_Estrada_Dados!P55)*(1-UTILITYFACTOR(FCT_Estrada_Dados!$G$13))),\"\")","v":""},{"$f":"IF(ISNUMBER(A54),FCT_Estrada_Dados!S55,\"\")","v":""}]
[{"$f":"IF(ISNUMBER(FCT_Estrada_Dados!A56),FCT_Estrada_Dados!A56,\"\")","v":""},{"$f":"IF(ISNUMBER($A55),IF(OR($N55=\"CD\",$N55=\"Transição\",$N55=\"n-1\",$N55=\"n\"),(FCT_Estrada_Dados!B56/FCT_Estrada_Dados!$H56)*($I55-$I54),(FCT_Estrada_Dados!B56/FCT_Estrada_Dados!$H56)*(1-UTILITYFACTOR(FCT_Estrada_Dados!$G$13))),\"\")","v":""},{"$f":"IF(ISNUMBER($A55),IF(OR($N55=\"CD\",$N55=\"Transição\",$N55=\"n-1\",$N55=\"n\"),(FCT_Estrada_Dados!C56/FCT_Estrada_Dados!$H56)*($I55-$I54),(FCT_Estrada_Dados!C56/FCT_Estrada_Dados!$H56)*(1-UTILITYFACTOR(FCT_Estrada_Dados!$G$13))),\"\")","v":""},{"$f":"IF(ISNUMBER($A55),IF(OR($N55=\"CD\",$N55=\"Transição\",$N55=\"n-1\",$N55=\"n\"),(FCT_Estrada_Dados!D56/FCT_Estrada_Dados!$H56)*($I55-$I54),(FCT_Estrada_Dados!D56/FCT_Estrada_Dados!$H56)*(1-UTILITYFACTOR(FCT_Estrada_Dados!$G$13))),\"\")","v":""},{"$f":"IF(ISNUMBER($A55),IF(OR($N55=\"CD\",$N55=\"Transição\",$N55=\"n-1\",$N55=\"n\"),(FCT_Estrada_Dados!E56/FCT_Estrada_Dados!$H56)*($I55-$I54),(FCT_Estrada_Dados!E56/FCT_Estrada_Dados!$H56)*(1-UTILITYFACTOR(FCT_Estrada_Dados!$G$13))),\"\")","v":""},{"$f":"IF(ISNUMBER($A55),IF(OR($N55=\"CD\",$N55=\"Transição\",$N55=\"n-1\",$N55=\"n\"),(FCT_Estrada_Dados!G56/FCT_Estrada_Dados!$H56)*($I55-$I54),(FCT_Estrada_Dados!G56/FCT_Estrada_Dados!$H56)*(1-UTILITYFACTOR(FCT_Estrada_Dados!$G$13))),\"\")","v":""},{"$f":"IFERROR(IF(OR($N55=\"CD\",$N55=\"Transição\",$N55=\"n-1\",$N55=\"n\"),'Emissões 6.2.2.1 Estrada'!G55*(I55-I54),'Emissões 6.2.2.1 Estrada'!G55),\"\")","v":""},{"$f":"IF(ISNUMBER(A55),IF(OR($N55=\"CD\",$N55=\"Transição\",$N55=\"n-1\",$N55=\"n\"),'Emissões 6.2.2.1 Estrada'!H55*(I55-I54),(1-UTILITYFACTOR(FCT_Estrada_Dados!$G$13))*'Emissões 6.2.2.1 Estrada'!H55),\"\")","v":""},{"$f":"IF(ISNUMBER(A55),UTILITYFACTOR(A55*dEstrada),\"\")","v":""},{"$f":"IFERROR(IF(ISNUMBER(A55),G55/FCT_Estrada_Dados!H56,\"\"),\"\")","v":""},{"$f":"IFERROR(IF(ISNUMBER(A55),H55/FCT_Estrada_Dados!H56,\"\"),\"\")","v":""},{"$f":"IF(ISNUMBER(A55),100*((J55*0.0036)/VLOOKUP(CST_Urbano!$C$7,Combustíveis,2,FALSE)),\"\")","v":""},{"$f":"IF(ISNUMBER(A55),IF(OR($N55=\"CD\",$N55=\"Transição\",$N55=\"n-1\",$N55=\"n\"),FCT_Estrada_Dados!P56*(I55-I54),(FCT_Estrada_Dados!P56)*(1-UTILITYFACTOR(FCT_Estrada_Dados!$G$13))),\"\")","v":""},{"$f":"IF(ISNUMBER(A55),FCT_Estrada_Dados!S56,\"\")","v":""}]
[{"$f":"IF(ISNUMBER(FCT_Estrada_Dados!A57),FCT_Estrada_Dados!A57,\"\")","v":""},{"$f":"IF(ISNUMBER($A56),IF(OR($N56=\"CD\",$N56=\"Transição\",$N56=\"n-1\",$N56=\"n\"),(FCT_Estrada_Dados!B57/FCT_Estrada_Dados!$H57)*($I56-$I55),(FCT_Estrada_Dados!B57/FCT_Estrada_Dados!$H57)*(1-UTILITYFACTOR(FCT_Estrada_Dados!$G$13))),\"\")","v":""},{"$f":"IF(ISNUMBER($A56),IF(OR($N56=\"CD\",$N56=\"Transição\",$N56=\"n-1\",$N56=\"n\"),(FCT_Estrada_Dados!C57/FCT_Estrada_Dados!$H57)*($I56-$I55),(FCT_Estrada_Dados!C57/FCT_Estrada_Dados!$H57)*(1-UTILITYFACTOR(FCT_Estrada_Dados!$G$13))),\"\")","v":""},{"$f":"IF(ISNUMBER($A56),IF(OR($N56=\"CD\",$N56=\"Transição\",$N56=\"n-1\",$N56=\"n\"),(FCT_Estrada_Dados!D57/FCT_Estrada_Dados!$H57)*($I56-$I55),(FCT_Estrada_Dados!D57/FCT_Estrada_Dados!$H57)*(1-UTILITYFACTOR(FCT_Estrada_Dados!$G$13))),\"\")","v":""},{"$f":"IF(ISNUMBER($A56),IF(OR($N56=\"CD\",$N56=\"Transição\",$N56=\"n-1\",$N56=\"n\"),(FCT_Estrada_Dados!E57/FCT_Estrada_Dados!$H57)*($I56-$I55),(FCT_Estrada_Dados!E57/FCT_Estrada_Dados!$H57)*(1-UTILITYFACTOR(FCT_Estrada_Dados!$G$13))),\"\")","v":""},{"$f":"IF(ISNUMBER($A56),IF(OR($N56=\"CD\",$N56=\"Transição\",$N56=\"n-1\",$N56=\"n\"),(FCT_Estrada_Dados!G57/FCT_Estrada_Dados!$H57)*($I56-$I55),(FCT_Estrada_Dados!G57/FCT_Estrada_Dados!$H57)*(1-UTILITYFACTOR(FCT_Estrada_Dados!$G$13))),\"\")","v":""},{"$f":"IFERROR(IF(OR($N56=\"CD\",$N56=\"Transição\",$N56=\"n-1\",$N56=\"n\"),'Emissões 6.2.2.1 Estrada'!G56*(I56-I55),'Emissões 6.2.2.1 Estrada'!G56),\"\")","v":""},{"$f":"IF(ISNUMBER(A56),IF(OR($N56=\"CD\",$N56=\"Transição\",$N56=\"n-1\",$N56=\"n\"),'Emissões 6.2.2.1 Estrada'!H56*(I56-I55),(1-UTILITYFACTOR(FCT_Estrada_Dados!$G$13))*'Emissões 6.2.2.1 Estrada'!H56),\"\")","v":""},{"$f":"IF(ISNUMBER(A56),UTILITYFACTOR(A56*dEstrada),\"\")","v":""},{"$f":"IFERROR(IF(ISNUMBER(A56),G56/FCT_Estrada_Dados!H57,\"\"),\"\")","v":""},{"$f":"IFERROR(IF(ISNUMBER(A56),H56/FCT_Estrada_Dados!H57,\"\"),\"\")","v":""},{"$f":"IF(ISNUMBER(A56),100*((J56*0.0036)/VLOOKUP(CST_Urbano!$C$7,Combustíveis,2,FALSE)),\"\")","v":""},{"$f":"IF(ISNUMBER(A56),IF(OR($N56=\"CD\",$N56=\"Transição\",$N56=\"n-1\",$N56=\"n\"),FCT_Estrada_Dados!P57*(I56-I55),(FCT_Estrada_Dados!P57)*(1-UTILITYFACTOR(FCT_Estrada_Dados!$G$13))),\"\")","v":""},{"$f":"IF(ISNUMBER(A56),FCT_Estrada_Dados!S57,\"\")","v":""}]
[{"$f":"IF(ISNUMBER(FCT_Estrada_Dados!A58),FCT_Estrada_Dados!A58,\"\")","v":""},{"$f":"IF(ISNUMBER($A57),IF(OR($N57=\"CD\",$N57=\"Transição\",$N57=\"n-1\",$N57=\"n\"),(FCT_Estrada_Dados!B58/FCT_Estrada_Dados!$H58)*($I57-$I56),(FCT_Estrada_Dados!B58/FCT_Estrada_Dados!$H58)*(1-UTILITYFACTOR(FCT_Estrada_Dados!$G$13))),\"\")","v":""},{"$f":"IF(ISNUMBER($A57),IF(OR($N57=\"CD\",$N57=\"Transição\",$N57=\"n-1\",$N57=\"n\"),(FCT_Estrada_Dados!C58/FCT_Estrada_Dados!$H58)*($I57-$I56),(FCT_Estrada_Dados!C58/FCT_Estrada_Dados!$H58)*(1-UTILITYFACTOR(FCT_Estrada_Dados!$G$13))),\"\")","v":""},{"$f":"IF(ISNUMBER($A57),IF(OR($N57=\"CD\",$N57=\"Transição\",$N57=\"n-1\",$N57=\"n\"),(FCT_Estrada_Dados!D58/FCT_Estrada_Dados!$H58)*($I57-$I56),(FCT_Estrada_Dados!D58/FCT_Estrada_Dados!$H58)*(1-UTILITYFACTOR(FCT_Estrada_Dados!$G$13))),\"\")","v":""},{"$f":"IF(ISNUMBER($A57),IF(OR($N57=\"CD\",$N57=\"Transição\",$N57=\"n-1\",$N57=\"n\"),(FCT_Estrada_Dados!E58/FCT_Estrada_Dados!$H58)*($I57-$I56),(FCT_Estrada_Dados!E58/FCT_Estrada_Dados!$H58)*(1-UTILITYFACTOR(FCT_Estrada_Dados!$G$13))),\"\")","v":""},{"$f":"IF(ISNUMBER($A57),IF(OR($N57=\"CD\",$N57=\"Transição\",$N57=\"n-1\",$N57=\"n\"),(FCT_Estrada_Dados!G58/FCT_Estrada_Dados!$H58)*($I57-$I56),(FCT_Estrada_Dados!G58/FCT_Estrada_Dados!$H58)*(1-UTILITYFACTOR(FCT_Estrada_Dados!$G$13))),\"\")","v":""},{"$f":"IFERROR(IF(OR($N57=\"CD\",$N57=\"Transição\",$N57=\"n-1\",$N57=\"n\"),'Emissões 6.2.2.1 Estrada'!G57*(I57-I56),'Emissões 6.2.2.1 Estrada'!G57),\"\")","v":""},{"$f":"IF(ISNUMBER(A57),IF(OR($N57=\"CD\",$N57=\"Transição\",$N57=\"n-1\",$N57=\"n\"),'Emissões 6.2.2.1 Estrada'!H57*(I57-I56),(1-UTILITYFACTOR(FCT_Estrada_Dados!$G$13))*'Emissões 6.2.2.1 Estrada'!H57),\"\")","v":""},{"$f":"IF(ISNUMBER(A57),UTILITYFACTOR(A57*dEstrada),\"\")","v":""},{"$f":"IFERROR(IF(ISNUMBER(A57),G57/FCT_Estrada_Dados!H58,\"\"),\"\")","v":""},{"$f":"IFERROR(IF(ISNUMBER(A57),H57/FCT_Estrada_Dados!H58,\"\"),\"\")","v":""},{"$f":"IF(ISNUMBER(A57),100*((J57*0.0036)/VLOOKUP(CST_Urbano!$C$7,Combustíveis,2,FALSE)),\"\")","v":""},{"$f":"IF(ISNUMBER(A57),IF(OR($N57=\"CD\",$N57=\"Transição\",$N57=\"n-1\",$N57=\"n\"),FCT_Estrada_Dados!P58*(I57-I56),(FCT_Estrada_Dados!P58)*(1-UTILITYFACTOR(FCT_Estrada_Dados!$G$13))),\"\")","v":""},{"$f":"IF(ISNUMBER(A57),FCT_Estrada_Dados!S58,\"\")","v":""}]
[{"$f":"IF(ISNUMBER(FCT_Estrada_Dados!A59),FCT_Estrada_Dados!A59,\"\")","v":""},{"$f":"IF(ISNUMBER($A58),IF(OR($N58=\"CD\",$N58=\"Transição\",$N58=\"n-1\",$N58=\"n\"),(FCT_Estrada_Dados!B59/FCT_Estrada_Dados!$H59)*($I58-$I57),(FCT_Estrada_Dados!B59/FCT_Estrada_Dados!$H59)*(1-UTILITYFACTOR(FCT_Estrada_Dados!$G$13))),\"\")","v":""},{"$f":"IF(ISNUMBER($A58),IF(OR($N58=\"CD\",$N58=\"Transição\",$N58=\"n-1\",$N58=\"n\"),(FCT_Estrada_Dados!C59/FCT_Estrada_Dados!$H59)*($I58-$I57),(FCT_Estrada_Dados!C59/FCT_Estrada_Dados!$H59)*(1-UTILITYFACTOR(FCT_Estrada_Dados!$G$13))),\"\")","v":""},{"$f":"IF(ISNUMBER($A58),IF(OR($N58=\"CD\",$N58=\"Transição\",$N58=\"n-1\",$N58=\"n\"),(FCT_Estrada_Dados!D59/FCT_Estrada_Dados!$H59)*($I58-$I57),(FCT_Estrada_Dados!D59/FCT_Estrada_Dados!$H59)*(1-UTILITYFACTOR(FCT_Estrada_Dados!$G$13))),\"\")","v":""},{"$f":"IF(ISNUMBER($A58),IF(OR($N58=\"CD\",$N58=\"Transição\",$N58=\"n-1\",$N58=\"n\"),(FCT_Estrada_Dados!E59/FCT_Estrada_Dados!$H59)*($I58-$I57),(FCT_Estrada_Dados!E59/FCT_Estrada_Dados!$H59)*(1-UTILITYFACTOR(FCT_Estrada_Dados!$G$13))),\"\")","v":""},{"$f":"IF(ISNUMBER($A58),IF(OR($N58=\"CD\",$N58=\"Transição\",$N58=\"n-1\",$N58=\"n\"),(FCT_Estrada_Dados!G59/FCT_Estrada_Dados!$H59)*($I58-$I57),(FCT_Estrada_Dados!G59/FCT_Estrada_Dados!$H59)*(1-UTILITYFACTOR(FCT_Estrada_Dados!$G$13))),\"\")","v":""},{"$f":"IFERROR(IF(OR($N58=\"CD\",$N58=\"Transição\",$N58=\"n-1\",$N58=\"n\"),'Emissões 6.2.2.1 Estrada'!G58*(I58-I57),'Emissões 6.2.2.1 Estrada'!G58),\"\")","v":""},{"$f":"IF(ISNUMBER(A58),IF(OR($N58=\"CD\",$N58=\"Transição\",$N58=\"n-1\",$N58=\"n\"),'Emissões 6.2.2.1 Estrada'!H58*(I58-I57),(1-UTILITYFACTOR(FCT_Estrada_Dados!$G$13))*'Emissões 6.2.2.1 Estrada'!H58),\"\")","v":""},{"$f":"IF(ISNUMBER(A58),UTILITYFACTOR(A58*dEstrada),\"\")","v":""},{"$f":"IFERROR(IF(ISNUMBER(A58),G58/FCT_Estrada_Dados!H59,\"\"),\"\")","v":""},{"$f":"IFERROR(IF(ISNUMBER(A58),H58/FCT_Estrada_Dados!H59,\"\"),\"\")","v":""},{"$f":"IF(ISNUMBER(A58),100*((J58*0.0036)/VLOOKUP(CST_Urbano!$C$7,Combustíveis,2,FALSE)),\"\")","v":""},{"$f":"IF(ISNUMBER(A58),IF(OR($N58=\"CD\",$N58=\"Transição\",$N58=\"n-1\",$N58=\"n\"),FCT_Estrada_Dados!P59*(I58-I57),(FCT_Estrada_Dados!P59)*(1-UTILITYFACTOR(FCT_Estrada_Dados!$G$13))),\"\")","v":""},{"$f":"IF(ISNUMBER(A58),FCT_Estrada_Dados!S59,\"\")","v":""}]
[{"$f":"IF(ISNUMBER(FCT_Estrada_Dados!A60),FCT_Estrada_Dados!A60,\"\")","v":""},{"$f":"IF(ISNUMBER($A59),IF(OR($N59=\"CD\",$N59=\"Transição\",$N59=\"n-1\",$N59=\"n\"),(FCT_Estrada_Dados!B60/FCT_Estrada_Dados!$H60)*($I59-$I58),(FCT_Estrada_Dados!B60/FCT_Estrada_Dados!$H60)*(1-UTILITYFACTOR(FCT_Estrada_Dados!$G$13))),\"\")","v":""},{"$f":"IF(ISNUMBER($A59),IF(OR($N59=\"CD\",$N59=\"Transição\",$N59=\"n-1\",$N59=\"n\"),(FCT_Estrada_Dados!C60/FCT_Estrada_Dados!$H60)*($I59-$I58),(FCT_Estrada_Dados!C60/FCT_Estrada_Dados!$H60)*(1-UTILITYFACTOR(FCT_Estrada_Dados!$G$13))),\"\")","v":""},{"$f":"IF(ISNUMBER($A59),IF(OR($N59=\"CD\",$N59=\"Transição\",$N59=\"n-1\",$N59=\"n\"),(FCT_Estrada_Dados!D60/FCT_Estrada_Dados!$H60)*($I59-$I58),(FCT_Estrada_Dados!D60/FCT_Estrada_Dados!$H60)*(1-UTILITYFACTOR(FCT_Estrada_Dados!$G$13))),\"\")","v":""},{"$f":"IF(ISNUMBER($A59),IF(OR($N59=\"CD\",$N59=\"Transição\",$N59=\"n-1\",$N59=\"n\"),(FCT_Estrada_Dados!E60/FCT_Estrada_Dados!$H60)*($I59-$I58),(FCT_Estrada_Dados!E60/FCT_Estrada_Dados!$H60)*(1-UTILITYFACTOR(FCT_Estrada_Dados!$G$13))),\"\")","v":""},{"$f":"IF(ISNUMBER($A59),IF(OR($N59=\"CD\",$N59=\"Transição\",$N59=\"n-1\",$N59=\"n\"),(FCT_Estrada_Dados!G60/FCT_Estrada_Dados!$H60)*($I59-$I58),(FCT_Estrada_Dados!G60/FCT_Estrada_Dados!$H60)*(1-UTILITYFACTOR(FCT_Estrada_Dados!$G$13))),\"\")","v":""},{"$f":"IFERROR(IF(OR($N59=\"CD\",$N59=\"Transição\",$N59=\"n-1\",$N59=\"n\"),'Emissões 6.2.2.1 Estrada'!G59*(I59-I58),'Emissões 6.2.2.1 Estrada'!G59),\"\")","v":""},{"$f":"IF(ISNUMBER(A59),IF(OR($N59=\"CD\",$N59=\"Transição\",$N59=\"n-1\",$N59=\"n\"),'Emissões 6.2.2.1 Estrada'!H59*(I59-I58),(1-UTILITYFACTOR(FCT_Estrada_Dados!$G$13))*'Emissões 6.2.2.1 Estrada'!H59),\"\")","v":""},{"$f":"IF(ISNUMBER(A59),UTILITYFACTOR(A59*dEstrada),\"\")","v":""},{"$f":"IFERROR(IF(ISNUMBER(A59),G59/FCT_Estrada_Dados!H60,\"\"),\"\")","v":""},{"$f":"IFERROR(IF(ISNUMBER(A59),H59/FCT_Estrada_Dados!H60,\"\"),\"\")","v":""},{"$f":"IF(ISNUMBER(A59),100*((J59*0.0036)/VLOOKUP(CST_Urbano!$C$7,Combustíveis,2,FALSE)),\"\")","v":""},{"$f":"IF(ISNUMBER(A59),IF(OR($N59=\"CD\",$N59=\"Transição\",$N59=\"n-1\",$N59=\"n\"),FCT_Estrada_Dados!P60*(I59-I58),(FCT_Estrada_Dados!P60)*(1-UTILITYFACTOR(FCT_Estrada_Dados!$G$13))),\"\")","v":""},{"$f":"IF(ISNUMBER(A59),FCT_Estrada_Dados!S60,\"\")","v":""}]
[{"$f":"IF(ISNUMBER(FCT_Estrada_Dados!A61),FCT_Estrada_Dados!A61,\"\")","v":""},{"$f":"IF(ISNUMBER($A60),IF(OR($N60=\"CD\",$N60=\"Transição\",$N60=\"n-1\",$N60=\"n\"),(FCT_Estrada_Dados!B61/FCT_Estrada_Dados!$H61)*($I60-$I59),(FCT_Estrada_Dados!B61/FCT_Estrada_Dados!$H61)*(1-UTILITYFACTOR(FCT_Estrada_Dados!$G$13))),\"\")","v":""},{"$f":"IF(ISNUMBER($A60),IF(OR($N60=\"CD\",$N60=\"Transição\",$N60=\"n-1\",$N60=\"n\"),(FCT_Estrada_Dados!C61/FCT_Estrada_Dados!$H61)*($I60-$I59),(FCT_Estrada_Dados!C61/FCT_Estrada_Dados!$H61)*(1-UTILITYFACTOR(FCT_Estrada_Dados!$G$13))),\"\")","v":""},{"$f":"IF(ISNUMBER($A60),IF(OR($N60=\"CD\",$N60=\"Transição\",$N60=\"n-1\",$N60=\"n\"),(FCT_Estrada_Dados!D61/FCT_Estrada_Dados!$H61)*($I60-$I59),(FCT_Estrada_Dados!D61/FCT_Estrada_Dados!$H61)*(1-UTILITYFACTOR(FCT_Estrada_Dados!$G$13))),\"\")","v":""},{"$f":"IF(ISNUMBER($A60),IF(OR($N60=\"CD\",$N60=\"Transição\",$N60=\"n-1\",$N60=\"n\"),(FCT_Estrada_Dados!E61/FCT_Estrada_Dados!$H61)*($I60-$I59),(FCT_Estrada_Dados!E61/FCT_Estrada_Dados!$H61)*(1-UTILITYFACTOR(FCT_Estrada_Dados!$G$13))),\"\")","v":""},{"$f":"IF(ISNUMBER($A60),IF(OR($N60=\"CD\",$N60=\"Transição\",$N60=\"n-1\",$N60=\"n\"),(FCT_Estrada_Dados!G61/FCT_Estrada_Dados!$H61)*($I60-$I59),(FCT_Estrada_Dados!G61/FCT_Estrada_Dados!$H61)*(1-UTILITYFACTOR(FCT_Estrada_Dados!$G$13))),\"\")","v":""},{"$f":"IFERROR(IF(OR($N60=\"CD\",$N60=\"Transição\",$N60=\"n-1\",$N60=\"n\"),'Emissões 6.2.2.1 Estrada'!G60*(I60-I59),'Emissões 6.2.2.1 Estrada'!G60),\"\")","v":""},{"$f":"IF(ISNUMBER(A60),IF(OR($N60=\"CD\",$N60=\"Transição\",$N60=\"n-1\",$N60=\"n\"),'Emissões 6.2.2.1 Estrada'!H60*(I60-I59),(1-UTILITYFACTOR(FCT_Estrada_Dados!$G$13))*'Emissões 6.2.2.1 Estrada'!H60),\"\")","v":""},{"$f":"IF(ISNUMBER(A60),UTILITYFACTOR(A60*dEstrada),\"\")","v":""},{"$f":"IFERROR(IF(ISNUMBER(A60),G60/FCT_Estrada_Dados!H61,\"\"),\"\")","v":""},{"$f":"IFERROR(IF(ISNUMBER(A60),H60/FCT_Estrada_Dados!H61,\"\"),\"\")","v":""},{"$f":"IF(ISNUMBER(A60),100*((J60*0.0036)/VLOOKUP(CST_Urbano!$C$7,Combustíveis,2,FALSE)),\"\")","v":""},{"$f":"IF(ISNUMBER(A60),IF(OR($N60=\"CD\",$N60=\"Transição\",$N60=\"n-1\",$N60=\"n\"),FCT_Estrada_Dados!P61*(I60-I59),(FCT_Estrada_Dados!P61)*(1-UTILITYFACTOR(FCT_Estrada_Dados!$G$13))),\"\")","v":""},{"$f":"IF(ISNUMBER(A60),FCT_Estrada_Dados!S61,\"\")","v":""}]
[{"$f":"IF(ISNUMBER(FCT_Estrada_Dados!A62),FCT_Estrada_Dados!A62,\"\")","v":""},{"$f":"IF(ISNUMBER($A61),IF(OR($N61=\"CD\",$N61=\"Transição\",$N61=\"n-1\",$N61=\"n\"),(FCT_Estrada_Dados!B62/FCT_Estrada_Dados!$H62)*($I61-$I60),(FCT_Estrada_Dados!B62/FCT_Estrada_Dados!$H62)*(1-UTILITYFACTOR(FCT_Estrada_Dados!$G$13))),\"\")","v":""},{"$f":"IF(ISNUMBER($A61),IF(OR($N61=\"CD\",$N61=\"Transição\",$N61=\"n-1\",$N61=\"n\"),(FCT_Estrada_Dados!C62/FCT_Estrada_Dados!$H62)*($I61-$I60),(FCT_Estrada_Dados!C62/FCT_Estrada_Dados!$H62)*(1-UTILITYFACTOR(FCT_Estrada_Dados!$G$13))),\"\")","v":""},{"$f":"IF(ISNUMBER($A61),IF(OR($N61=\"CD\",$N61=\"Transição\",$N61=\"n-1\",$N61=\"n\"),(FCT_Estrada_Dados!D62/FCT_Estrada_Dados!$H62)*($I61-$I60),(FCT_Estrada_Dados!D62/FCT_Estrada_Dados!$H62)*(1-UTILITYFACTOR(FCT_Estrada_Dados!$G$13))),\"\")","v":""},{"$f":"IF(ISNUMBER($A61),IF(OR($N61=\"CD\",$N61=\"Transição\",$N61=\"n-1\",$N61=\"n\"),(FCT_Estrada_Dados!E62/FCT_Estrada_Dados!$H62)*($I61-$I60),(FCT_Estrada_Dados!E62/FCT_Estrada_Dados!$H62)*(1-UTILITYFACTOR(FCT_Estrada_Dados!$G$13))),\"\")","v":""},{"$f":"IF(ISNUMBER($A61),IF(OR($N61=\"CD\",$N61=\"Transição\",$N61=\"n-1\",$N61=\"n\"),(FCT_Estrada_Dados!G62/FCT_Estrada_Dados!$H62)*($I61-$I60),(FCT_Estrada_Dados!G62/FCT_Estrada_Dados!$H62)*(1-UTILITYFACTOR(FCT_Estrada_Dados!$G$13))),\"\")","v":""},{"$f":"IFERROR(IF(OR($N61=\"CD\",$N61=\"Transição\",$N61=\"n-1\",$N61=\"n\"),'Emissões 6.2.2.1 Estrada'!G61*(I61-I60),'Emissões 6.2.2.1 Estrada'!G61),\"\")","v":""},{"$f":"IF(ISNUMBER(A61),IF(OR($N61=\"CD\",$N61=\"Transição\",$N61=\"n-1\",$N61=\"n\"),'Emissões 6.2.2.1 Estrada'!H61*(I61-I60),(1-UTILITYFACTOR(FCT_Estrada_Dados!$G$13))*'Emissões 6.2.2.1 Estrada'!H61),\"\")","v":""},{"$f":"IF(ISNUMBER(A61),UTILITYFACTOR(A61*dEstrada),\"\")","v":""},{"$f":"IFERROR(IF(ISNUMBER(A61),G61/FCT_Estrada_Dados!H62,\"\"),\"\")","v":""},{"$f":"IFERROR(IF(ISNUMBER(A61),H61/FCT_Estrada_Dados!H62,\"\"),\"\")","v":""},{"$f":"IF(ISNUMBER(A61),100*((J61*0.0036)/VLOOKUP(CST_Urbano!$C$7,Combustíveis,2,FALSE)),\"\")","v":""},{"$f":"IF(ISNUMBER(A61),IF(OR($N61=\"CD\",$N61=\"Transição\",$N61=\"n-1\",$N61=\"n\"),FCT_Estrada_Dados!P62*(I61-I60),(FCT_Estrada_Dados!P62)*(1-UTILITYFACTOR(FCT_Estrada_Dados!$G$13))),\"\")","v":""},{"$f":"IF(ISNUMBER(A61),FCT_Estrada_Dados!S62,\"\")","v":""}]
[{"$f":"IF(ISNUMBER(FCT_Estrada_Dados!A63),FCT_Estrada_Dados!A63,\"\")","v":""},{"$f":"IF(ISNUMBER($A62),IF(OR($N62=\"CD\",$N62=\"Transição\",$N62=\"n-1\",$N62=\"n\"),(FCT_Estrada_Dados!B63/FCT_Estrada_Dados!$H63)*($I62-$I61),(FCT_Estrada_Dados!B63/FCT_Estrada_Dados!$H63)*(1-UTILITYFACTOR(FCT_Estrada_Dados!$G$13))),\"\")","v":""},{"$f":"IF(ISNUMBER($A62),IF(OR($N62=\"CD\",$N62=\"Transição\",$N62=\"n-1\",$N62=\"n\"),(FCT_Estrada_Dados!C63/FCT_Estrada_Dados!$H63)*($I62-$I61),(FCT_Estrada_Dados!C63/FCT_Estrada_Dados!$H63)*(1-UTILITYFACTOR(FCT_Estrada_Dados!$G$13))),\"\")","v":""},{"$f":"IF(ISNUMBER($A62),IF(OR($N62=\"CD\",$N62=\"Transição\",$N62=\"n-1\",$N62=\"n\"),(FCT_Estrada_Dados!D63/FCT_Estrada_Dados!$H63)*($I62-$I61),(FCT_Estrada_Dados!D63/FCT_Estrada_Dados!$H63)*(1-UTILITYFACTOR(FCT_Estrada_Dados!$G$13))),\"\")","v":""},{"$f":"IF(ISNUMBER($A62),IF(OR($N62=\"CD\",$N62=\"Transição\",$N62=\"n-1\",$N62=\"n\"),(FCT_Estrada_Dados!E63/FCT_Estrada_Dados!$H63)*($I62-$I61),(FCT_Estrada_Dados!E63/FCT_Estrada_Dados!$H63)*(1-UTILITYFACTOR(FCT_Estrada_Dados!$G$13))),\"\")","v":""},{"$f":"IF(ISNUMBER($A62),IF(OR($N62=\"CD\",$N62=\"Transição\",$N62=\"n-1\",$N62=\"n\"),(FCT_Estrada_Dados!G63/FCT_Estrada_Dados!$H63)*($I62-$I61),(FCT_Estrada_Dados!G63/FCT_Estrada_Dados!$H63)*(1-UTILITYFACTOR(FCT_Estrada_Dados!$G$13))),\"\")","v":""},{"$f":"IFERROR(IF(OR($N62=\"CD\",$N62=\"Transição\",$N62=\"n-1\",$N62=\"n\"),'Emissões 6.2.2.1 Estrada'!G62*(I62-I61),'Emissões 6.2.2.1 Estrada'!G62),\"\")","v":""},{"$f":"IF(ISNUMBER(A62),IF(OR($N62=\"CD\",$N62=\"Transição\",$N62=\"n-1\",$N62=\"n\"),'Emissões 6.2.2.1 Estrada'!H62*(I62-I61),(1-UTILITYFACTOR(FCT_Estrada_Dados!$G$13))*'Emissões 6.2.2.1 Estrada'!H62),\"\")","v":""},{"$f":"IF(ISNUMBER(A62),UTILITYFACTOR(A62*dEstrada),\"\")","v":""},{"$f":"IFERROR(IF(ISNUMBER(A62),G62/FCT_Estrada_Dados!H63,\"\"),\"\")","v":""},{"$f":"IFERROR(IF(ISNUMBER(A62),H62/FCT_Estrada_Dados!H63,\"\"),\"\")","v":""},{"$f":"IF(ISNUMBER(A62),100*((J62*0.0036)/VLOOKUP(CST_Urbano!$C$7,Combustíveis,2,FALSE)),\"\")","v":""},{"$f":"IF(ISNUMBER(A62),IF(OR($N62=\"CD\",$N62=\"Transição\",$N62=\"n-1\",$N62=\"n\"),FCT_Estrada_Dados!P63*(I62-I61),(FCT_Estrada_Dados!P63)*(1-UTILITYFACTOR(FCT_Estrada_Dados!$G$13))),\"\")","v":""},{"$f":"IF(ISNUMBER(A62),FCT_Estrada_Dados!S63,\"\")","v":""}]
[{"$f":"IF(ISNUMBER(FCT_Estrada_Dados!A64),FCT_Estrada_Dados!A64,\"\")","v":""},{"$f":"IF(ISNUMBER($A63),IF(OR($N63=\"CD\",$N63=\"Transição\",$N63=\"n-1\",$N63=\"n\"),(FCT_Estrada_Dados!B64/FCT_Estrada_Dados!$H64)*($I63-$I62),(FCT_Estrada_Dados!B64/FCT_Estrada_Dados!$H64)*(1-UTILITYFACTOR(FCT_Estrada_Dados!$G$13))),\"\")","v":""},{"$f":"IF(ISNUMBER($A63),IF(OR($N63=\"CD\",$N63=\"Transição\",$N63=\"n-1\",$N63=\"n\"),(FCT_Estrada_Dados!C64/FCT_Estrada_Dados!$H64)*($I63-$I62),(FCT_Estrada_Dados!C64/FCT_Estrada_Dados!$H64)*(1-UTILITYFACTOR(FCT_Estrada_Dados!$G$13))),\"\")","v":""},{"$f":"IF(ISNUMBER($A63),IF(OR($N63=\"CD\",$N63=\"Transição\",$N63=\"n-1\",$N63=\"n\"),(FCT_Estrada_Dados!D64/FCT_Estrada_Dados!$H64)*($I63-$I62),(FCT_Estrada_Dados!D64/FCT_Estrada_Dados!$H64)*(1-UTILITYFACTOR(FCT_Estrada_Dados!$G$13))),\"\")","v":""},{"$f":"IF(ISNUMBER($A63),IF(OR($N63=\"CD\",$N63=\"Transição\",$N63=\"n-1\",$N63=\"n\"),(FCT_Estrada_Dados!E64/FCT_Estrada_Dados!$H64)*($I63-$I62),(FCT_Estrada_Dados!E64/FCT_Estrada_Dados!$H64)*(1-UTILITYFACTOR(FCT_Estrada_Dados!$G$13))),\"\")","v":""},{"$f":"IF(ISNUMBER($A63),IF(OR($N63=\"CD\",$N63=\"Transição\",$N63=\"n-1\",$N63=\"n\"),(FCT_Estrada_Dados!G64/FCT_Estrada_Dados!$H64)*($I63-$I62),(FCT_Estrada_Dados!G64/FCT_Estrada_Dados!$H64)*(1-UTILITYFACTOR(FCT_Estrada_Dados!$G$13))),\"\")","v":""},{"$f":"IFERROR(IF(OR($N63=\"CD\",$N63=\"Transição\",$N63=\"n-1\",$N63=\"n\"),'Emissões 6.2.2.1 Estrada'!G63*(I63-I62),'Emissões 6.2.2.1 Estrada'!G63),\"\")","v":""},{"$f":"IF(ISNUMBER(A63),IF(OR($N63=\"CD\",$N63=\"Transição\",$N63=\"n-1\",$N63=\"n\"),'Emissões 6.2.2.1 Estrada'!H63*(I63-I62),(1-UTILITYFACTOR(FCT_Estrada_Dados!$G$13))*'Emissões 6.2.2.1 Estrada'!H63),\"\")","v":""},{"$f":"IF(ISNUMBER(A63),UTILITYFACTOR(A63*dEstrada),\"\")","v":""},{"$f":"IFERROR(IF(ISNUMBER(A63),G63/FCT_Estrada_Dados!H64,\"\"),\"\")","v":""},{"$f":"IFERROR(IF(ISNUMBER(A63),H63/FCT_Estrada_Dados!H64,\"\"),\"\")","v":""},{"$f":"IF(ISNUMBER(A63),100*((J63*0.0036)/VLOOKUP(CST_Urbano!$C$7,Combustíveis,2,FALSE)),\"\")","v":""},{"$f":"IF(ISNUMBER(A63),IF(OR($N63=\"CD\",$N63=\"Transição\",$N63=\"n-1\",$N63=\"n\"),FCT_Estrada_Dados!P64*(I63-I62),(FCT_Estrada_Dados!P64)*(1-UTILITYFACTOR(FCT_Estrada_Dados!$G$13))),\"\")","v":""},{"$f":"IF(ISNUMBER(A63),FCT_Estrada_Dados!S64,\"\")","v":""}]
[{"$f":"IF(ISNUMBER(FCT_Estrada_Dados!A65),FCT_Estrada_Dados!A65,\"\")","v":""},{"$f":"IF(ISNUMBER($A64),IF(OR($N64=\"CD\",$N64=\"Transição\",$N64=\"n-1\",$N64=\"n\"),(FCT_Estrada_Dados!B65/FCT_Estrada_Dados!$H65)*($I64-$I63),(FCT_Estrada_Dados!B65/FCT_Estrada_Dados!$H65)*(1-UTILITYFACTOR(FCT_Estrada_Dados!$G$13))),\"\")","v":""},{"$f":"IF(ISNUMBER($A64),IF(OR($N64=\"CD\",$N64=\"Transição\",$N64=\"n-1\",$N64=\"n\"),(FCT_Estrada_Dados!C65/FCT_Estrada_Dados!$H65)*($I64-$I63),(FCT_Estrada_Dados!C65/FCT_Estrada_Dados!$H65)*(1-UTILITYFACTOR(FCT_Estrada_Dados!$G$13))),\"\")","v":""},{"$f":"IF(ISNUMBER($A64),IF(OR($N64=\"CD\",$N64=\"Transição\",$N64=\"n-1\",$N64=\"n\"),(FCT_Estrada_Dados!D65/FCT_Estrada_Dados!$H65)*($I64-$I63),(FCT_Estrada_Dados!D65/FCT_Estrada_Dados!$H65)*(1-UTILITYFACTOR(FCT_Estrada_Dados!$G$13))),\"\")","v":""},{"$f":"IF(ISNUMBER($A64),IF(OR($N64=\"CD\",$N64=\"Transição\",$N64=\"n-1\",$N64=\"n\"),(FCT_Estrada_Dados!E65/FCT_Estrada_Dados!$H65)*($I64-$I63),(FCT_Estrada_Dados!E65/FCT_Estrada_Dados!$H65)*(1-UTILITYFACTOR(FCT_Estrada_Dados!$G$13))),\"\")","v":""},{"$f":"IF(ISNUMBER($A64),IF(OR($N64=\"CD\",$N64=\"Transição\",$N64=\"n-1\",$N64=\"n\"),(FCT_Estrada_Dados!G65/FCT_Estrada_Dados!$H65)*($I64-$I63),(FCT_Estrada_Dados!G65/FCT_Estrada_Dados!$H65)*(1-UTILITYFACTOR(FCT_Estrada_Dados!$G$13))),\"\")","v":""},{"$f":"IFERROR(IF(OR($N64=\"CD\",$N64=\"Transição\",$N64=\"n-1\",$N64=\"n\"),'Emissões 6.2.2.1 Estrada'!G64*(I64-I63),'Emissões 6.2.2.1 Estrada'!G64),\"\")","v":""},{"$f":"IF(ISNUMBER(A64),IF(OR($N64=\"CD\",$N64=\"Transição\",$N64=\"n-1\",$N64=\"n\"),'Emissões 6.2.2.1 Estrada'!H64*(I64-I63),(1-UTILITYFACTOR(FCT_Estrada_Dados!$G$13))*'Emissões 6.2.2.1 Estrada'!H64),\"\")","v":""},{"$f":"IF(ISNUMBER(A64),UTILITYFACTOR(A64*dEstrada),\"\")","v":""},{"$f":"IFERROR(IF(ISNUMBER(A64),G64/FCT_Estrada_Dados!H65,\"\"),\"\")","v":""},{"$f":"IFERROR(IF(ISNUMBER(A64),H64/FCT_Estrada_Dados!H65,\"\"),\"\")","v":""},{"$f":"IF(ISNUMBER(A64),100*((J64*0.0036)/VLOOKUP(CST_Urbano!$C$7,Combustíveis,2,FALSE)),\"\")","v":""},{"$f":"IF(ISNUMBER(A64),IF(OR($N64=\"CD\",$N64=\"Transição\",$N64=\"n-1\",$N64=\"n\"),FCT_Estrada_Dados!P65*(I64-I63),(FCT_Estrada_Dados!P65)*(1-UTILITYFACTOR(FCT_Estrada_Dados!$G$13))),\"\")","v":""},{"$f":"IF(ISNUMBER(A64),FCT_Estrada_Dados!S65,\"\")","v":""}]
[{"$f":"IF(ISNUMBER(FCT_Estrada_Dados!A66),FCT_Estrada_Dados!A66,\"\")","v":""},{"$f":"IF(ISNUMBER($A65),IF(OR($N65=\"CD\",$N65=\"Transição\",$N65=\"n-1\",$N65=\"n\"),(FCT_Estrada_Dados!B66/FCT_Estrada_Dados!$H66)*($I65-$I64),(FCT_Estrada_Dados!B66/FCT_Estrada_Dados!$H66)*(1-UTILITYFACTOR(FCT_Estrada_Dados!$G$13))),\"\")","v":""},{"$f":"IF(ISNUMBER($A65),IF(OR($N65=\"CD\",$N65=\"Transição\",$N65=\"n-1\",$N65=\"n\"),(FCT_Estrada_Dados!C66/FCT_Estrada_Dados!$H66)*($I65-$I64),(FCT_Estrada_Dados!C66/FCT_Estrada_Dados!$H66)*(1-UTILITYFACTOR(FCT_Estrada_Dados!$G$13))),\"\")","v":""},{"$f":"IF(ISNUMBER($A65),IF(OR($N65=\"CD\",$N65=\"Transição\",$N65=\"n-1\",$N65=\"n\"),(FCT_Estrada_Dados!D66/FCT_Estrada_Dados!$H66)*($I65-$I64),(FCT_Estrada_Dados!D66/FCT_Estrada_Dados!$H66)*(1-UTILITYFACTOR(FCT_Estrada_Dados!$G$13))),\"\")","v":""},{"$f":"IF(ISNUMBER($A65),IF(OR($N65=\"CD\",$N65=\"Transição\",$N65=\"n-1\",$N65=\"n\"),(FCT_Estrada_Dados!E66/FCT_Estrada_Dados!$H66)*($I65-$I64),(FCT_Estrada_Dados!E66/FCT_Estrada_Dados!$H66)*(1-UTILITYFACTOR(FCT_Estrada_Dados!$G$13))),\"\")","v":""},{"$f":"IF(ISNUMBER($A65),IF(OR($N65=\"CD\",$N65=\"Transição\",$N65=\"n-1\",$N65=\"n\"),(FCT_Estrada_Dados!G66/FCT_Estrada_Dados!$H66)*($I65-$I64),(FCT_Estrada_Dados!G66/FCT_Estrada_Dados!$H66)*(1-UTILITYFACTOR(FCT_Estrada_Dados!$G$13))),\"\")","v":""},{"$f":"IFERROR(IF(OR($N65=\"CD\",$N65=\"Transição\",$N65=\"n-1\",$N65=\"n\"),'Emissões 6.2.2.1 Estrada'!G65*(I65-I64),'Emissões 6.2.2.1 Estrada'!G65),\"\")","v":""},{"$f":"IF(ISNUMBER(A65),IF(OR($N65=\"CD\",$N65=\"Transição\",$N65=\"n-1\",$N65=\"n\"),'Emissões 6.2.2.1 Estrada'!H65*(I65-I64),(1-UTILITYFACTOR(FCT_Estrada_Dados!$G$13))*'Emissões 6.2.2.1 Estrada'!H65),\"\")","v":""},{"$f":"IF(ISNUMBER(A65),UTILITYFACTOR(A65*dEstrada),\"\")","v":""},{"$f":"IFERROR(IF(ISNUMBER(A65),G65/FCT_Estrada_Dados!H66,\"\"),\"\")","v":""},{"$f":"IFERROR(IF(ISNUMBER(A65),H65/FCT_Estrada_Dados!H66,\"\"),\"\")","v":""},{"$f":"IF(ISNUMBER(A65),100*((J65*0.0036)/VLOOKUP(CST_Urbano!$C$7,Combustíveis,2,FALSE)),\"\")","v":""},{"$f":"IF(ISNUMBER(A65),IF(OR($N65=\"CD\",$N65=\"Transição\",$N65=\"n-1\",$N65=\"n\"),FCT_Estrada_Dados!P66*(I65-I64),(FCT_Estrada_Dados!P66)*(1-UTILITYFACTOR(FCT_Estrada_Dados!$G$13))),\"\")","v":""},{"$f":"IF(ISNUMBER(A65),FCT_Estrada_Dados!S66,\"\")","v":""}]
[{"$f":"IF(ISNUMBER(FCT_Estrada_Dados!A67),FCT_Estrada_Dados!A67,\"\")","v":""},{"$f":"IF(ISNUMBER($A66),IF(OR($N66=\"CD\",$N66=\"Transição\",$N66=\"n-1\",$N66=\"n\"),(FCT_Estrada_Dados!B67/FCT_Estrada_Dados!$H67)*($I66-$I65),(FCT_Estrada_Dados!B67/FCT_Estrada_Dados!$H67)*(1-UTILITYFACTOR(FCT_Estrada_Dados!$G$13))),\"\")","v":""},{"$f":"IF(ISNUMBER($A66),IF(OR($N66=\"CD\",$N66=\"Transição\",$N66=\"n-1\",$N66=\"n\"),(FCT_Estrada_Dados!C67/FCT_Estrada_Dados!$H67)*($I66-$I65),(FCT_Estrada_Dados!C67/FCT_Estrada_Dados!$H67)*(1-UTILITYFACTOR(FCT_Estrada_Dados!$G$13))),\"\")","v":""},{"$f":"IF(ISNUMBER($A66),IF(OR($N66=\"CD\",$N66=\"Transição\",$N66=\"n-1\",$N66=\"n\"),(FCT_Estrada_Dados!D67/FCT_Estrada_Dados!$H67)*($I66-$I65),(FCT_Estrada_Dados!D67/FCT_Estrada_Dados!$H67)*(1-UTILITYFACTOR(FCT_Estrada_Dados!$G$13))),\"\")","v":""},{"$f":"IF(ISNUMBER($A66),IF(OR($N66=\"CD\",$N66=\"Transição\",$N66=\"n-1\",$N66=\"n\"),(FCT_Estrada_Dados!E67/FCT_Estrada_Dados!$H67)*($I66-$I65),(FCT_Estrada_Dados!E67/FCT_Estrada_Dados!$H67)*(1-UTILITYFACTOR(FCT_Estrada_Dados!$G$13))),\"\")","v":""},{"$f":"IF(ISNUMBER($A66),IF(OR($N66=\"CD\",$N66=\"Transição\",$N66=\"n-1\",$N66=\"n\"),(FCT_Estrada_Dados!G67/FCT_Estrada_Dados!$H67)*($I66-$I65),(FCT_Estrada_Dados!G67/FCT_Estrada_Dados!$H67)*(1-UTILITYFACTOR(FCT_Estrada_Dados!$G$13))),\"\")","v":""},{"$f":"IFERROR(IF(OR($N66=\"CD\",$N66=\"Transição\",$N66=\"n-1\",$N66=\"n\"),'Emissões 6.2.2.1 Estrada'!G66*(I66-I65),'Emissões 6.2.2.1 Estrada'!G66),\"\")","v":""},{"$f":"IF(ISNUMBER(A66),IF(OR($N66=\"CD\",$N66=\"Transição\",$N66=\"n-1\",$N66=\"n\"),'Emissões 6.2.2.1 Estrada'!H66*(I66-I65),(1-UTILITYFACTOR(FCT_Estrada_Dados!$G$13))*'Emissões 6.2.2.1 Estrada'!H66),\"\")","v":""},{"$f":"IF(ISNUMBER(A66),UTILITYFACTOR(A66*dEstrada),\"\")","v":""},{"$f":"IFERROR(IF(ISNUMBER(A66),G66/FCT_Estrada_Dados!H67,\"\"),\"\")","v":""},{"$f":"IFERROR(IF(ISNUMBER(A66),H66/FCT_Estrada_Dados!H67,\"\"),\"\")","v":""},{"$f":"IF(ISNUMBER(A66),100*((J66*0.0036)/VLOOKUP(CST_Urbano!$C$7,Combustíveis,2,FALSE)),\"\")","v":""},{"$f":"IF(ISNUMBER(A66),IF(OR($N66=\"CD\",$N66=\"Transição\",$N66=\"n-1\",$N66=\"n\"),FCT_Estrada_Dados!P67*(I66-I65),(FCT_Estrada_Dados!P67)*(1-UTILITYFACTOR(FCT_Estrada_Dados!$G$13))),\"\")","v":""},{"$f":"IF(ISNUMBER(A66),FCT_Estrada_Dados!S67,\"\")","v":""}]
[{"$f":"IF(ISNUMBER(FCT_Estrada_Dados!A68),FCT_Estrada_Dados!A68,\"\")","v":""},{"$f":"IF(ISNUMBER($A67),IF(OR($N67=\"CD\",$N67=\"Transição\",$N67=\"n-1\",$N67=\"n\"),(FCT_Estrada_Dados!B68/FCT_Estrada_Dados!$H68)*($I67-$I66),(FCT_Estrada_Dados!B68/FCT_Estrada_Dados!$H68)*(1-UTILITYFACTOR(FCT_Estrada_Dados!$G$13))),\"\")","v":""},{"$f":"IF(ISNUMBER($A67),IF(OR($N67=\"CD\",$N67=\"Transição\",$N67=\"n-1\",$N67=\"n\"),(FCT_Estrada_Dados!C68/FCT_Estrada_Dados!$H68)*($I67-$I66),(FCT_Estrada_Dados!C68/FCT_Estrada_Dados!$H68)*(1-UTILITYFACTOR(FCT_Estrada_Dados!$G$13))),\"\")","v":""},{"$f":"IF(ISNUMBER($A67),IF(OR($N67=\"CD\",$N67=\"Transição\",$N67=\"n-1\",$N67=\"n\"),(FCT_Estrada_Dados!D68/FCT_Estrada_Dados!$H68)*($I67-$I66),(FCT_Estrada_Dados!D68/FCT_Estrada_Dados!$H68)*(1-UTILITYFACTOR(FCT_Estrada_Dados!$G$13))),\"\")","v":""},{"$f":"IF(ISNUMBER($A67),IF(OR($N67=\"CD\",$N67=\"Transição\",$N67=\"n-1\",$N67=\"n\"),(FCT_Estrada_Dados!E68/FCT_Estrada_Dados!$H68)*($I67-$I66),(FCT_Estrada_Dados!E68/FCT_Estrada_Dados!$H68)*(1-UTILITYFACTOR(FCT_Estrada_Dados!$G$13))),\"\")","v":""},{"$f":"IF(ISNUMBER($A67),IF(OR($N67=\"CD\",$N67=\"Transição\",$N67=\"n-1\",$N67=\"n\"),(FCT_Estrada_Dados!G68/FCT_Estrada_Dados!$H68)*($I67-$I66),(FCT_Estrada_Dados!G68/FCT_Estrada_Dados!$H68)*(1-UTILITYFACTOR(FCT_Estrada_Dados!$G$13))),\"\")","v":""},{"$f":"IFERROR(IF(OR($N67=\"CD\",$N67=\"Transição\",$N67=\"n-1\",$N67=\"n\"),'Emissões 6.2.2.1 Estrada'!G67*(I67-I66),'Emissões 6.2.2.1 Estrada'!G67),\"\")","v":""},{"$f":"IF(ISNUMBER(A67),IF(OR($N67=\"CD\",$N67=\"Transição\",$N67=\"n-1\",$N67=\"n\"),'Emissões 6.2.2.1 Estrada'!H67*(I67-I66),(1-UTILITYFACTOR(FCT_Estrada_Dados!$G$13))*'Emissões 6.2.2.1 Estrada'!H67),\"\")","v":""},{"$f":"IF(ISNUMBER(A67),UTILITYFACTOR(A67*dEstrada),\"\")","v":""},{"$f":"IFERROR(IF(ISNUMBER(A67),G67/FCT_Estrada_Dados!H68,\"\"),\"\")","v":""},{"$f":"IFERROR(IF(ISNUMBER(A67),H67/FCT_Estrada_Dados!H68,\"\"),\"\")","v":""},{"$f":"IF(ISNUMBER(A67),100*((J67*0.0036)/VLOOKUP(CST_Urbano!$C$7,Combustíveis,2,FALSE)),\"\")","v":""},{"$f":"IF(ISNUMBER(A67),IF(OR($N67=\"CD\",$N67=\"Transição\",$N67=\"n-1\",$N67=\"n\"),FCT_Estrada_Dados!P68*(I67-I66),(FCT_Estrada_Dados!P68)*(1-UTILITYFACTOR(FCT_Estrada_Dados!$G$13))),\"\")","v":""},{"$f":"IF(ISNUMBER(A67),FCT_Estrada_Dados!S68,\"\")","v":""}]
[{"$f":"IF(ISNUMBER(FCT_Estrada_Dados!A69),FCT_Estrada_Dados!A69,\"\")","v":""},{"$f":"IF(ISNUMBER($A68),IF(OR($N68=\"CD\",$N68=\"Transição\",$N68=\"n-1\",$N68=\"n\"),(FCT_Estrada_Dados!B69/FCT_Estrada_Dados!$H69)*($I68-$I67),(FCT_Estrada_Dados!B69/FCT_Estrada_Dados!$H69)*(1-UTILITYFACTOR(FCT_Estrada_Dados!$G$13))),\"\")","v":""},{"$f":"IF(ISNUMBER($A68),IF(OR($N68=\"CD\",$N68=\"Transição\",$N68=\"n-1\",$N68=\"n\"),(FCT_Estrada_Dados!C69/FCT_Estrada_Dados!$H69)*($I68-$I67),(FCT_Estrada_Dados!C69/FCT_Estrada_Dados!$H69)*(1-UTILITYFACTOR(FCT_Estrada_Dados!$G$13))),\"\")","v":""},{"$f":"IF(ISNUMBER($A68),IF(OR($N68=\"CD\",$N68=\"Transição\",$N68=\"n-1\",$N68=\"n\"),(FCT_Estrada_Dados!D69/FCT_Estrada_Dados!$H69)*($I68-$I67),(FCT_Estrada_Dados!D69/FCT_Estrada_Dados!$H69)*(1-UTILITYFACTOR(FCT_Estrada_Dados!$G$13))),\"\")","v":""},{"$f":"IF(ISNUMBER($A68),IF(OR($N68=\"CD\",$N68=\"Transição\",$N68=\"n-1\",$N68=\"n\"),(FCT_Estrada_Dados!E69/FCT_Estrada_Dados!$H69)*($I68-$I67),(FCT_Estrada_Dados!E69/FCT_Estrada_Dados!$H69)*(1-UTILITYFACTOR(FCT_Estrada_Dados!$G$13))),\"\")","v":""},{"$f":"IF(ISNUMBER($A68),IF(OR($N68=\"CD\",$N68=\"Transição\",$N68=\"n-1\",$N68=\"n\"),(FCT_Estrada_Dados!G69/FCT_Estrada_Dados!$H69)*($I68-$I67),(FCT_Estrada_Dados!G69/FCT_Estrada_Dados!$H69)*(1-UTILITYFACTOR(FCT_Estrada_Dados!$G$13))),\"\")","v":""},{"$f":"IFERROR(IF(OR($N68=\"CD\",$N68=\"Transição\",$N68=\"n-1\",$N68=\"n\"),'Emissões 6.2.2.1 Estrada'!G68*(I68-I67),'Emissões 6.2.2.1 Estrada'!G68),\"\")","v":""},{"$f":"IF(ISNUMBER(A68),IF(OR($N68=\"CD\",$N68=\"Transição\",$N68=\"n-1\",$N68=\"n\"),'Emissões 6.2.2.1 Estrada'!H68*(I68-I67),(1-UTILITYFACTOR(FCT_Estrada_Dados!$G$13))*'Emissões 6.2.2.1 Estrada'!H68),\"\")","v":""},{"$f":"IF(ISNUMBER(A68),UTILITYFACTOR(A68*dEstrada),\"\")","v":""},{"$f":"IFERROR(IF(ISNUMBER(A68),G68/FCT_Estrada_Dados!H69,\"\"),\"\")","v":""},{"$f":"IFERROR(IF(ISNUMBER(A68),H68/FCT_Estrada_Dados!H69,\"\"),\"\")","v":""},{"$f":"IF(ISNUMBER(A68),100*((J68*0.0036)/VLOOKUP(CST_Urbano!$C$7,Combustíveis,2,FALSE)),\"\")","v":""},{"$f":"IF(ISNUMBER(A68),IF(OR($N68=\"CD\",$N68=\"Transição\",$N68=\"n-1\",$N68=\"n\"),FCT_Estrada_Dados!P69*(I68-I67),(FCT_Estrada_Dados!P69)*(1-UTILITYFACTOR(FCT_Estrada_Dados!$G$13))),\"\")","v":""},{"$f":"IF(ISNUMBER(A68),FCT_Estrada_Dados!S69,\"\")","v":""}]
[{"$f":"IF(ISNUMBER(FCT_Estrada_Dados!A70),FCT_Estrada_Dados!A70,\"\")","v":""},{"$f":"IF(ISNUMBER($A69),IF(OR($N69=\"CD\",$N69=\"Transição\",$N69=\"n-1\",$N69=\"n\"),(FCT_Estrada_Dados!B70/FCT_Estrada_Dados!$H70)*($I69-$I68),(FCT_Estrada_Dados!B70/FCT_Estrada_Dados!$H70)*(1-UTILITYFACTOR(FCT_Estrada_Dados!$G$13))),\"\")","v":""},{"$f":"IF(ISNUMBER($A69),IF(OR($N69=\"CD\",$N69=\"Transição\",$N69=\"n-1\",$N69=\"n\"),(FCT_Estrada_Dados!C70/FCT_Estrada_Dados!$H70)*($I69-$I68),(FCT_Estrada_Dados!C70/FCT_Estrada_Dados!$H70)*(1-UTILITYFACTOR(FCT_Estrada_Dados!$G$13))),\"\")","v":""},{"$f":"IF(ISNUMBER($A69),IF(OR($N69=\"CD\",$N69=\"Transição\",$N69=\"n-1\",$N69=\"n\"),(FCT_Estrada_Dados!D70/FCT_Estrada_Dados!$H70)*($I69-$I68),(FCT_Estrada_Dados!D70/FCT_Estrada_Dados!$H70)*(1-UTILITYFACTOR(FCT_Estrada_Dados!$G$13))),\"\")","v":""},{"$f":"IF(ISNUMBER($A69),IF(OR($N69=\"CD\",$N69=\"Transição\",$N69=\"n-1\",$N69=\"n\"),(FCT_Estrada_Dados!E70/FCT_Estrada_Dados!$H70)*($I69-$I68),(FCT_Estrada_Dados!E70/FCT_Estrada_Dados!$H70)*(1-UTILITYFACTOR(FCT_Estrada_Dados!$G$13))),\"\")","v":""},{"$f":"IF(ISNUMBER($A69),IF(OR($N69=\"CD\",$N69=\"Transição\",$N69=\"n-1\",$N69=\"n\"),(FCT_Estrada_Dados!G70/FCT_Estrada_Dados!$H70)*($I69-$I68),(FCT_Estrada_Dados!G70/FCT_Estrada_Dados!$H70)*(1-UTILITYFACTOR(FCT_Estrada_Dados!$G$13))),\"\")","v":""},{"$f":"IFERROR(IF(OR($N69=\"CD\",$N69=\"Transição\",$N69=\"n-1\",$N69=\"n\"),'Emissões 6.2.2.1 Estrada'!G69*(I69-I68),'Emissões 6.2.2.1 Estrada'!G69),\"\")","v":""},{"$f":"IF(ISNUMBER(A69),IF(OR($N69=\"CD\",$N69=\"Transição\",$N69=\"n-1\",$N69=\"n\"),'Emissões 6.2.2.1 Estrada'!H69*(I69-I68),(1-UTILITYFACTOR(FCT_Estrada_Dados!$G$13))*'Emissões 6.2.2.1 Estrada'!H69),\"\")","v":""},{"$f":"IF(ISNUMBER(A69),UTILITYFACTOR(A69*dEstrada),\"\")","v":""},{"$f":"IFERROR(IF(ISNUMBER(A69),G69/FCT_Estrada_Dados!H70,\"\"),\"\")","v":""},{"$f":"IFERROR(IF(ISNUMBER(A69),H69/FCT_Estrada_Dados!H70,\"\"),\"\")","v":""},{"$f":"IF(ISNUMBER(A69),100*((J69*0.0036)/VLOOKUP(CST_Urbano!$C$7,Combustíveis,2,FALSE)),\"\")","v":""},{"$f":"IF(ISNUMBER(A69),IF(OR($N69=\"CD\",$N69=\"Transição\",$N69=\"n-1\",$N69=\"n\"),FCT_Estrada_Dados!P70*(I69-I68),(FCT_Estrada_Dados!P70)*(1-UTILITYFACTOR(FCT_Estrada_Dados!$G$13))),\"\")","v":""},{"$f":"IF(ISNUMBER(A69),FCT_Estrada_Dados!S70,\"\")","v":""}]
[{"$f":"IF(ISNUMBER(FCT_Estrada_Dados!A71),FCT_Estrada_Dados!A71,\"\")","v":""},{"$f":"IF(ISNUMBER($A70),IF(OR($N70=\"CD\",$N70=\"Transição\",$N70=\"n-1\",$N70=\"n\"),(FCT_Estrada_Dados!B71/FCT_Estrada_Dados!$H71)*($I70-$I69),(FCT_Estrada_Dados!B71/FCT_Estrada_Dados!$H71)*(1-UTILITYFACTOR(FCT_Estrada_Dados!$G$13))),\"\")","v":""},{"$f":"IF(ISNUMBER($A70),IF(OR($N70=\"CD\",$N70=\"Transição\",$N70=\"n-1\",$N70=\"n\"),(FCT_Estrada_Dados!C71/FCT_Estrada_Dados!$H71)*($I70-$I69),(FCT_Estrada_Dados!C71/FCT_Estrada_Dados!$H71)*(1-UTILITYFACTOR(FCT_Estrada_Dados!$G$13))),\"\")","v":""},{"$f":"IF(ISNUMBER($A70),IF(OR($N70=\"CD\",$N70=\"Transição\",$N70=\"n-1\",$N70=\"n\"),(FCT_Estrada_Dados!D71/FCT_Estrada_Dados!$H71)*($I70-$I69),(FCT_Estrada_Dados!D71/FCT_Estrada_Dados!$H71)*(1-UTILITYFACTOR(FCT_Estrada_Dados!$G$13))),\"\")","v":""},{"$f":"IF(ISNUMBER($A70),IF(OR($N70=\"CD\",$N70=\"Transição\",$N70=\"n-1\",$N70=\"n\"),(FCT_Estrada_Dados!E71/FCT_Estrada_Dados!$H71)*($I70-$I69),(FCT_Estrada_Dados!E71/FCT_Estrada_Dados!$H71)*(1-UTILITYFACTOR(FCT_Estrada_Dados!$G$13))),\"\")","v":""},{"$f":"IF(ISNUMBER($A70),IF(OR($N70=\"CD\",$N70=\"Transição\",$N70=\"n-1\",$N70=\"n\"),(FCT_Estrada_Dados!G71/FCT_Estrada_Dados!$H71)*($I70-$I69),(FCT_Estrada_Dados!G71/FCT_Estrada_Dados!$H71)*(1-UTILITYFACTOR(FCT_Estrada_Dados!$G$13))),\"\")","v":""},{"$f":"IFERROR(IF(OR($N70=\"CD\",$N70=\"Transição\",$N70=\"n-1\",$N70=\"n\"),'Emissões 6.2.2.1 Estrada'!G70*(I70-I69),'Emissões 6.2.2.1 Estrada'!G70),\"\")","v":""},{"$f":"IF(ISNUMBER(A70),IF(OR($N70=\"CD\",$N70=\"Transição\",$N70=\"n-1\",$N70=\"n\"),'Emissões 6.2.2.1 Estrada'!H70*(I70-I69),(1-UTILITYFACTOR(FCT_Estrada_Dados!$G$13))*'Emissões 6.2.2.1 Estrada'!H70),\"\")","v":""},{"$f":"IF(ISNUMBER(A70),UTILITYFACTOR(A70*dEstrada),\"\")","v":""},{"$f":"IFERROR(IF(ISNUMBER(A70),G70/FCT_Estrada_Dados!H71,\"\"),\"\")","v":""},{"$f":"IFERROR(IF(ISNUMBER(A70),H70/FCT_Estrada_Dados!H71,\"\"),\"\")","v":""},{"$f":"IF(ISNUMBER(A70),100*((J70*0.0036)/VLOOKUP(CST_Urbano!$C$7,Combustíveis,2,FALSE)),\"\")","v":""},{"$f":"IF(ISNUMBER(A70),IF(OR($N70=\"CD\",$N70=\"Transição\",$N70=\"n-1\",$N70=\"n\"),FCT_Estrada_Dados!P71*(I70-I69),(FCT_Estrada_Dados!P71)*(1-UTILITYFACTOR(FCT_Estrada_Dados!$G$13))),\"\")","v":""},{"$f":"IF(ISNUMBER(A70),FCT_Estrada_Dados!S71,\"\")","v":""}]

{"sheet":"Sumário & Médias","index":8,"n_rows":47,"n_cols":13,"rows_kept":47,"cut":false,"hidden":false,"merged":[[43,0,43,4],[46,0,46,4],[28,5,28,7],[31,0,31,4],[33,5,33,7],[35,0,35,4],[36,5,36,7],[39,0,39,4],[27,5,27,7],[8,5,8,12],[11,0,11,4],[12,0,12,4],[14,5,14,9],[17,0,17,4],[18,0,18,4],[20,5,20,10],[21,5,21,7],[21,8,21,10],[24,0,24,4],[25,0,25,4],[5,0,5,1],[5,2,5,3],[5,4,5,5],[5,6,5,7],[6,0,6,1],[6,2,6,3],[6,4,6,5],[6,6,6,7],[0,1,0,13],[1,1,1,13],[2,1,2,13],[3,0,3,8],[4,0,4,1],[4,2,4,3],[4,4,4,5],[4,6,4,7]]}
[null,"Cálculos de veículos híbridos"]
[null,"Sumário dos resultados e médias de emissões e consumos"]
[null,"    Versão 8"]
["Dados do veículo e do ensaio"]
["id do veículo",null,{"$f":"IF(ISBLANK(CST_Urbano!C5),\"\",CST_Urbano!C5)","v":""},null,"Capacidade do RESS",null,{"$f":"IF(ISBLANK(CST_Urbano!G5),\"\",CST_Urbano!G5)","v":""},null,"Ah"]
["nº do processo",null,{"$f":"IF(ISBLANK(CST_Urbano!C6),\"\",CST_Urbano!C6)","v":""},null,"Vsist1",null,{"$f":"IF(ISBLANK(CST_Urbano!G6),\"\",CST_Urbano!G6)","v":""},null,"V",null," "]
["Combustível do ensaio",null,{"$f":"IF(ISBLANK(CST_Urbano!C7),\"\",CST_Urbano!C7)","v":""},null,"Vsist2",null,{"$f":"IF(ISBLANK(CST_Urbano!G7),\"\",CST_Urbano!G7)","v":""},null,"V"]
[]
[null,null,null,null,null,"Resultado das emissões no ciclo urbano"]
[null,null,null,null,null,"CO","HC","NOx","CO2","NMHC","NMOG","Aldeídos","M.P."]
[null,null,null,null,null,"(g/km)","(g/km)","(g/km)","(g/km)","(g/km)","(g/km)","(g/km)","(g/km)"]
["CST (Energia líquida proveniente do combustível consumível) - YCST",null,null,null,null,{"$f":"IF(ISNUMBER(CST_Urbano!B18),CST_Urbano!B18,\"\")","v":""},{"$f":"IF(ISNUMBER(CST_Urbano!C18),CST_Urbano!C18,\"\")","v":""},{"$f":"IF(ISNUMBER(CST_Urbano!D18),CST_Urbano!D18,\"\")","v":""},{"$f":"IF(ISNUMBER(CST_Urbano!E18),CST_Urbano!E18,\"\")","v":""},{"$f":"IF(ISNUMBER(CST_Urbano!G18),CST_Urbano!G18,\"\")","v":""},{"$f":"IF(ISNUMBER(CST_Urbano!H18),CST_Urbano!H18,\"\")","v":""},{"$f":"IF(ISNUMBER(CST_Urbano!I18),CST_Urbano!I18,\"\")","v":""},{"$f":"IF(ISNUMBER(CST_Urbano!J18),CST_Urbano!J18,\"\")","v":""}]
["FCT Ponderado (YUFW) - \"Predominante Elétrico\"",null,null,null,null,{"$f":"IF(ISNUMBER('Emissões 6.2.2.2 Urbano'!B12),'Emissões 6.2.2.2 Urbano'!B12,\"\")","v":""},{"$f":"IF(ISNUMBER('Emissões 6.2.2.2 Urbano'!C12),'Emissões 6.2.2.2 Urbano'!C12,\"\")","v":""},{"$f":"IF(ISNUMBER('Emissões 6.2.2.2 Urbano'!D12),'Emissões 6.2.2.2 Urbano'!D12,\"\")","v":""},{"$f":"IF(ISNUMBER('Emissões 6.2.2.2 Urbano'!E12),'Emissões 6.2.2.2 Urbano'!E12,\"\")","v":""},{"$f":"IF(ISNUMBER('Emissões 6.2.2.2 Urbano'!F12),'Emissões 6.2.2.2 Urbano'!F12,\"\")","v":""}]
[]
[null,null,null,null,null,"Resultado das emissões no ciclo estrada"]
[null,null,null,null,null,"CO","HC","NOx","CO2","NMHC"]
[null,null,null,null,null,"(g/km)","(g/km)","(g/km)","(g/km)","(g/km)"]
["CST (Energia líquida proveniente do combustível consumível) - YCST",null,null,null,null,{"$f":"IF(ISNUMBER(CST_Estrada!B17),CST_Estrada!B17,\"\")","v":""},{"$f":"IF(ISNUMBER(CST_Estrada!C17),CST_Estrada!C17,\"\")","v":""},{"$f":"IF(ISNUMBER(CST_Estrada!D17),CST_Estrada!D17,\"\")","v":""},{"$f":"IF(ISNUMBER(CST_Estrada!E17),CST_Estrada!E17,\"\")","v":""},{"$f":"IF(ISNUMBER(CST_Estrada!G17),CST_Estrada!G17,\"\")","v":""}]
["FCT Ponderado (YUFW) - \"Predominante Elétrico\"",null,null,null,null,{"$f":"IF(ISNUMBER('Emissões 6.2.2.2 Estrada'!B12),'Emissões 6.2.2.2 Estrada'!B12,\"\")","v":""},{"$f":"IF(ISNUMBER('Emissões 6.2.2.2 Estrada'!C12),'Emissões 6.2.2.2 Estrada'!C12,\"\")","v":""},{"$f":"IF(ISNUMBER('Emissões 6.2.2.2 Estrada'!D12),'Emissões 6.2.2.2 Estrada'!D12,\"\")","v":""},{"$f":"IF(ISNUMBER('Emissões 6.2.2.2 Estrada'!E12),'Emissões 6.2.2.2 Estrada'!E12,\"\")","v":""},{"$f":"IF(ISNUMBER('Emissões 6.2.2.2 Estrada'!F12),'Emissões 6.2.2.2 Estrada'!F12,\"\")","v":""}]
[]
[null,null,null,null,null,"Dados intermediários para cálculo"]
[null,null,null,null,null,"Combustível",null,null,"AC equivalente"]
[null,null,null,null,null,"Urbano","Estrada","Combinado","Urbano","Estrada","Combinado"]
[null,null,null,null,null,"(km/l)","(km/l)","(km/l)","(km/l)","(km/l)","(km/l)"]
["CST (Energia líquida proveniente do combustível consumível) - YCST",null,null,null,null,{"$f":"IF(ISNUMBER(CST_Urbano!C20),CST_Urbano!C20,\"\")","v":""},{"$f":"IF(ISNUMBER(CST_Estrada!C19),CST_Estrada!C19,\"\")","v":""},{"$f":"IF(ISNUMBER(CST_Estrada!C20),CST_Estrada!C20,\"\")","v":""},{"$f":"IF(ISNUMBER(F25),0,\"\")","v":""},{"$f":"IF(ISNUMBER(G25),0,\"\")","v":""},{"$f":"IF(AND(ISNUMBER(I25),ISNUMBER(J25)),0,\"\")","v":""}]
["FCT Ponderado (YUFW) e (ECcd) - \"Predominante Elétrico\"",null,null,null,null,{"$f":"IF(ISNUMBER('Emissões 6.2.2.2 Urbano'!H12),100/'Emissões 6.2.2.2 Urbano'!H12,\"\")","v":""},{"$f":"IF(ISNUMBER('Emissões 6.2.2.2 Estrada'!H12),100/'Emissões 6.2.2.2 Estrada'!H12,\"\")","v":""},"-",{"$f":"IF(ISNUMBER('Emissões 6.2.2.1 Urbano'!I12),100/'Emissões 6.2.2.1 Urbano'!I12,\"\")","v":""},{"$f":"IF(ISNUMBER('Emissões 6.2.2.1 Estrada'!I12),100/'Emissões 6.2.2.1 Estrada'!I12,\"\")","v":""},"-"]
[]
[null,null,null,null,null,"Resultado das autonomias (CST)"]
[null,null,null,null,null,"Combustível"]
[null,null,null,null,null,"Urbano","Estrada","Combinado"]
[null,null,null,null,null,"(km/l)","(km/l)","(km/l)"]
["CST (Energia líquida proveniente do combustível consumível) - YCST",null,null,null,null,{"$f":"IF(ISNUMBER(F25),F25,\"\")","v":""},{"$f":"IF(ISNUMBER(G25),G25,\"\")","v":""},{"$f":"IF(ISNUMBER(H25),H25,\"\")","v":""}]
[]
[null,null,null,null,null,"Resultado das autonomias (FCT)"]
[null,null,null,null,null,"Urbano","Estrada"]
["FCT UF (Fator de Utilização) - UF(RCDC)",null,null,null,null,{"$f":"IF(ISNUMBER(FCT_Urbano_Dados!G13),UTILITYFACTOR(FCT_Urbano_Dados!G13),\"\")","v":""},{"$f":"IF(ISNUMBER(FCT_Estrada_Dados!G13),UTILITYFACTOR(FCT_Estrada_Dados!G13),\"\")","v":""}]
[null,null,null,null,null,"Combustível + Energia Elétrica"]
[null,null,null,null,null,"Urbano","Estrada","Combinado"]
[null,null,null,null,null,"(km/l)","(km/l)","(km/l)"]
["FCT 6.2.2.2 (Ponderação de FCT e CST pelo fator de utilização)",null,null,null,null,{"$f":"IFERROR(1/((F36/I26)+((1-F36)/F26)),\"\")","v":""},{"$f":"IFERROR(1/((G36/J26)+((1-G36)/G26)),\"\")","v":""},{"$f":"IF(AND(ISNUMBER(F40),ISNUMBER(G40)),1/((0.55/F40)+(0.45/G40)),\"\")","v":""}]
[]
[null,null,null,null,null,"Consumo Energético - FCT","Consumo Energético - CST"]
[null,null,null,null,null,"(MJ/km)","(MJ/km)"]
["EFICIENCIA ENERGÉTICA",null,null,null,null,{"$f":"IF(ISNUMBER(H40),VLOOKUP(CST_Urbano!$C$7,Combustíveis,2,FALSE)/H40,\"\")","v":""},{"$f":"IF(ISNUMBER(H32),VLOOKUP(CST_Urbano!C7,Combustíveis,2,FALSE)/H32,\"\")","v":""}]
[]
[null,null,null,null,null,"Urbano","Estrada","Combinado"]
["Distancia somente em \"elétrico\" (AER) ",null,null,null,null,{"$f":"IF(ISNUMBER(FCT_Urbano_Dados!L10),FCT_Urbano_Dados!L10,\"\")","v":""},{"$f":"IF(ISNUMBER(FCT_Estrada_Dados!L10),FCT_Estrada_Dados!L10,\"\")","v":""},{"$f":"IF(OR(ISNUMBER(F47),ISNUMBER(G47)),0.55*F47+0.45*G47,\"\")","v":""}]