{"text_format":"1","workbook":"xlsx","n_sheets":5,"sheets":["Dados Cadastrais","FONTE 1","FONTE 2","FONTE 3","FONTE 4"],"not_rendered":{"charts":0,"images":693,"macros":1,"external_links":2,"defined_names":878,"comments":0,"pivot_tables":0},"unopened":[],"bounds":{"document_bytes":16777216,"sheet_cells":100000,"rows_first":2000,"rows_last":500,"rows_between":2000,"halvings":0,"cell_chars":16384,"cell_head_chars":4096},"cells_cut":0,"cells_raw":0,"read":"whole","date_system":"1900"}

{"sheet":"Dados Cadastrais","index":0,"n_rows":53,"n_cols":16,"rows_kept":53,"cut":false,"hidden":false,"merged":[[35,0,35,2],[35,3,35,6],[35,7,35,8],[35,9,35,10],[35,11,35,12],[34,3,34,6],[34,9,34,10],[34,11,34,12],[34,7,34,8],[33,0,33,2],[33,3,33,6],[33,7,33,8],[33,9,33,10],[33,11,33,12],[34,0,34,2],[48,1,48,13],[52,1,52,13],[46,1,46,13],[47,1,47,13],[37,0,37,2],[40,1,40,3],[41,1,41,13],[42,1,42,13],[49,1,49,13],[50,1,50,13],[51,1,51,13],[36,3,36,6],[36,7,36,8],[43,1,43,13],[44,1,44,13],[45,1,45,13],[36,9,36,10],[36,11,36,12],[36,0,36,2],[38,0,38,2],[10,15,10,17],[11,0,11,13],[12,0,12,1],[13,0,13,13],[10,11,10,13],[10,7,10,8],[12,2,12,7],[6,1,6,4],[6,6,6,8],[6,9,6,13],[27,10,27,11],[30,0,30,13],[27,0,27,1],[27,2,27,7],[29,10,29,11],[24,0,24,13],[26,0,26,1],[7,0,7,13],[8,1,8,2],[8,7,8,13],[9,0,9,13],[10,0,10,1],[10,2,10,3],[2,1,2,13],[3,0,3,13],[4,1,4,13],[5,0,5,13],[0,0,0,2],[26,15,26,17],[32,13,32,16],[28,0,28,1],[28,2,28,7],[28,10,28,11],[29,0,29,1],[29,2,29,7],[32,0,32,2],[32,3,32,6],[32,7,32,8],[32,9,32,10],[26,2,26,7],[26,10,26,11],[32,11,32,12],[20,0,20,13],[14,0,14,3],[18,0,18,13],[19,0,19,3],[19,9,19,10],[16,0,16,2],[14,8,14,13]]}
["DADOS CADASTRAIS"]
[]
["Razão Social:"]
[]
["Endereço:"]
[]
["Município:",null,null,null,null,"UF: SP","Nome do Responsável\npelo preenchimento:"]
[]
["Telefone:",null,null,"Ramal: ",null,null,"e-mail:"]
[]
["Número   da   Licença\nde Operação Vigente:",null,null,null,null,null,"Data do vencimento:",null,null,null,"Processo:"]
[]
["Atividade  principal:",null,"Selecione uma opção"]
[]
["Passou por alteração no processo produtivo, incluindo ampliação nos últimos 05 anos?",null,null,null,null,null,null,null,"Está em período de renovação da L.O.?"]
[]
["Há processos de licencimento em andamento?"]
[]
[]
["Possui  Estudo  de  Dispersão  Atmosférica  já apresentado à CETESB?          ",null,null,null,null,null,null,null,"Data da apresentação: ","        /      /    "]
[{"$f":"CONCATENATE(Campo_Razao_Social,\"   -   \",Campo_Endereco,\", \",Campo_Municipio,\" - SP\")","v":"   -   ,  - SP"}]
[]
[]
[]
["DADOS DE CHAMINÉ"]
[]
["Identificação da Chaminé ",null,"Fontes de poluição com emissão direcionadas a chaminé",null,null,null,null,null,"Altura (m)","Diâmetro interno (m)","Coordenada  UTM-N\n(m)",null,"Coordenada  UTM-E\n(m)","Vazão\n(Nm³/h)",null,"<< Exclui a última linha da tabela\n \n \n<< Adiciona linhas na tabela"]
[]
[]
[]
["DADOS DE ARMAZENAMENTO"]
[]
["Tanque de armazenamento",null,null,"Produto armazenado",null,null,null,"Tipo ",null,"Teto",null,"Movimentação anual\n(m³/ano)",null,"<< Exclui a última linha da tabela\n \n \n<< Adiciona linhas na tabela"]
[]
[]
[]
[]
["Possui pilha de estocagem de  combustível a céu aberto? "]
["\n\nPossui pilha de estocagem de matéria-prima a céu aberto?"]
[]
["Versão 1.0",{"$f":"IF(A41=\"Versão 1.0\",\"\",\"Alterações Realizadas:\")","v":""}]
[{"$f":"IF(B42=\"\",\"\",\"-\")","v":""}]
[""]
[""]
[""]
[""]
[""]
[""]
[""]
[""]
[""]
[""]
[""]

{"sheet":"FONTE 1","index":1,"n_rows":144,"n_cols":25,"rows_kept":144,"cut":false,"hidden":false,"merged":[[48,0,48,6],[49,1,49,7],[66,13,66,16],[73,15,74,16],[6,15,7,16],[6,17,7,19],[6,20,7,21],[0,0,0,5],[0,6,0,8],[2,0,2,2],[2,3,2,14],[2,17,2,21],[4,0,4,5],[4,6,4,21],[6,7,7,7],[6,8,7,11],[6,12,7,14],[8,20,9,21],[10,4,10,6],[10,7,11,7],[10,8,11,11],[10,12,11,14],[10,15,11,16],[10,17,11,19],[14,5,15,6],[14,7,15,11],[14,12,15,14],[14,15,15,16],[14,17,15,19],[14,20,15,21],[19,20,19,21],[10,20,11,21],[8,0,8,4],[8,17,9,19],[8,14,9,16],[8,7,9,10],[8,11,9,12],[8,13,9,13],[12,20,13,21],[12,4,12,6],[12,7,13,7],[12,8,13,11],[12,12,13,14],[12,15,13,16],[12,17,13,19],[21,20,21,21],[16,0,17,21],[35,1,35,7],[35,16,35,19],[35,20,35,21],[37,1,37,7],[37,16,37,19],[37,20,37,21],[22,8,23,9],[23,0,23,3],[23,4,23,6],[27,0,27,21],[33,16,33,19],[33,20,33,21],[23,20,23,21],[25,16,25,17],[25,20,25,21],[25,11,25,14],[25,5,25,10],[21,0,21,4],[21,10,21,13],[19,0,19,3],[19,4,19,5],[19,9,19,10],[43,16,43,19],[43,20,43,21],[46,0,46,6],[47,1,47,7],[47,15,47,16],[39,1,39,7],[39,16,39,19],[39,20,39,21],[41,1,41,7],[41,16,41,19],[41,20,41,21],[42,0,42,6],[43,1,43,7],[49,15,49,16],[51,1,51,7],[51,15,51,16],[53,1,53,7],[53,15,53,16],[65,7,65,8],[65,10,65,11],[57,0,57,16],[63,10,63,12],[63,13,63,16],[63,1,65,3],[63,4,65,6],[63,7,63,8],[57,18,57,19],[59,0,59,2],[59,3,59,6],[60,1,62,3],[60,4,62,6],[60,7,60,8],[60,10,60,12],[60,13,60,16],[60,17,60,18],[60,19,60,20],[61,7,61,8],[61,10,61,11],[61,13,62,14],[61,15,62,16],[61,17,62,18],[61,19,62,20],[62,7,62,8],[62,10,62,11],[60,0,74,0],[66,1,68,3],[66,4,68,6],[72,19,72,20],[73,7,73,8],[73,17,74,18],[73,19,74,20],[80,13,80,14],[80,16,80,17],[83,2,83,3],[83,9,83,12],[83,18,83,19],[74,7,74,8],[74,10,74,11],[72,10,72,12],[79,0,81,3],[69,19,69,20],[70,7,70,8],[70,10,70,11],[70,13,71,14],[70,15,71,16],[70,17,71,18],[70,19,71,20],[71,7,71,8],[71,10,71,11],[69,1,71,3],[69,4,71,6],[69,7,69,8],[69,10,69,12],[69,13,69,16],[69,17,69,18],[72,1,74,3],[72,4,74,6],[72,7,72,8],[73,10,73,11],[73,13,74,14],[72,13,72,16],[72,17,72,18],[105,7,105,8],[105,16,105,19],[107,13,107,14],[107,16,107,17],[112,16,112,19],[85,16,85,17],[89,2,89,3],[89,16,89,21],[91,13,91,19],[99,2,99,3],[100,10,100,13],[100,20,100,21],[84,0,87,3],[90,0,94,3],[100,0,103,3],[106,0,109,3],[112,0,115,3],[117,2,117,3],[117,4,117,6],[117,7,117,8],[125,2,125,3],[125,4,125,6],[125,7,125,8],[113,13,113,14],[113,16,113,17],[116,2,116,3],[116,4,116,6],[116,7,116,8],[120,17,120,20],[121,19,121,20],[122,19,122,20],[121,0,124,2],[122,11,122,14],[143,2,143,21],[137,2,137,21],[138,2,138,21],[139,2,139,21],[140,2,140,21],[141,2,141,21],[142,2,142,21],[131,2,131,8],[132,2,132,21],[133,2,133,21],[134,2,134,21],[135,2,135,21],[136,2,136,21],[63,17,63,18],[66,19,66,20],[67,7,67,8],[67,10,67,11],[67,13,68,14],[67,15,68,16],[67,17,68,18],[67,19,68,20],[68,7,68,8],[68,10,68,11],[66,17,66,18],[63,19,63,20],[64,7,64,8],[64,10,64,11],[64,13,65,14],[64,15,65,16],[64,17,65,18],[64,19,65,20],[66,7,66,8],[66,10,66,12]]}
["COMBUSTÍVEL:  ",null,null,null,null,null,null,null,null,null,null,null,null,null,null,null,null,null,null,null,null,null,null,null,"FONTE 1"]
[]
["Identificação\nda Fonte:",null,null,"",null,null,null,null,null,null,null,null,null,null,null,null,"TAG:",null,null,null,null,null,null,null,{"$f":"'FONTE 2'!Y3","v":"FONTE 2"}]
[]
["Local  (utilidades  ou qual  setor produtivo):",null,null,null,null,null,"",null,null,null,null,null,null,null,null,null,null,null,null,null,null,null,null,null,{"$f":"'FONTE 3'!Y5","v":"FONTE 3"}]
[]
[null,null,null,null,null,null,null,null,null,null,null,null,null,null,null,null,null,null,null,null,null,null,null,null,{"$f":"'FONTE 4'!Y7","v":"FONTE 4"}]
[]
[]
[]
[null,null,null,null,null,null,null,null,""]
[]
[null,null,null,null,null,null,null,null,""]
[]
[null,null,null,null,null,null,null,""]
[]
["Para as fontes Caldeira, Forno, Secador, Gerador de Energia e Aquecedor de Fluído Térmico, preencher a Planilha de Combustão."]
[]
[]
["Funcionamento:",null,null,null,null,null,"dias/mês",null,null,"horas/dia"]
[]
["Produção Sazonal:"]
[]
[null,null,null,null,null,null,null,null,null,null,null,null,null,null,null,null,null,null,null,null,null,null,null,0]
[]
[]
[{"$f":"'Dados Cadastrais'!A41","v":"Versão 1.0"}]
[{"$f":"IF('Dados Cadastrais'!Campo_Razao_Social=\"\",\"\",(CONCATENATE('Dados Cadastrais'!Campo_Razao_Social,\"   -   \",'Dados Cadastrais'!Campo_Endereco,\", \",'Dados Cadastrais'!Campo_Municipio,\" - SP\",\"    ||    TAG: \",Campo_TAG,\"            \")))","v":""}]
[]
[]
[]
[]
[]
[]
[]
[]
[]
[]
[]
[]
[]
[]
[]
[]
[]
[]
[]
[]
[]
[]
[]
[]
[]
[]
[]
[{"$f":"'Dados Cadastrais'!A41","v":"Versão 1.0"}]
[]
["EMISSÕES",null,null,null,null,null,null,null,null,null,null,null,null,null,null,null,null,null,"CORREÇÃO\nDE O2: "]
[]
[]
["P O L U E N T E","MP"]
[]
[]
[null,"SOx"]
[]
[]
[null,"NOx"]
[]
[]
[null,"HCNM"]
[]
[]
[null,"ERT"]
[]
[]
[]
[]
[]
[]
[]
[]
[]
[]
[]
[]
[]
[]
[]
[]
[null,null,null,null,null,null,null,null,null,null,null,null,null,null,null,null,null,null,null,null,null,null,0]
[null,null,null,null,null,null,null,null,null,null,null,null,null,null,null,null,null,null,null,null,null,null,0]
[null,null,null,null,null,null,null,null,null,null,null,null,null,null,null,null,null,null,null,null,null,null,0]
[]
[null,null,null,null,null,null,null,null,null,null,null,null,null,null,null,null,null,null,null,null,null,null,0]
[]
[null,null,null,null,null,null,null,null,null,null,null,null,null,null,null,null,null,null,null,null,null,null,1]
[]
[]
[]
[]
[]
[]
[]
[]
[]
[null,null,null,null,null,null,null,null,null,null,null,null,null,null,null,null,null,null,null,null,null,null,0]
[]
[]
[]
[]
[]
[]
[]
[]
[]
[]
[]
[]
[]
[]
[]
[]
[null,null,null,null,null,null,null,null,null,null,null,null,null,null,null,null,null,null,null,null,null,null,0]
[]
[]
[]
["OBSERVAÇÕES GERAIS:"]
[]
[]
["NÃO ULTRAPASSAR OS LIMITES DA CAIXA DE TEXTO."]
[]
[{"$f":"'Dados Cadastrais'!A41","v":"Versão 1.0"},null,{"$f":"IF('Dados Cadastrais'!A41=\"Versão 1.0\",\"\",\"Alterações Realizadas:\")","v":""}]
[null,{"$f":"IF('Dados Cadastrais'!A42=\"\",\"\",'Dados Cadastrais'!A42)","v":""},{"$f":"IF('Dados Cadastrais'!B42=\"\",\"\",'Dados Cadastrais'!B42)","v":""}]
[null,{"$f":"IF('Dados Cadastrais'!A43=\"\",\"\",'Dados Cadastrais'!A43)","v":""},{"$f":"IF('Dados Cadastrais'!B43=\"\",\"\",'Dados Cadastrais'!B43)","v":""}]
[null,{"$f":"IF('Dados Cadastrais'!A44=\"\",\"\",'Dados Cadastrais'!A44)","v":""},{"$f":"IF('Dados Cadastrais'!B44=\"\",\"\",'Dados Cadastrais'!B44)","v":""}]
[null,{"$f":"IF('Dados Cadastrais'!A45=\"\",\"\",'Dados Cadastrais'!A45)","v":""},{"$f":"IF('Dados Cadastrais'!B45=\"\",\"\",'Dados Cadastrais'!B45)","v":""}]
[null,{"$f":"IF('Dados Cadastrais'!A46=\"\",\"\",'Dados Cadastrais'!A46)","v":""},{"$f":"IF('Dados Cadastrais'!B46=\"\",\"\",'Dados Cadastrais'!B46)","v":""}]
[null,{"$f":"IF('Dados Cadastrais'!A47=\"\",\"\",'Dados Cadastrais'!A47)","v":""},{"$f":"IF('Dados Cadastrais'!B47=\"\",\"\",'Dados Cadastrais'!B47)","v":""}]
[null,{"$f":"IF('Dados Cadastrais'!A48=\"\",\"\",'Dados Cadastrais'!A48)","v":""},{"$f":"IF('Dados Cadastrais'!B48=\"\",\"\",'Dados Cadastrais'!B48)","v":""}]
[null,{"$f":"IF('Dados Cadastrais'!A49=\"\",\"\",'Dados Cadastrais'!A49)","v":""},{"$f":"IF('Dados Cadastrais'!B49=\"\",\"\",'Dados Cadastrais'!B49)","v":""}]
[null,{"$f":"IF('Dados Cadastrais'!A50=\"\",\"\",'Dados Cadastrais'!A50)","v":""},{"$f":"IF('Dados Cadastrais'!B50=\"\",\"\",'Dados Cadastrais'!B50)","v":""}]
[null,{"$f":"IF('Dados Cadastrais'!A51=\"\",\"\",'Dados Cadastrais'!A51)","v":""},{"$f":"IF('Dados Cadastrais'!B51=\"\",\"\",'Dados Cadastrais'!B51)","v":""}]
[null,{"$f":"IF('Dados Cadastrais'!A52=\"\",\"\",'Dados Cadastrais'!A52)","v":""},{"$f":"IF('Dados Cadastrais'!B52=\"\",\"\",'Dados Cadastrais'!B52)","v":""}]
[null,{"$f":"IF('Dados Cadastrais'!A53=\"\",\"\",'Dados Cadastrais'!A53)","v":""},{"$f":"IF('Dados Cadastrais'!B53=\"\",\"\",'Dados Cadastrais'!B53)","v":""}]

{"sheet":"FONTE 2","index":2,"n_rows":144,"n_cols":25,"rows_kept":144,"cut":false,"hidden":true,"merged":[[105,7,105,8],[105,16,105,19],[60,0,74,0],[72,7,72,8],[72,10,72,12],[72,13,72,16],[61,10,61,11],[66,7,66,8],[69,1,71,3],[60,10,60,12],[61,7,61,8],[62,7,62,8],[70,10,70,11],[67,7,67,8],[68,7,68,8],[62,10,62,11],[69,7,69,8],[100,10,100,13],[70,17,71,18],[72,17,72,18],[72,19,72,20],[73,7,73,8],[89,2,89,3],[99,2,99,3],[59,0,59,2],[142,2,142,21],[69,10,69,12],[69,13,69,16],[63,4,65,6],[70,13,71,14],[70,15,71,16],[66,1,68,3],[66,4,68,6],[66,10,66,12],[63,1,65,3],[69,4,71,6],[63,17,63,18],[69,17,69,18],[80,16,80,17],[69,19,69,20],[139,2,139,21],[140,2,140,21],[141,2,141,21],[65,10,65,11],[113,16,113,17],[72,1,74,3],[72,4,74,6],[100,20,100,21],[131,2,131,8],[132,2,132,21],[133,2,133,21],[134,2,134,21],[135,2,135,21],[136,2,136,21],[137,2,137,21],[138,2,138,21],[107,16,107,17],[117,2,117,3],[117,4,117,6],[117,7,117,8],[130,2,130,3],[130,4,130,6],[130,7,130,8],[116,2,116,3],[116,4,116,6],[116,7,116,8],[121,19,121,20],[122,19,122,20],[83,2,83,3],[89,16,89,21],[91,13,91,19],[83,18,83,19],[143,2,143,21],[70,7,70,8],[71,7,71,8],[73,10,73,11],[73,13,74,14],[73,15,74,16],[73,17,74,18],[73,19,74,20],[74,7,74,8],[74,10,74,11],[79,0,81,3],[84,0,87,3],[90,0,94,3],[100,0,103,3],[106,0,109,3],[112,0,115,3],[121,0,124,2],[122,11,122,14],[113,13,113,14],[120,17,120,20],[64,13,65,14],[53,15,53,16],[43,16,43,19],[47,15,47,16],[80,13,80,14],[70,19,71,20],[71,10,71,11],[112,16,112,19],[57,18,57,19],[67,10,67,11],[67,13,68,14],[67,15,68,16],[67,17,68,18],[67,19,68,20],[68,10,68,11],[66,17,66,18],[66,13,66,16],[63,19,63,20],[64,17,65,18],[66,19,66,20],[107,13,107,14],[83,9,83,12],[85,16,85,17],[59,3,59,6],[64,10,64,11],[49,1,49,7],[64,19,65,20],[60,13,60,16],[64,15,65,16],[57,0,57,16],[49,15,49,16],[51,15,51,16],[60,1,62,3],[60,4,62,6],[63,10,63,12],[63,13,63,16],[60,7,60,8],[64,7,64,8],[65,7,65,8],[63,7,63,8],[53,1,53,7],[60,19,60,20],[60,17,60,18],[61,13,62,14],[61,15,62,16],[61,17,62,18],[61,19,62,20],[41,1,41,7],[41,16,41,19],[48,0,48,6],[46,0,46,6],[47,1,47,7],[12,17,13,19],[51,1,51,7],[39,20,39,21],[35,1,35,7],[39,1,39,7],[39,16,39,19],[24,18,24,20],[42,0,42,6],[43,1,43,7],[43,20,43,21],[41,20,41,21],[21,0,21,4],[21,10,21,13],[27,0,27,21],[35,16,35,19],[37,1,37,7],[23,4,23,6],[35,20,35,21],[37,20,37,21],[8,0,8,4],[10,4,10,6],[12,4,12,6],[10,7,11,7],[14,15,15,16],[19,0,19,3],[14,5,15,6],[14,12,15,14],[14,7,15,11],[10,8,11,11],[12,8,13,11],[12,7,13,7],[16,0,17,21],[19,4,19,5],[19,9,19,10],[33,20,33,21],[23,0,23,3],[33,16,33,19],[37,16,37,19],[0,0,0,5],[2,17,2,21],[4,0,4,5],[4,6,4,21],[6,20,7,21],[2,0,2,2],[2,3,2,14],[6,7,7,7],[0,6,0,8],[6,15,7,16],[6,8,7,11],[6,12,7,14],[6,17,7,19],[8,7,9,10],[8,14,9,16],[19,20,19,21],[21,20,21,21],[23,20,23,21],[25,20,25,21],[25,16,25,17],[25,11,25,14],[25,5,25,10],[12,20,13,21],[8,17,9,19],[10,17,11,19],[10,12,11,14],[12,12,13,14],[14,17,15,19],[14,20,15,21],[10,15,11,16],[12,15,13,16],[8,20,9,21],[10,20,11,21],[8,11,9,12]]}
["COMBUSTÍVEL:  ",null,null,null,null,null,null,null,null,null,null,null,null,null,null,null,null,null,null,null,null,null,null,null,{"$f":"'FONTE 1'!Y1","v":"FONTE 1"}]
[]
["Identificação\nda Fonte:",null,null,"",null,null,null,null,null,null,null,null,null,null,null,null,"TAG:",null,null,null,null,null,null,null,"FONTE 2"]
[]
["Local  (utilidades  ou qual  setor produtivo):",null,null,null,null,null,"",null,null,null,null,null,null,null,null,null,null,null,null,null,null,null,null,null,{"$f":"'FONTE 3'!Y5","v":"FONTE 3"}]
[]
[null,null,null,null,null,null,null,null,null,null,null,null,null,null,null,null,null,null,null,null,null,null,null,null,{"$f":"'FONTE 4'!Y7","v":"FONTE 4"}]
[]
[]
[]
[null,null,null,null,null,null,null,null,""]
[]
[null,null,null,null,null,null,null,null,""]
[]
[null,null,null,null,null,null,null,""]
[]
["Para as fontes Caldeira, Forno, Secador, Gerador de Energia e Aquecedor de Fluído Térmico, preencher a Planilha de Combustão."]
[]
[]
["Funcionamento:",null,null,null,null,null,"dias/mês",null,null,"horas/dia"]
[]
["Produção Sazonal:"]
[]
[null,null,null,null,null,null,null,null,null,null,null,null,null,null,null,null,null,null,null,null,null,null,null,0]
[]
[]
[{"$f":"'Dados Cadastrais'!A41","v":"Versão 1.0"}]
[{"$f":"IF('Dados Cadastrais'!Campo_Razao_Social=\"\",\"\",(CONCATENATE('Dados Cadastrais'!Campo_Razao_Social,\"   -   \",'Dados Cadastrais'!Campo_Endereco,\", \",'Dados Cadastrais'!Campo_Municipio,\" - SP\",\"    ||    TAG: \",Campo_TAG,\"            \")))","v":""}]
[]
[]
[]
[]
[]
[]
[]
[]
[]
[]
[]
[]
[]
[]
[]
[]
[]
[]
[]
[]
[]
[]
[]
[]
[]
[]
[]
[{"$f":"'Dados Cadastrais'!A41","v":"Versão 1.0"}]
[]
["EMISSÕES",null,null,null,null,null,null,null,null,null,null,null,null,null,null,null,null,null,"CORREÇÃO\nDE O2: "]
[]
[]
["P O L U E N T E","MP"]
[]
[]
[null,"SOx"]
[]
[]
[null,"NOx"]
[]
[]
[null,"HCNM"]
[]
[]
[null,"ERT"]
[]
[]
[]
[]
[]
[]
[]
[]
[]
[]
[]
[]
[]
[]
[]
[]
[null,null,null,null,null,null,null,null,null,null,null,null,null,null,null,null,null,null,null,null,null,null,0]
[null,null,null,null,null,null,null,null,null,null,null,null,null,null,null,null,null,null,null,null,null,null,0]
[null,null,null,null,null,null,null,null,null,null,null,null,null,null,null,null,null,null,null,null,null,null,0]
[]
[null,null,null,null,null,null,null,null,null,null,null,null,null,null,null,null,null,null,null,null,null,null,0]
[]
[null,null,null,null,null,null,null,null,null,null,null,null,null,null,null,null,null,null,null,null,null,null,1]
[]
[]
[]
[]
[]
[]
[]
[]
[]
[null,null,null,null,null,null,null,null,null,null,null,null,null,null,null,null,null,null,null,null,null,null,0]
[]
[]
[]
[]
[]
[]
[]
[]
[]
[]
[]
[]
[]
[]
[]
[]
[null,null,null,null,null,null,null,null,null,null,null,null,null,null,null,null,null,null,null,null,null,null,0]
[]
[]
[]
["OBSERVAÇÕES GERAIS:"]
[]
[]
["NÃO ULTRAPASSAR OS LIMITES DA CAIXA DE TEXTO."]
[]
[{"$f":"'Dados Cadastrais'!A41","v":"Versão 1.0"},null,{"$f":"IF('Dados Cadastrais'!A41=\"Versão 1.0\",\"\",\"Alterações Realizadas:\")","v":""}]
[null,{"$f":"IF('Dados Cadastrais'!A42=\"\",\"\",'Dados Cadastrais'!A42)","v":""},{"$f":"IF('Dados Cadastrais'!B42=\"\",\"\",'Dados Cadastrais'!B42)","v":""}]
[null,{"$f":"IF('Dados Cadastrais'!A43=\"\",\"\",'Dados Cadastrais'!A43)","v":""},{"$f":"IF('Dados Cadastrais'!B43=\"\",\"\",'Dados Cadastrais'!B43)","v":""}]
[null,{"$f":"IF('Dados Cadastrais'!A44=\"\",\"\",'Dados Cadastrais'!A44)","v":""},{"$f":"IF('Dados Cadastrais'!B44=\"\",\"\",'Dados Cadastrais'!B44)","v":""}]
[null,{"$f":"IF('Dados Cadastrais'!A45=\"\",\"\",'Dados Cadastrais'!A45)","v":""},{"$f":"IF('Dados Cadastrais'!B45=\"\",\"\",'Dados Cadastrais'!B45)","v":""}]
[null,{"$f":"IF('Dados Cadastrais'!A46=\"\",\"\",'Dados Cadastrais'!A46)","v":""},{"$f":"IF('Dados Cadastrais'!B46=\"\",\"\",'Dados Cadastrais'!B46)","v":""}]
[null,{"$f":"IF('Dados Cadastrais'!A47=\"\",\"\",'Dados Cadastrais'!A47)","v":""},{"$f":"IF('Dados Cadastrais'!B47=\"\",\"\",'Dados Cadastrais'!B47)","v":""}]
[null,{"$f":"IF('Dados Cadastrais'!A48=\"\",\"\",'Dados Cadastrais'!A48)","v":""},{"$f":"IF('Dados Cadastrais'!B48=\"\",\"\",'Dados Cadastrais'!B48)","v":""}]
[null,{"$f":"IF('Dados Cadastrais'!A49=\"\",\"\",'Dados Cadastrais'!A49)","v":""},{"$f":"IF('Dados Cadastrais'!B49=\"\",\"\",'Dados Cadastrais'!B49)","v":""}]
[null,{"$f":"IF('Dados Cadastrais'!A50=\"\",\"\",'Dados Cadastrais'!A50)","v":""},{"$f":"IF('Dados Cadastrais'!B50=\"\",\"\",'Dados Cadastrais'!B50)","v":""}]
[null,{"$f":"IF('Dados Cadastrais'!A51=\"\",\"\",'Dados Cadastrais'!A51)","v":""},{"$f":"IF('Dados Cadastrais'!B51=\"\",\"\",'Dados Cadastrais'!B51)","v":""}]
[null,{"$f":"IF('Dados Cadastrais'!A52=\"\",\"\",'Dados Cadastrais'!A52)","v":""},{"$f":"IF('Dados Cadastrais'!B52=\"\",\"\",'Dados Cadastrais'!B52)","v":""}]
[null,{"$f":"IF('Dados Cadastrais'!A53=\"\",\"\",'Dados Cadastrais'!A53)","v":""},{"$f":"IF('Dados Cadastrais'!B53=\"\",\"\",'Dados Cadastrais'!B53)","v":""}]

{"sheet":"FONTE 3","index":3,"n_rows":144,"n_cols":25,"rows_kept":144,"cut":false,"hidden":true,"merged":[[79,0,81,3],[84,0,87,3],[90,0,94,3],[100,0,103,3],[106,0,109,3],[112,0,115,3],[121,0,124,2],[122,11,122,14],[73,13,74,14],[80,13,80,14],[105,7,105,8],[73,19,74,20],[74,7,74,8],[74,10,74,11],[6,7,7,7],[6,8,7,11],[6,12,7,14],[6,15,7,16],[6,17,7,19],[6,20,7,21],[8,17,9,19],[8,7,9,10],[8,14,9,16],[35,1,35,7],[35,16,35,19],[35,20,35,21],[37,1,37,7],[37,16,37,19],[37,20,37,21],[23,0,23,3],[23,4,23,6],[24,18,24,20],[19,0,19,3],[19,4,19,5],[19,9,19,10],[0,0,0,5],[0,6,0,8],[2,0,2,2],[2,3,2,14],[2,17,2,21],[4,0,4,5],[4,6,4,21],[12,20,13,21],[12,4,12,6],[12,7,13,7],[12,8,13,11],[12,12,13,14],[12,15,13,16],[12,17,13,19],[8,20,9,21],[10,4,10,6],[10,7,11,7],[10,8,11,11],[10,12,11,14],[10,15,11,16],[10,17,11,19],[10,20,11,21],[8,0,8,4],[8,11,9,12],[21,0,21,4],[21,10,21,13],[14,5,15,6],[14,7,15,11],[14,12,15,14],[14,15,15,16],[16,0,17,21],[19,20,19,21],[21,20,21,21],[14,17,15,19],[14,20,15,21],[27,0,27,21],[33,16,33,19],[33,20,33,21],[23,20,23,21],[25,20,25,21],[25,16,25,17],[25,11,25,14],[25,5,25,10],[42,0,42,6],[43,1,43,7],[43,16,43,19],[43,20,43,21],[46,0,46,6],[47,1,47,7],[47,15,47,16],[39,1,39,7],[39,16,39,19],[39,20,39,21],[41,1,41,7],[41,16,41,19],[41,20,41,21],[48,0,48,6],[49,1,49,7],[49,15,49,16],[51,1,51,7],[51,15,51,16],[53,1,53,7],[53,15,53,16],[65,7,65,8],[65,10,65,11],[57,0,57,16],[63,10,63,12],[63,13,63,16],[60,0,74,0],[72,7,72,8],[72,10,72,12],[72,13,72,16],[66,1,68,3],[66,4,68,6],[63,1,65,3],[63,4,65,6],[63,7,63,8],[69,1,71,3],[69,4,71,6],[69,7,69,8],[57,18,57,19],[59,0,59,2],[59,3,59,6],[60,1,62,3],[60,4,62,6],[60,7,60,8],[60,10,60,12],[60,13,60,16],[60,17,60,18],[60,19,60,20],[61,7,61,8],[61,10,61,11],[61,13,62,14],[61,15,62,16],[61,17,62,18],[61,19,62,20],[62,7,62,8],[62,10,62,11],[63,17,63,18],[66,19,66,20],[67,7,67,8],[67,10,67,11],[67,13,68,14],[67,15,68,16],[67,17,68,18],[67,19,68,20],[68,7,68,8],[68,10,68,11],[66,13,66,16],[66,17,66,18],[63,19,63,20],[64,7,64,8],[64,10,64,11],[64,13,65,14],[64,15,65,16],[64,17,65,18],[64,19,65,20],[66,7,66,8],[66,10,66,12],[80,16,80,17],[83,2,83,3],[83,9,83,12],[83,18,83,19],[69,10,69,12],[69,13,69,16],[69,17,69,18],[72,1,74,3],[72,4,74,6],[72,17,72,18],[69,19,69,20],[70,7,70,8],[70,10,70,11],[70,13,71,14],[70,15,71,16],[70,17,71,18],[70,19,71,20],[71,7,71,8],[71,10,71,11],[72,19,72,20],[73,7,73,8],[73,10,73,11],[73,15,74,16],[73,17,74,18],[125,2,125,3],[125,4,125,6],[125,7,125,8],[113,13,113,14],[113,16,113,17],[116,2,116,3],[116,4,116,6],[116,7,116,8],[120,17,120,20],[121,19,121,20],[122,19,122,20],[117,2,117,3],[117,4,117,6],[117,7,117,8],[143,2,143,21],[137,2,137,21],[138,2,138,21],[139,2,139,21],[140,2,140,21],[141,2,141,21],[142,2,142,21],[131,2,131,8],[132,2,132,21],[133,2,133,21],[134,2,134,21],[135,2,135,21],[136,2,136,21],[105,16,105,19],[107,13,107,14],[107,16,107,17],[112,16,112,19],[85,16,85,17],[89,2,89,3],[89,16,89,21],[91,13,91,19],[99,2,99,3],[100,10,100,13],[100,20,100,21]]}
["COMBUSTÍVEL:  ",null,null,null,null,null,null,null,null,null,null,null,null,null,null,null,null,null,null,null,null,null,null,null,{"$f":"'FONTE 1'!Y1","v":"FONTE 1"}]
[]
["Identificação\nda Fonte:",null,null,null,null,null,null,null,null,null,null,null,null,null,null,null,"TAG:",null,null,null,null,null,null,null,{"$f":"'FONTE 2'!Y3","v":"FONTE 2"}]
[]
["Local  (utilidades  ou qual  setor produtivo):",null,null,null,null,null,"",null,null,null,null,null,null,null,null,null,null,null,null,null,null,null,null,null,"FONTE 3"]
[]
[null,null,null,null,null,null,null,null,null,null,null,null,null,null,null,null,null,null,null,null,null,null,null,null,{"$f":"'FONTE 4'!Y7","v":"FONTE 4"}]
[]
[]
[]
[null,null,null,null,null,null,null,null,""]
[]
[null,null,null,null,null,null,null,null,""]
[]
[null,null,null,null,null,null,null,""]
[]
["Para as fontes Caldeira, Forno, Secador, Gerador de Energia e Aquecedor de Fluído Térmico, preencher a Planilha de Combustão."]
[]
[]
["Funcionamento:",null,null,null,null,null,"dias/mês",null,null,"horas/dia"]
[]
["Produção Sazonal:"]
[]
[null,null,null,null,null,null,null,null,null,null,null,null,null,null,null,null,null,null,null,null,null,null,null,0]
[]
[]
[{"$f":"'Dados Cadastrais'!A41","v":"Versão 1.0"}]
[{"$f":"IF('Dados Cadastrais'!Campo_Razao_Social=\"\",\"\",(CONCATENATE('Dados Cadastrais'!Campo_Razao_Social,\"   -   \",'Dados Cadastrais'!Campo_Endereco,\", \",'Dados Cadastrais'!Campo_Municipio,\" - SP\",\"    ||    TAG: \",Campo_TAG,\"            \")))","v":""}]
[]
[]
[]
[]
[]
[]
[]
[]
[]
[]
[]
[]
[]
[]
[]
[]
[]
[]
[]
[]
[]
[]
[]
[]
[]
[]
[]
[{"$f":"'Dados Cadastrais'!A41","v":"Versão 1.0"}]
[]
["EMISSÕES",null,null,null,null,null,null,null,null,null,null,null,null,null,null,null,null,null,"CORREÇÃO\nDE O2: "]
[]
[]
["P O L U E N T E","MP"]
[]
[]
[null,"SOx"]
[]
[]
[null,"NOx"]
[]
[]
[null,"HCNM"]
[]
[]
[null,"ERT"]
[]
[]
[]
[]
[]
[]
[]
[]
[]
[]
[]
[]
[]
[]
[]
[]
[null,null,null,null,null,null,null,null,null,null,null,null,null,null,null,null,null,null,null,null,null,null,0]
[null,null,null,null,null,null,null,null,null,null,null,null,null,null,null,null,null,null,null,null,null,null,0]
[null,null,null,null,null,null,null,null,null,null,null,null,null,null,null,null,null,null,null,null,null,null,0]
[]
[null,null,null,null,null,null,null,null,null,null,null,null,null,null,null,null,null,null,null,null,null,null,0]
[]
[null,null,null,null,null,null,null,null,null,null,null,null,null,null,null,null,null,null,null,null,null,null,1]
[]
[]
[]
[]
[]
[]
[]
[]
[]
[null,null,null,null,null,null,null,null,null,null,null,null,null,null,null,null,null,null,null,null,null,null,0]
[]
[]
[]
[]
[]
[]
[]
[]
[]
[]
[]
[]
[]
[]
[]
[]
[null,null,null,null,null,null,null,null,null,null,null,null,null,null,null,null,null,null,null,null,null,null,0]
[]
[]
[]
["OBSERVAÇÕES GERAIS:"]
[]
[]
["NÃO ULTRAPASSAR OS LIMITES DA CAIXA DE TEXTO."]
[]
[{"$f":"'Dados Cadastrais'!A41","v":"Versão 1.0"},null,{"$f":"IF('Dados Cadastrais'!A41=\"Versão 1.0\",\"\",\"Alterações Realizadas:\")","v":""}]
[null,{"$f":"IF('Dados Cadastrais'!A42=\"\",\"\",'Dados Cadastrais'!A42)","v":""},{"$f":"IF('Dados Cadastrais'!B42=\"\",\"\",'Dados Cadastrais'!B42)","v":""}]
[null,{"$f":"IF('Dados Cadastrais'!A43=\"\",\"\",'Dados Cadastrais'!A43)","v":""},{"$f":"IF('Dados Cadastrais'!B43=\"\",\"\",'Dados Cadastrais'!B43)","v":""}]
[null,{"$f":"IF('Dados Cadastrais'!A44=\"\",\"\",'Dados Cadastrais'!A44)","v":""},{"$f":"IF('Dados Cadastrais'!B44=\"\",\"\",'Dados Cadastrais'!B44)","v":""}]
[null,{"$f":"IF('Dados Cadastrais'!A45=\"\",\"\",'Dados Cadastrais'!A45)","v":""},{"$f":"IF('Dados Cadastrais'!B45=\"\",\"\",'Dados Cadastrais'!B45)","v":""}]
[null,{"$f":"IF('Dados Cadastrais'!A46=\"\",\"\",'Dados Cadastrais'!A46)","v":""},{"$f":"IF('Dados Cadastrais'!B46=\"\",\"\",'Dados Cadastrais'!B46)","v":""}]
[null,{"$f":"IF('Dados Cadastrais'!A47=\"\",\"\",'Dados Cadastrais'!A47)","v":""},{"$f":"IF('Dados Cadastrais'!B47=\"\",\"\",'Dados Cadastrais'!B47)","v":""}]
[null,{"$f":"IF('Dados Cadastrais'!A48=\"\",\"\",'Dados Cadastrais'!A48)","v":""},{"$f":"IF('Dados Cadastrais'!B48=\"\",\"\",'Dados Cadastrais'!B48)","v":""}]
[null,{"$f":"IF('Dados Cadastrais'!A49=\"\",\"\",'Dados Cadastrais'!A49)","v":""},{"$f":"IF('Dados Cadastrais'!B49=\"\",\"\",'Dados Cadastrais'!B49)","v":""}]
[null,{"$f":"IF('Dados Cadastrais'!A50=\"\",\"\",'Dados Cadastrais'!A50)","v":""},{"$f":"IF('Dados Cadastrais'!B50=\"\",\"\",'Dados Cadastrais'!B50)","v":""}]
[null,{"$f":"IF('Dados Cadastrais'!A51=\"\",\"\",'Dados Cadastrais'!A51)","v":""},{"$f":"IF('Dados Cadastrais'!B51=\"\",\"\",'Dados Cadastrais'!B51)","v":""}]
[null,{"$f":"IF('Dados Cadastrais'!A52=\"\",\"\",'Dados Cadastrais'!A52)","v":""},{"$f":"IF('Dados Cadastrais'!B52=\"\",\"\",'Dados Cadastrais'!B52)","v":""}]
[null,{"$f":"IF('Dados Cadastrais'!A53=\"\",\"\",'Dados Cadastrais'!A53)","v":""},{"$f":"IF('Dados Cadastrais'!B53=\"\",\"\",'Dados Cadastrais'!B53)","v":""}]

{"sheet":"FONTE 4","index":4,"n_rows":144,"n_cols":25,"rows_kept":144,"cut":false,"hidden":true,"merged":[[73,19,74,20],[74,7,74,8],[74,10,74,11],[79,0,81,3],[84,0,87,3],[90,0,94,3],[100,0,103,3],[130,2,130,3],[130,4,130,6],[130,7,130,8],[113,13,113,14],[113,16,113,17],[116,2,116,3],[116,4,116,6],[116,7,116,8],[120,17,120,20],[121,19,121,20],[117,2,117,3],[117,4,117,6],[117,7,117,8],[122,19,122,20],[112,0,115,3],[121,0,124,2],[122,11,122,14],[143,2,143,21],[137,2,137,21],[138,2,138,21],[139,2,139,21],[140,2,140,21],[141,2,141,21],[142,2,142,21],[131,2,131,8],[132,2,132,21],[133,2,133,21],[134,2,134,21],[135,2,135,21],[136,2,136,21],[80,13,80,14],[80,16,80,17],[83,2,83,3],[83,9,83,12],[83,18,83,19],[106,0,109,3],[105,7,105,8],[105,16,105,19],[107,13,107,14],[107,16,107,17],[112,16,112,19],[85,16,85,17],[89,2,89,3],[89,16,89,21],[91,13,91,19],[99,2,99,3],[100,10,100,13],[100,20,100,21],[69,1,71,3],[69,4,71,6],[69,7,69,8],[69,10,69,12],[69,13,69,16],[69,17,69,18],[72,1,74,3],[72,4,74,6],[72,7,72,8],[70,7,70,8],[70,10,70,11],[70,13,71,14],[70,15,71,16],[70,17,71,18],[71,7,71,8],[71,10,71,11],[72,17,72,18],[73,17,74,18],[72,19,72,20],[63,17,63,18],[66,19,66,20],[67,7,67,8],[67,10,67,11],[67,13,68,14],[67,15,68,16],[67,17,68,18],[67,19,68,20],[68,7,68,8],[68,10,68,11],[66,13,66,16],[66,17,66,18],[63,19,63,20],[64,7,64,8],[64,10,64,11],[64,13,65,14],[64,15,65,16],[64,17,65,18],[64,19,65,20],[66,7,66,8],[66,10,66,12],[69,19,69,20],[70,19,71,20],[57,18,57,19],[59,0,59,2],[59,3,59,6],[60,1,62,3],[60,4,62,6],[60,7,60,8],[60,10,60,12],[60,13,60,16],[60,17,60,18],[60,19,60,20],[61,7,61,8],[61,10,61,11],[61,13,62,14],[61,15,62,16],[61,17,62,18],[61,19,62,20],[62,7,62,8],[62,10,62,11],[66,1,68,3],[66,4,68,6],[63,1,65,3],[63,4,65,6],[63,7,63,8],[48,0,48,6],[49,1,49,7],[49,15,49,16],[51,1,51,7],[51,15,51,16],[53,1,53,7],[53,15,53,16],[65,7,65,8],[65,10,65,11],[57,0,57,16],[63,10,63,12],[63,13,63,16],[60,0,74,0],[72,10,72,12],[72,13,72,16],[73,7,73,8],[73,10,73,11],[73,13,74,14],[73,15,74,16],[42,0,42,6],[43,1,43,7],[43,16,43,19],[43,20,43,21],[46,0,46,6],[47,1,47,7],[47,15,47,16],[39,1,39,7],[39,16,39,19],[39,20,39,21],[41,1,41,7],[41,16,41,19],[41,20,41,21],[35,1,35,7],[35,16,35,19],[35,20,35,21],[37,1,37,7],[37,16,37,19],[37,20,37,21],[23,0,23,3],[23,4,23,6],[24,18,24,20],[27,0,27,21],[33,16,33,19],[33,20,33,21],[23,20,23,21],[25,20,25,21],[25,16,25,17],[25,11,25,14],[25,5,25,10],[21,0,21,4],[21,10,21,13],[14,5,15,6],[14,7,15,11],[14,12,15,14],[14,15,15,16],[14,17,15,19],[14,20,15,21],[16,0,17,21],[19,20,19,21],[21,20,21,21],[12,20,13,21],[12,4,12,6],[12,7,13,7],[12,8,13,11],[12,12,13,14],[12,15,13,16],[12,17,13,19],[19,0,19,3],[19,4,19,5],[19,9,19,10],[8,20,9,21],[10,4,10,6],[10,7,11,7],[10,8,11,11],[10,12,11,14],[10,15,11,16],[10,17,11,19],[10,20,11,21],[8,0,8,4],[8,11,9,12],[8,17,9,19],[8,7,9,10],[8,14,9,16],[6,7,7,7],[6,8,7,11],[6,12,7,14],[6,15,7,16],[6,17,7,19],[6,20,7,21],[0,0,0,5],[0,6,0,8],[2,0,2,2],[2,3,2,14],[2,17,2,21],[4,0,4,5],[4,6,4,21]]}
["COMBUSTÍVEL:  ",null,null,null,null,null,null,null,null,null,null,null,null,null,null,null,null,null,null,null,null,null,null,null,{"$f":"'FONTE 1'!Y1","v":"FONTE 1"}]
[]
["Identificação\nda Fonte:",null,null,"",null,null,null,null,null,null,null,null,null,null,null,null,"TAG:",null,null,null,null,null,null,null,{"$f":"'FONTE 2'!Y3","v":"FONTE 2"}]
[]
["Local  (utilidades  ou qual  setor produtivo):",null,null,null,null,null,"",null,null,null,null,null,null,null,null,null,null,null,null,null,null,null,null,null,{"$f":"'FONTE 3'!Y5","v":"FONTE 3"}]
[]
[null,null,null,null,null,null,null,null,null,null,null,null,null,null,null,null,null,null,null,null,null,null,null,null,"FONTE 4"]
[]
[]
[]
[null,null,null,null,null,null,null,null,""]
[]
[null,null,null,null,null,null,null,null,""]
[]
[null,null,null,null,null,null,null,""]
[]
["Para as fontes Caldeira, Forno, Secador, Gerador de Energia e Aquecedor de Fluído Térmico, preencher a Planilha de Combustão."]
[]
[]
["Funcionamento:",null,null,null,null,null,"dias/mês",null,null,"horas/dia"]
[]
["Produção Sazonal:"]
[]
[null,null,null,null,null,null,null,null,null,null,null,null,null,null,null,null,null,null,null,null,null,null,null,0]
[]
[]
[{"$f":"'Dados Cadastrais'!A41","v":"Versão 1.0"}]
[{"$f":"IF('Dados Cadastrais'!Campo_Razao_Social=\"\",\"\",(CONCATENATE('Dados Cadastrais'!Campo_Razao_Social,\"   -   \",'Dados Cadastrais'!Campo_Endereco,\", \",'Dados Cadastrais'!Campo_Municipio,\" - SP\",\"    ||    TAG: \",Campo_TAG,\"            \")))","v":""}]
[]
[]
[]
[]
[]
[]
[]
[]
[]
[]
[]
[]
[]
[]
[]
[]
[]
[]
[]
[]
[]
[]
[]
[]
[]
[]
[]
[{"$f":"'Dados Cadastrais'!A41","v":"Versão 1.0"}]
[]
["EMISSÕES",null,null,null,null,null,null,null,null,null,null,null,null,null,null,null,null,null,"CORREÇÃO\nDE O2: "]
[]
[]
["P O L U E N T E","MP"]
[]
[]
[null,"SOx"]
[]
[]
[null,"NOx"]
[]
[]
[null,"HCNM"]
[]
[]
[null,"ERT"]
[]
[]
[]
[]
[]
[]
[]
[]
[]
[]
[]
[]
[]
[]
[]
[]
[null,null,null,null,null,null,null,null,null,null,null,null,null,null,null,null,null,null,null,null,null,null,0]
[null,null,null,null,null,null,null,null,null,null,null,null,null,null,null,null,null,null,null,null,null,null,0]
[null,null,null,null,null,null,null,null,null,null,null,null,null,null,null,null,null,null,null,null,null,null,0]
[]
[null,null,null,null,null,null,null,null,null,null,null,null,null,null,null,null,null,null,null,null,null,null,0]
[]
[null,null,null,null,null,null,null,null,null,null,null,null,null,null,null,null,null,null,null,null,null,null,1]
[]
[]
[]
[]
[]
[]
[]
[]
[]
[null,null,null,null,null,null,null,null,null,null,null,null,null,null,null,null,null,null,null,null,null,null,0]
[]
[]
[]
[]
[]
[]
[]
[]
[]
[]
[]
[]
[]
[]
[]
[]
[null,null,null,null,null,null,null,null,null,null,null,null,null,null,null,null,null,null,null,null,null,null,0]
[]
[]
[]
["OBSERVAÇÕES GERAIS:"]
[]
[]
["NÃO ULTRAPASSAR OS LIMITES DA CAIXA DE TEXTO."]
[]
[{"$f":"'Dados Cadastrais'!A41","v":"Versão 1.0"},null,{"$f":"IF('Dados Cadastrais'!A41=\"Versão 1.0\",\"\",\"Alterações Realizadas:\")","v":""}]
[null,{"$f":"IF('Dados Cadastrais'!A42=\"\",\"\",'Dados Cadastrais'!A42)","v":""},{"$f":"IF('Dados Cadastrais'!B42=\"\",\"\",'Dados Cadastrais'!B42)","v":""}]
[null,{"$f":"IF('Dados Cadastrais'!A43=\"\",\"\",'Dados Cadastrais'!A43)","v":""},{"$f":"IF('Dados Cadastrais'!B43=\"\",\"\",'Dados Cadastrais'!B43)","v":""}]
[null,{"$f":"IF('Dados Cadastrais'!A44=\"\",\"\",'Dados Cadastrais'!A44)","v":""},{"$f":"IF('Dados Cadastrais'!B44=\"\",\"\",'Dados Cadastrais'!B44)","v":""}]
[null,{"$f":"IF('Dados Cadastrais'!A45=\"\",\"\",'Dados Cadastrais'!A45)","v":""},{"$f":"IF('Dados Cadastrais'!B45=\"\",\"\",'Dados Cadastrais'!B45)","v":""}]
[null,{"$f":"IF('Dados Cadastrais'!A46=\"\",\"\",'Dados Cadastrais'!A46)","v":""},{"$f":"IF('Dados Cadastrais'!B46=\"\",\"\",'Dados Cadastrais'!B46)","v":""}]
[null,{"$f":"IF('Dados Cadastrais'!A47=\"\",\"\",'Dados Cadastrais'!A47)","v":""},{"$f":"IF('Dados Cadastrais'!B47=\"\",\"\",'Dados Cadastrais'!B47)","v":""}]
[null,{"$f":"IF('Dados Cadastrais'!A48=\"\",\"\",'Dados Cadastrais'!A48)","v":""},{"$f":"IF('Dados Cadastrais'!B48=\"\",\"\",'Dados Cadastrais'!B48)","v":""}]
[null,{"$f":"IF('Dados Cadastrais'!A49=\"\",\"\",'Dados Cadastrais'!A49)","v":""},{"$f":"IF('Dados Cadastrais'!B49=\"\",\"\",'Dados Cadastrais'!B49)","v":""}]
[null,{"$f":"IF('Dados Cadastrais'!A50=\"\",\"\",'Dados Cadastrais'!A50)","v":""},{"$f":"IF('Dados Cadastrais'!B50=\"\",\"\",'Dados Cadastrais'!B50)","v":""}]
[null,{"$f":"IF('Dados Cadastrais'!A51=\"\",\"\",'Dados Cadastrais'!A51)","v":""},{"$f":"IF('Dados Cadastrais'!B51=\"\",\"\",'Dados Cadastrais'!B51)","v":""}]
[null,{"$f":"IF('Dados Cadastrais'!A52=\"\",\"\",'Dados Cadastrais'!A52)","v":""},{"$f":"IF('Dados Cadastrais'!B52=\"\",\"\",'Dados Cadastrais'!B52)","v":""}]
[null,{"$f":"IF('Dados Cadastrais'!A53=\"\",\"\",'Dados Cadastrais'!A53)","v":""},{"$f":"IF('Dados Cadastrais'!B53=\"\",\"\",'Dados Cadastrais'!B53)","v":""}]