{"text_format":"1","workbook":"xlsx","n_sheets":5,"sheets":["Dados Cadastrais","FONTE 1","FONTE 2","FONTE 3","FONTE 4"],"not_rendered":{"charts":0,"images":650,"macros":1,"external_links":1,"defined_names":769,"comments":0,"pivot_tables":0},"unopened":[],"bounds":{"document_bytes":16777216,"sheet_cells":100000,"rows_first":2000,"rows_last":500,"rows_between":2000,"halvings":0,"cell_chars":16384,"cell_head_chars":4096},"cells_cut":0,"cells_raw":0,"read":"whole","date_system":"1900"}

{"sheet":"Dados Cadastrais","index":0,"n_rows":77,"n_cols":16,"rows_kept":77,"cut":false,"hidden":false,"merged":[[26,15,26,17],[28,0,28,1],[28,2,28,7],[28,10,28,11],[29,0,29,1],[29,2,29,7],[29,10,29,11],[9,0,9,13],[10,0,10,1],[10,2,10,3],[10,7,10,8],[20,0,20,13],[14,0,14,3],[18,0,18,13],[19,0,19,3],[19,9,19,10],[16,0,16,2],[14,8,14,13],[6,1,6,4],[6,6,6,8],[6,9,6,13],[7,0,7,13],[8,1,8,2],[8,7,8,13],[2,1,2,13],[3,0,3,13],[4,1,4,13],[5,0,5,13],[0,0,0,2],[10,15,10,17],[11,0,11,13],[12,0,12,1],[13,0,13,13],[10,11,10,13],[12,2,12,7],[24,0,24,13],[26,0,26,1],[32,0,32,2],[32,3,32,6],[32,7,32,8],[32,9,32,10],[26,2,26,7],[26,10,26,11],[32,11,32,12],[27,10,27,11],[30,0,30,13],[27,0,27,1],[27,2,27,7],[76,1,76,13],[70,1,70,13],[71,1,71,13],[37,0,37,2],[64,1,64,3],[65,1,65,13],[66,1,66,13],[67,1,67,13],[68,1,68,13],[69,1,69,13],[72,1,72,13],[75,1,75,13],[73,1,73,13],[52,6,52,10],[57,6,57,13],[46,9,46,13],[34,3,34,6],[34,9,34,10],[34,11,34,12],[34,7,34,8],[33,0,33,2],[33,3,33,6],[33,7,33,8],[33,9,33,10],[61,5,61,13],[59,0,59,13],[74,1,74,13],[32,14,32,16],[49,0,49,13],[36,0,36,13],[39,0,39,2],[41,0,41,2],[43,0,43,2],[33,11,33,12],[35,0,35,2],[35,3,35,6],[35,7,35,8],[35,9,35,10],[35,11,35,12],[34,0,34,2]]}
["DADOS CADASTRAIS"]
[]
["Razão Social:"]
[]
["Endereço:"]
[]
["Município:",null,null,null,null,"UF: SP","Nome do Responsável\npelo preenchimento:"]
[]
["Telefone:",null,null,"Ramal: ",null,null,"e-mail:"]
[]
["Número   da   Licença\nde Operação Vigente:",null,null,null,null,null,"Data do vencimento:",null,null,null,"Processo:"]
[]
["Atividade  principal:"]
[]
["Passou por alteração no processo produtivo, incluindo ampliação nos últimos 05 anos?",null,null,null,null,null,null,null,"Está em período de renovação da L.O.?"]
[]
["Há processos de licencimento em andamento?"]
[]
[]
["Possui  Estudo  de  Dispersão  Atmosférica  já apresentado à CETESB?          ",null,null,null,null,null,null,null,"Data da apresentação: ","        /      /    "]
[{"$f":"CONCATENATE(Campo_Razao_Social,\"   -   \",Campo_Endereco,\", \",Campo_Municipio,\" - SP\")","v":"   -   ,  - SP"}]
[]
[]
[]
["DADOS DE CHAMINÉ"]
[]
["Identificação da Chaminé ",null,"Fontes de poluição com emissão direcionadas a chaminé",null,null,null,null,null,"Altura (m)","Diâmetro interno (m)","Coordenada  UTM-N\n(m)",null,"Coordenada  UTM-E\n(m)","Vazão\n(Nm³/h)",null,"<< Exclui a última linha da tabela\n \n \n<< Adiciona linhas na tabela"]
[]
[]
[]
["DADOS DE ARMAZENAMENTO"]
[]
["Tanque de armazenamento",null,null,"Produto armazenado",null,null,null,"Tipo ",null,"Teto",null,"Movimentação anual\n(m³/ano)",null,null,"<< Exclui a última linha da tabela\n \n \n<< Adiciona linhas na tabela"]
[]
[]
[]
["DADOS DE ARMAZENAMENTO"]
["Possui  pilha  de  estocagem  de  combustível a céu aberto? "]
[]
["Possui  pilha  de  estocagem  de  produto a céu aberto? "]
[]
["Possui pilha de armazenamento de matéria-prima a céu aberto? "]
[]
["Possui pilha de armazenamento de resíduos a céu aberto? "]
[]
[]
[]
[]
[]
["DADOS DE PROCESSO"]
[]
[]
[]
[]
[]
[]
[]
[]
[]
["INFORMAÇÕES ADICIONAIS"]
[]
[]
[]
[]
["Versão 1.0",{"$f":"IF(A65=\"Versão 1.0\",\"\",\"Alterações Realizadas:\")","v":""}]
[{"$f":"IF(B66=\"\",\"\",\"-\")","v":""}]
[{"$f":"IF(B67=\"\",\"\",\"-\")","v":""}]
[""]
[""]
[""]
[""]
[""]
[""]
[""]
[""]
[""]
[""]

{"sheet":"FONTE 1","index":1,"n_rows":137,"n_cols":25,"rows_kept":137,"cut":false,"hidden":false,"merged":[[118,2,118,3],[118,4,118,6],[118,7,118,8],[114,13,114,14],[114,16,114,17],[117,4,117,6],[117,7,117,8],[113,0,117,3],[136,2,136,21],[130,2,130,21],[131,2,131,21],[132,2,132,21],[133,2,133,21],[134,2,134,21],[135,2,135,21],[124,2,124,8],[125,2,125,21],[126,2,126,21],[127,2,127,21],[128,2,128,21],[129,2,129,21],[106,7,106,8],[106,16,106,19],[108,13,108,14],[108,16,108,17],[113,16,113,19],[86,16,86,17],[90,2,90,3],[90,16,90,21],[92,13,92,19],[100,2,100,3],[101,10,101,13],[101,20,101,21],[85,0,88,3],[91,0,96,3],[101,0,104,3],[107,0,110,3],[81,13,81,14],[81,16,81,17],[84,2,84,3],[84,9,84,12],[84,18,84,19],[68,19,68,20],[69,7,69,8],[69,10,69,11],[69,13,70,14],[69,15,70,16],[69,17,70,18],[69,19,70,20],[70,7,70,8],[70,10,70,11],[68,1,70,3],[68,4,70,6],[68,7,68,8],[68,10,68,12],[68,13,68,16],[68,17,68,18],[80,0,82,3],[71,1,73,3],[71,4,73,6],[71,7,71,8],[62,17,62,18],[65,19,65,20],[66,7,66,8],[66,10,66,11],[66,13,67,14],[66,15,67,16],[66,17,67,18],[66,19,67,20],[67,7,67,8],[67,10,67,11],[65,13,65,16],[65,17,65,18],[62,19,62,20],[63,7,63,8],[63,10,63,11],[63,13,64,14],[63,15,64,16],[63,17,64,18],[63,19,64,20],[65,7,65,8],[65,10,65,12],[56,18,56,19],[58,0,58,2],[58,3,58,6],[59,1,61,3],[59,4,61,6],[59,7,59,8],[59,10,59,12],[59,13,59,16],[59,17,59,18],[59,19,59,20],[60,7,60,8],[60,10,60,11],[60,13,61,14],[60,15,61,16],[60,17,61,18],[60,19,61,20],[61,7,61,8],[61,10,61,11],[48,1,48,7],[48,15,48,16],[50,1,50,7],[50,15,50,16],[52,1,52,7],[52,15,52,16],[64,7,64,8],[64,10,64,11],[56,0,56,16],[62,10,62,12],[62,13,62,16],[59,0,76,0],[65,1,67,3],[65,4,67,6],[62,1,64,3],[62,4,64,6],[62,7,62,8],[74,1,76,3],[74,7,74,8],[75,7,75,8],[76,7,76,8],[74,10,74,12],[75,10,75,11],[74,4,76,6],[46,1,46,7],[46,15,46,16],[38,1,38,7],[38,16,38,19],[38,20,38,21],[40,1,40,7],[40,16,40,19],[40,20,40,21],[47,0,47,6],[26,0,26,21],[32,16,32,19],[32,20,32,21],[23,9,24,12],[41,0,41,6],[42,1,42,7],[42,16,42,19],[42,20,42,21],[45,0,45,6],[21,0,21,4],[21,10,21,13],[14,5,15,6],[14,7,15,11],[14,12,15,14],[14,15,15,16],[14,17,15,19],[14,20,15,21],[16,0,17,21],[12,4,12,6],[12,7,13,7],[12,8,13,11],[12,12,13,14],[12,15,13,16],[12,17,13,19],[19,0,19,3],[19,4,19,5],[19,9,19,10],[19,15,19,20],[0,0,0,5],[0,6,0,8],[2,0,2,2],[2,3,2,14],[2,17,2,21],[4,0,4,5],[4,6,4,21],[8,20,9,21],[10,4,10,6],[10,7,11,7],[10,8,11,11],[10,12,11,14],[10,15,11,16],[10,17,11,19],[10,20,11,21],[8,0,8,4],[8,7,9,7],[8,8,9,11],[8,12,9,14],[8,15,9,16],[8,17,9,19],[71,17,71,18],[71,19,71,20],[72,17,73,18],[72,19,73,20],[74,19,74,20],[74,17,74,18],[75,17,76,18],[75,19,76,20],[6,7,7,7],[6,8,7,11],[6,12,7,14],[6,15,7,16],[6,17,7,19],[6,20,7,21],[12,20,13,21],[34,1,34,7],[34,16,34,19],[34,20,34,21],[36,1,36,7],[36,16,36,19],[36,20,36,21],[24,0,24,3],[24,4,24,6],[24,18,24,20],[71,10,71,12],[71,13,71,16],[72,7,72,8],[73,7,73,8],[72,10,72,11],[73,10,73,11],[72,13,73,14],[72,15,73,16],[76,10,76,11],[74,13,74,16],[75,13,76,14],[75,15,76,16]]}
["COMBUSTÍVEL:  ",null,null,null,null,null,null,null,null,null,null,null,null,null,null,null,null,null,null,null,null,null,null,null,"FONTE 1"]
[]
["Identificação\nda Fonte:",null,null,"",null,null,null,null,null,null,null,null,null,null,null,null,"TAG:",null,null,null,null,null,null,null,{"$f":"'FONTE 2'!Y3","v":"FONTE 2"}]
[]
["Local  (utilidades  ou qual  setor produtivo):",null,null,null,null,null,"",null,null,null,null,null,null,null,null,null,null,null,null,null,null,null,null,null,{"$f":"'FONTE 3'!Y5","v":"FONTE 3"}]
[]
[null,null,null,null,null,null,null,null,null,null,null,null,null,null,null,null,null,null,null,null,null,null,null,null,{"$f":"'FONTE 4'!Y7","v":"FONTE 4"}]
[]
[null,null,null,null,null,null,null,null,""]
[]
[null,null,null,null,null,null,null,null,""]
[]
[null,null,null,null,null,null,null,null,""]
[]
[null,null,null,null,null,null,null,""]
[]
["Para as fontes de combustão sem contato direto da chama com o produto ou matéria-prima, como caldeiras para geração de vapor, preencher as Planilhas de Combustão."]
[]
[]
["Funcionamento:",null,null,null,null,null,"Dias/mês",null,null,"horas/dia"]
[]
["Produção Sazonal:"]
[]
[]
[]
[{"$f":"'Dados Cadastrais'!A65","v":"Versão 1.0"}]
[{"$f":"IF('Dados Cadastrais'!B3=\"\",\"\",(CONCATENATE(Campo_Razao_Social,\"   -   \",Campo_Endereco,\", \",Campo_Municipio,\" - SP\",\"    ||    TAG: \",Campo_TAG,\"            \")))","v":""}]
[]
[]
[]
[]
[]
[]
[]
[]
[]
[]
[]
[]
[]
[]
[]
[]
[]
[]
[]
[]
[]
[]
[]
[]
[]
[]
[]
[{"$f":"'Dados Cadastrais'!A65","v":"Versão 1.0"}]
[]
["EMISSÕES",null,null,null,null,null,null,null,null,null,null,null,null,null,null,null,null,null,"CORREÇÃO\nDE O2: "]
[]
[]
["POLUENTE","MP"]
[]
[]
[null,"NH3"]
[]
[]
[null,"NOx"]
[]
[]
[null,"Fluoreto\n"]
[]
[]
[null,"SO2"]
[]
[]
[null,"SO3"]
[]
[]
[]
[]
[]
[]
[]
[]
[]
[]
[]
[null,null,null,null,null,null,null,null,null,null,null,null,null,null,null,null,null,null,null,null,null,null,1]
[null,null,null,null,null,null,null,null,null,null,null,null,null,null,null,null,null,null,null,null,null,null,0]
[null,null,null,null,null,null,null,null,null,null,null,null,null,null,null,null,null,null,null,null,null,null,1]
[]
[null,null,null,null,null,null,null,null,null,null,null,null,null,null,null,null,null,null,null,null,null,null,0]
[null,null,null,null,null,null,null,null,null,null,null,null,null,null,null,null,null,null,null,null,null,null,0]
[null,null,null,null,null,null,null,null,null,null,null,null,null,null,null,null,null,null,null,null,null,null,0]
[]
[null,null,null,null,null,null,null,null,null,null,null,null,null,null,null,null,null,null,null,null,null,null,0]
[]
[null,null,null,null,null,null,null,null,null,null,null,null,null,null,null,null,null,null,null,null,null,null,1]
[]
[]
[]
[]
[]
[null,null,null,null,null,null,null,null,null,null,null,null,null,null,null,null,null,null,null,null,null,null,1]
[]
[]
[]
[null,null,null,null,null,null,null,null,null,null,null,null,null,null,null,null,null,null,null,null,null,null,0]
[]
[]
[]
[]
[]
[]
[]
[]
[]
[]
[]
[]
["OBSERVAÇÕES GERAIS:"]
[]
[]
["NÃO ULTRAPASSAR OS LIMITES DA CAIXA DE TEXTO."]
[]
[{"$f":"'Dados Cadastrais'!A65","v":"Versão 1.0"},null,{"$f":"'Dados Cadastrais'!B65","v":""}]
[null,{"$f":"IF('Dados Cadastrais'!A66=\"\",\"\",'Dados Cadastrais'!A66)","v":""},{"$f":"IF('Dados Cadastrais'!B66=\"\",\"\",'Dados Cadastrais'!B66)","v":""}]
[null,{"$f":"IF('Dados Cadastrais'!A67=\"\",\"\",'Dados Cadastrais'!A67)","v":""},{"$f":"IF('Dados Cadastrais'!B67=\"\",\"\",'Dados Cadastrais'!B67)","v":""}]
[null,{"$f":"IF('Dados Cadastrais'!A68=\"\",\"\",'Dados Cadastrais'!A68)","v":""},{"$f":"IF('Dados Cadastrais'!B68=\"\",\"\",'Dados Cadastrais'!B68)","v":""}]
[null,{"$f":"IF('Dados Cadastrais'!A69=\"\",\"\",'Dados Cadastrais'!A69)","v":""},{"$f":"IF('Dados Cadastrais'!B69=\"\",\"\",'Dados Cadastrais'!B69)","v":""}]
[null,{"$f":"IF('Dados Cadastrais'!A70=\"\",\"\",'Dados Cadastrais'!A70)","v":""},{"$f":"IF('Dados Cadastrais'!B70=\"\",\"\",'Dados Cadastrais'!B70)","v":""}]
[null,{"$f":"IF('Dados Cadastrais'!A71=\"\",\"\",'Dados Cadastrais'!A71)","v":""},{"$f":"IF('Dados Cadastrais'!B71=\"\",\"\",'Dados Cadastrais'!B71)","v":""}]
[null,{"$f":"IF('Dados Cadastrais'!A72=\"\",\"\",'Dados Cadastrais'!A72)","v":""},{"$f":"IF('Dados Cadastrais'!B72=\"\",\"\",'Dados Cadastrais'!B72)","v":""}]
[null,{"$f":"IF('Dados Cadastrais'!A73=\"\",\"\",'Dados Cadastrais'!A73)","v":""},{"$f":"IF('Dados Cadastrais'!B73=\"\",\"\",'Dados Cadastrais'!B73)","v":""}]
[null,{"$f":"IF('Dados Cadastrais'!A74=\"\",\"\",'Dados Cadastrais'!A74)","v":""},{"$f":"IF('Dados Cadastrais'!B74=\"\",\"\",'Dados Cadastrais'!B74)","v":""}]
[null,{"$f":"IF('Dados Cadastrais'!A75=\"\",\"\",'Dados Cadastrais'!A75)","v":""},{"$f":"IF('Dados Cadastrais'!B75=\"\",\"\",'Dados Cadastrais'!B75)","v":""}]
[null,{"$f":"IF('Dados Cadastrais'!A76=\"\",\"\",'Dados Cadastrais'!A76)","v":""},{"$f":"IF('Dados Cadastrais'!B76=\"\",\"\",'Dados Cadastrais'!B76)","v":""}]
[null,{"$f":"IF('Dados Cadastrais'!A77=\"\",\"\",'Dados Cadastrais'!A77)","v":""},{"$f":"IF('Dados Cadastrais'!B77=\"\",\"\",'Dados Cadastrais'!B77)","v":""}]

{"sheet":"FONTE 2","index":2,"n_rows":137,"n_cols":25,"rows_kept":137,"cut":false,"hidden":true,"merged":[[8,7,9,7],[8,8,9,11],[0,0,0,5],[2,17,2,21],[4,0,4,5],[6,20,7,21],[2,0,2,2],[2,3,2,14],[6,7,7,7],[0,6,0,8],[6,15,7,16],[6,8,7,11],[6,12,7,14],[6,17,7,19],[4,6,4,21],[10,8,11,11],[16,0,17,21],[8,0,8,4],[10,4,10,6],[12,4,12,6],[10,7,11,7],[19,0,19,3],[14,5,15,6],[12,8,13,11],[12,20,13,21],[8,12,9,14],[8,17,9,19],[10,17,11,19],[10,12,11,14],[12,12,13,14],[14,17,15,19],[14,20,15,21],[10,15,11,16],[12,15,13,16],[8,20,9,21],[10,20,11,21],[12,7,13,7],[12,17,13,19],[8,15,9,16],[32,16,32,19],[38,20,38,21],[38,1,38,7],[38,16,38,19],[14,12,15,14],[14,7,15,11],[21,0,21,4],[21,10,21,13],[19,15,19,20],[26,0,26,21],[24,0,24,3],[34,16,34,19],[19,4,19,5],[19,9,19,10],[23,9,24,12],[36,16,36,19],[34,1,34,7],[36,1,36,7],[34,20,34,21],[36,20,36,21],[32,20,32,21],[24,18,24,20],[14,15,15,16],[24,4,24,6],[41,0,41,6],[42,1,42,7],[52,1,52,7],[42,20,42,21],[42,16,42,19],[46,15,46,16],[60,15,61,16],[40,1,40,7],[40,16,40,19],[47,0,47,6],[45,0,45,6],[46,1,46,7],[50,1,50,7],[40,20,40,21],[52,15,52,16],[56,18,56,19],[58,0,58,2],[60,10,60,11],[60,17,61,18],[60,19,61,20],[61,10,61,11],[58,3,58,6],[48,1,48,7],[59,13,59,16],[56,0,56,16],[48,15,48,16],[50,15,50,16],[59,1,61,3],[59,4,61,6],[62,10,62,12],[62,13,62,16],[69,10,69,11],[59,7,59,8],[63,7,63,8],[59,10,59,12],[60,7,60,8],[61,7,61,8],[62,1,64,3],[68,4,70,6],[59,19,59,20],[59,17,59,18],[60,13,61,14],[114,13,114,14],[81,13,81,14],[69,19,70,20],[70,10,70,11],[64,7,64,8],[66,7,66,8],[67,7,67,8],[62,7,62,8],[63,13,64,14],[63,10,63,11],[63,19,64,20],[63,15,64,16],[65,7,65,8],[66,10,66,11],[66,13,67,14],[66,15,67,16],[66,17,67,18],[66,19,67,20],[67,10,67,11],[65,17,65,18],[65,13,65,16],[62,19,62,20],[63,17,64,18],[65,19,65,20],[84,9,84,12],[86,16,86,17],[90,2,90,3],[100,2,100,3],[84,2,84,3],[90,16,90,21],[92,13,92,19],[84,18,84,19],[68,7,68,8],[80,0,82,3],[62,17,62,18],[68,17,68,18],[68,19,68,20],[64,10,64,11],[68,10,68,12],[68,13,68,16],[62,4,64,6],[69,15,70,16],[65,1,67,3],[65,4,67,6],[65,10,65,12],[136,2,136,21],[69,7,69,8],[70,7,70,8],[124,2,124,8],[125,2,125,21],[126,2,126,21],[127,2,127,21],[128,2,128,21],[129,2,129,21],[130,2,130,21],[131,2,131,21],[108,16,108,17],[101,10,101,13],[69,17,70,18],[118,2,118,3],[118,4,118,6],[118,7,118,8],[81,16,81,17],[132,2,132,21],[133,2,133,21],[134,2,134,21],[114,16,114,17],[69,13,70,14],[68,1,70,3],[135,2,135,21],[117,4,117,6],[113,0,117,3],[113,16,113,19],[85,0,88,3],[91,0,96,3],[101,0,104,3],[107,0,110,3],[117,7,117,8],[101,20,101,21],[106,7,106,8],[106,16,106,19],[108,13,108,14],[74,1,76,3],[59,0,76,0],[74,7,74,8],[75,7,75,8],[76,7,76,8],[74,10,74,12],[75,10,75,11],[76,10,76,11],[74,4,76,6],[71,1,73,3],[71,4,73,6],[71,7,71,8],[71,10,71,12],[72,7,72,8],[73,7,73,8],[72,10,72,11],[73,10,73,11],[74,13,74,16],[75,13,76,14],[75,15,76,16],[71,17,71,18],[71,19,71,20],[72,17,73,18],[72,19,73,20],[74,17,74,18],[74,19,74,20],[75,19,76,20],[75,17,76,18],[71,13,71,16],[72,13,73,14],[72,15,73,16]]}
["COMBUSTÍVEL:  ",null,null,null,null,null,null,null,null,null,null,null,null,null,null,null,null,null,null,null,null,null,null,null,{"$f":"'FONTE 1'!Y1","v":"FONTE 1"}]
[]
["Identificação\nda Fonte:",null,null,"",null,null,null,null,null,null,null,null,null,null,null,null,"TAG:",null,null,null,null,null,null,null,"FONTE 2"]
[]
["Local  (utilidades  ou qual  setor produtivo):",null,null,null,null,null,"",null,null,null,null,null,null,null,null,null,null,null,null,null,null,null,null,null,{"$f":"'FONTE 3'!Y5","v":"FONTE 3"}]
[]
[null,null,null,null,null,null,null,null,null,null,null,null,null,null,null,null,null,null,null,null,null,null,null,null,{"$f":"'FONTE 4'!Y7","v":"FONTE 4"}]
[]
[null,null,null,null,null,null,null,null,""]
[]
[null,null,null,null,null,null,null,null,""]
[]
[null,null,null,null,null,null,null,null,""]
[]
[null,null,null,null,null,null,null,""]
[]
["Para as fontes de combustão sem contato direto da chama com o produto ou matéria-prima, como caldeiras para geração de vapor, preencher as Planilhas de Combustão."]
[]
[]
["Funcionamento:",null,null,null,null,null,"Dias/mês",null,null,"horas/dia"]
[]
["Produção Sazonal:"]
[]
[]
[]
[{"$f":"'Dados Cadastrais'!A65","v":"Versão 1.0"}]
[{"$f":"IF('Dados Cadastrais'!B3=\"\",\"\",(CONCATENATE(Campo_Razao_Social,\"   -   \",Campo_Endereco,\", \",Campo_Municipio,\" - SP\",\"    ||    TAG: \",Campo_TAG,\"            \")))","v":""}]
[]
[]
[]
[]
[]
[]
[]
[]
[]
[]
[]
[]
[]
[]
[]
[]
[]
[]
[]
[]
[]
[]
[]
[]
[]
[]
[]
[{"$f":"'Dados Cadastrais'!A65","v":"Versão 1.0"}]
[]
["EMISSÕES",null,null,null,null,null,null,null,null,null,null,null,null,null,null,null,null,null,"CORREÇÃO\nDE O2: "]
[]
[]
["POLUENTE","MP"]
[]
[]
[null,"NH3"]
[]
[]
[null,"NOx"]
[]
[]
[null,"Fluoreto\n"]
[]
[]
[null,"SO2"]
[]
[]
[null,"SO3"]
[]
[]
[]
[]
[]
[]
[]
[]
[]
[]
[]
[null,null,null,null,null,null,null,null,null,null,null,null,null,null,null,null,null,null,null,null,null,null,0]
[null,null,null,null,null,null,null,null,null,null,null,null,null,null,null,null,null,null,null,null,null,null,0]
[null,null,null,null,null,null,null,null,null,null,null,null,null,null,null,null,null,null,null,null,null,null,1]
[]
[null,null,null,null,null,null,null,null,null,null,null,null,null,null,null,null,null,null,null,null,null,null,0]
[null,null,null,null,null,null,null,null,null,null,null,null,null,null,null,null,null,null,null,null,null,null,0]
[null,null,null,null,null,null,null,null,null,null,null,null,null,null,null,null,null,null,null,null,null,null,0]
[]
[null,null,null,null,null,null,null,null,null,null,null,null,null,null,null,null,null,null,null,null,null,null,0]
[]
[null,null,null,null,null,null,null,null,null,null,null,null,null,null,null,null,null,null,null,null,null,null,1]
[]
[]
[]
[]
[]
[null,null,null,null,null,null,null,null,null,null,null,null,null,null,null,null,null,null,null,null,null,null,1]
[]
[]
[]
[null,null,null,null,null,null,null,null,null,null,null,null,null,null,null,null,null,null,null,null,null,null,0]
[]
[]
[]
[]
[]
[]
[]
[]
[]
[]
[]
[]
["OBSERVAÇÕES GERAIS:"]
[]
[]
["NÃO ULTRAPASSAR OS LIMITES DA CAIXA DE TEXTO."]
[]
[{"$f":"'Dados Cadastrais'!A65","v":"Versão 1.0"},null,{"$f":"'Dados Cadastrais'!B65","v":""}]
[null,{"$f":"IF('Dados Cadastrais'!A66=\"\",\"\",'Dados Cadastrais'!A66)","v":""},{"$f":"IF('Dados Cadastrais'!B66=\"\",\"\",'Dados Cadastrais'!B66)","v":""}]
[null,{"$f":"IF('Dados Cadastrais'!A67=\"\",\"\",'Dados Cadastrais'!A67)","v":""},{"$f":"IF('Dados Cadastrais'!B67=\"\",\"\",'Dados Cadastrais'!B67)","v":""}]
[null,{"$f":"IF('Dados Cadastrais'!A68=\"\",\"\",'Dados Cadastrais'!A68)","v":""},{"$f":"IF('Dados Cadastrais'!B68=\"\",\"\",'Dados Cadastrais'!B68)","v":""}]
[null,{"$f":"IF('Dados Cadastrais'!A69=\"\",\"\",'Dados Cadastrais'!A69)","v":""},{"$f":"IF('Dados Cadastrais'!B69=\"\",\"\",'Dados Cadastrais'!B69)","v":""}]
[null,{"$f":"IF('Dados Cadastrais'!A70=\"\",\"\",'Dados Cadastrais'!A70)","v":""},{"$f":"IF('Dados Cadastrais'!B70=\"\",\"\",'Dados Cadastrais'!B70)","v":""}]
[null,{"$f":"IF('Dados Cadastrais'!A71=\"\",\"\",'Dados Cadastrais'!A71)","v":""},{"$f":"IF('Dados Cadastrais'!B71=\"\",\"\",'Dados Cadastrais'!B71)","v":""}]
[null,{"$f":"IF('Dados Cadastrais'!A72=\"\",\"\",'Dados Cadastrais'!A72)","v":""},{"$f":"IF('Dados Cadastrais'!B72=\"\",\"\",'Dados Cadastrais'!B72)","v":""}]
[null,{"$f":"IF('Dados Cadastrais'!A73=\"\",\"\",'Dados Cadastrais'!A73)","v":""},{"$f":"IF('Dados Cadastrais'!B73=\"\",\"\",'Dados Cadastrais'!B73)","v":""}]
[null,{"$f":"IF('Dados Cadastrais'!A74=\"\",\"\",'Dados Cadastrais'!A74)","v":""},{"$f":"IF('Dados Cadastrais'!B74=\"\",\"\",'Dados Cadastrais'!B74)","v":""}]
[null,{"$f":"IF('Dados Cadastrais'!A75=\"\",\"\",'Dados Cadastrais'!A75)","v":""},{"$f":"IF('Dados Cadastrais'!B75=\"\",\"\",'Dados Cadastrais'!B75)","v":""}]
[null,{"$f":"IF('Dados Cadastrais'!A76=\"\",\"\",'Dados Cadastrais'!A76)","v":""},{"$f":"IF('Dados Cadastrais'!B76=\"\",\"\",'Dados Cadastrais'!B76)","v":""}]
[null,{"$f":"IF('Dados Cadastrais'!A77=\"\",\"\",'Dados Cadastrais'!A77)","v":""},{"$f":"IF('Dados Cadastrais'!B77=\"\",\"\",'Dados Cadastrais'!B77)","v":""}]

{"sheet":"FONTE 3","index":3,"n_rows":137,"n_cols":25,"rows_kept":137,"cut":false,"hidden":true,"merged":[[118,2,118,3],[118,4,118,6],[118,7,118,8],[114,13,114,14],[114,16,114,17],[117,4,117,6],[117,7,117,8],[113,0,117,3],[136,2,136,21],[130,2,130,21],[131,2,131,21],[132,2,132,21],[133,2,133,21],[134,2,134,21],[135,2,135,21],[124,2,124,8],[125,2,125,21],[126,2,126,21],[127,2,127,21],[128,2,128,21],[129,2,129,21],[106,7,106,8],[106,16,106,19],[108,13,108,14],[108,16,108,17],[113,16,113,19],[86,16,86,17],[90,2,90,3],[90,16,90,21],[92,13,92,19],[100,2,100,3],[101,10,101,13],[101,20,101,21],[85,0,88,3],[91,0,96,3],[101,0,104,3],[107,0,110,3],[81,13,81,14],[81,16,81,17],[84,2,84,3],[84,9,84,12],[84,18,84,19],[68,19,68,20],[69,7,69,8],[69,10,69,11],[69,13,70,14],[69,15,70,16],[69,17,70,18],[69,19,70,20],[70,7,70,8],[70,10,70,11],[68,1,70,3],[68,4,70,6],[68,7,68,8],[68,10,68,12],[68,13,68,16],[68,17,68,18],[80,0,82,3],[71,1,73,3],[71,4,73,6],[71,7,71,8],[62,17,62,18],[65,19,65,20],[66,7,66,8],[66,10,66,11],[66,13,67,14],[66,15,67,16],[66,17,67,18],[66,19,67,20],[67,7,67,8],[67,10,67,11],[65,13,65,16],[65,17,65,18],[62,19,62,20],[63,7,63,8],[63,10,63,11],[63,13,64,14],[63,15,64,16],[63,17,64,18],[63,19,64,20],[65,7,65,8],[65,10,65,12],[56,18,56,19],[58,0,58,2],[58,3,58,6],[59,1,61,3],[59,4,61,6],[59,7,59,8],[59,10,59,12],[59,13,59,16],[59,17,59,18],[59,19,59,20],[60,7,60,8],[60,10,60,11],[60,13,61,14],[60,15,61,16],[60,17,61,18],[60,19,61,20],[61,7,61,8],[61,10,61,11],[48,1,48,7],[48,15,48,16],[50,1,50,7],[50,15,50,16],[52,1,52,7],[52,15,52,16],[64,7,64,8],[64,10,64,11],[56,0,56,16],[62,10,62,12],[62,13,62,16],[59,0,76,0],[65,1,67,3],[65,4,67,6],[62,1,64,3],[62,4,64,6],[62,7,62,8],[74,1,76,3],[74,7,74,8],[75,7,75,8],[76,7,76,8],[74,10,74,12],[75,10,75,11],[74,4,76,6],[46,1,46,7],[46,15,46,16],[38,1,38,7],[38,16,38,19],[38,20,38,21],[40,1,40,7],[40,16,40,19],[40,20,40,21],[47,0,47,6],[26,0,26,21],[32,16,32,19],[32,20,32,21],[23,9,24,12],[41,0,41,6],[42,1,42,7],[42,16,42,19],[42,20,42,21],[45,0,45,6],[21,0,21,4],[21,10,21,13],[14,5,15,6],[14,7,15,11],[14,12,15,14],[14,15,15,16],[14,17,15,19],[14,20,15,21],[16,0,17,21],[12,4,12,6],[12,7,13,7],[12,8,13,11],[12,12,13,14],[12,15,13,16],[12,17,13,19],[19,0,19,3],[19,4,19,5],[19,9,19,10],[19,15,19,20],[0,0,0,5],[0,6,0,8],[2,0,2,2],[2,3,2,14],[2,17,2,21],[4,0,4,5],[4,6,4,21],[8,20,9,21],[10,4,10,6],[10,7,11,7],[10,8,11,11],[10,12,11,14],[10,15,11,16],[10,17,11,19],[10,20,11,21],[8,0,8,4],[8,7,9,7],[8,8,9,11],[8,12,9,14],[8,15,9,16],[8,17,9,19],[71,17,71,18],[71,19,71,20],[74,19,74,20],[74,17,74,18],[72,17,73,18],[75,17,76,18],[75,19,76,20],[72,19,73,20],[6,7,7,7],[6,8,7,11],[6,12,7,14],[6,15,7,16],[6,17,7,19],[6,20,7,21],[12,20,13,21],[34,1,34,7],[34,16,34,19],[34,20,34,21],[36,1,36,7],[36,16,36,19],[36,20,36,21],[24,0,24,3],[24,4,24,6],[24,18,24,20],[71,10,71,12],[71,13,71,16],[72,7,72,8],[73,7,73,8],[72,10,72,11],[73,10,73,11],[72,13,73,14],[72,15,73,16],[76,10,76,11],[74,13,74,16],[75,13,76,14],[75,15,76,16]]}
["COMBUSTÍVEL:  ",null,null,null,null,null,null,null,null,null,null,null,null,null,null,null,null,null,null,null,null,null,null,null,{"$f":"'FONTE 1'!Y1","v":"FONTE 1"}]
[]
["Identificação:",null,null,"",null,null,null,null,null,null,null,null,null,null,null,null,"TAG:",null,null,null,null,null,null,null,{"$f":"'FONTE 2'!Y3","v":"FONTE 2"}]
[]
["Local  (utilidades  ou qual  setor produtivo):",null,null,null,null,null,"",null,null,null,null,null,null,null,null,null,null,null,null,null,null,null,null,null,"FONTE 3"]
[]
[null,null,null,null,null,null,null,null,null,null,null,null,null,null,null,null,null,null,null,null,null,null,null,null,{"$f":"'FONTE 4'!Y7","v":"FONTE 4"}]
[]
[null,null,null,null,null,null,null,null,""]
[]
[null,null,null,null,null,null,null,null,""]
[]
[null,null,null,null,null,null,null,null,""]
[]
[null,null,null,null,null,null,null,""]
[]
["Para as fontes de combustão sem contato direto da chama com o produto ou matéria-prima, como caldeiras para geração de vapor, preencher as Planilhas de Combustão."]
[]
[]
["Funcionamento:",null,null,null,null,null,"Dias/mês",null,null,"horas/dia"]
[]
["Produção Sazonal:"]
[]
[]
[]
[{"$f":"'Dados Cadastrais'!A65","v":"Versão 1.0"}]
[{"$f":"IF('Dados Cadastrais'!B3=\"\",\"\",(CONCATENATE(Campo_Razao_Social,\"   -   \",Campo_Endereco,\", \",Campo_Municipio,\" - SP\",\"    ||    TAG: \",Campo_TAG,\"            \")))","v":""}]
[]
[]
[]
[]
[]
[]
[]
[]
[]
[]
[]
[]
[]
[]
[]
[]
[]
[]
[]
[]
[]
[]
[]
[]
[]
[]
[]
[{"$f":"'Dados Cadastrais'!A65","v":"Versão 1.0"}]
[]
["EMISSÕES",null,null,null,null,null,null,null,null,null,null,null,null,null,null,null,null,null,"CORREÇÃO\nDE O2: "]
[]
[]
["POLUENTE","MP"]
[]
[]
[null,"NH3"]
[]
[]
[null,"NOx"]
[]
[]
[null,"Fluoreto\n"]
[]
[]
[null,"SO2"]
[]
[]
[null,"SO3"]
[]
[]
[]
[]
[]
[]
[]
[]
[]
[]
[]
[null,null,null,null,null,null,null,null,null,null,null,null,null,null,null,null,null,null,null,null,null,null,1]
[null,null,null,null,null,null,null,null,null,null,null,null,null,null,null,null,null,null,null,null,null,null,0]
[null,null,null,null,null,null,null,null,null,null,null,null,null,null,null,null,null,null,null,null,null,null,1]
[]
[null,null,null,null,null,null,null,null,null,null,null,null,null,null,null,null,null,null,null,null,null,null,0]
[null,null,null,null,null,null,null,null,null,null,null,null,null,null,null,null,null,null,null,null,null,null,0]
[null,null,null,null,null,null,null,null,null,null,null,null,null,null,null,null,null,null,null,null,null,null,0]
[]
[null,null,null,null,null,null,null,null,null,null,null,null,null,null,null,null,null,null,null,null,null,null,0]
[]
[null,null,null,null,null,null,null,null,null,null,null,null,null,null,null,null,null,null,null,null,null,null,1]
[]
[]
[]
[]
[]
[null,null,null,null,null,null,null,null,null,null,null,null,null,null,null,null,null,null,null,null,null,null,1]
[]
[]
[]
[null,null,null,null,null,null,null,null,null,null,null,null,null,null,null,null,null,null,null,null,null,null,0]
[]
[]
[]
[]
[]
[]
[]
[]
[]
[]
[]
[]
["OBSERVAÇÕES GERAIS:"]
[]
[]
["NÃO ULTRAPASSAR OS LIMITES DA CAIXA DE TEXTO."]
[]
[{"$f":"'Dados Cadastrais'!A65","v":"Versão 1.0"},null,{"$f":"'Dados Cadastrais'!B65","v":""}]
[null,{"$f":"IF('Dados Cadastrais'!A66=\"\",\"\",'Dados Cadastrais'!A66)","v":""},{"$f":"IF('Dados Cadastrais'!B66=\"\",\"\",'Dados Cadastrais'!B66)","v":""}]
[null,{"$f":"IF('Dados Cadastrais'!A67=\"\",\"\",'Dados Cadastrais'!A67)","v":""},{"$f":"IF('Dados Cadastrais'!B67=\"\",\"\",'Dados Cadastrais'!B67)","v":""}]
[null,{"$f":"IF('Dados Cadastrais'!A68=\"\",\"\",'Dados Cadastrais'!A68)","v":""},{"$f":"IF('Dados Cadastrais'!B68=\"\",\"\",'Dados Cadastrais'!B68)","v":""}]
[null,{"$f":"IF('Dados Cadastrais'!A69=\"\",\"\",'Dados Cadastrais'!A69)","v":""},{"$f":"IF('Dados Cadastrais'!B69=\"\",\"\",'Dados Cadastrais'!B69)","v":""}]
[null,{"$f":"IF('Dados Cadastrais'!A70=\"\",\"\",'Dados Cadastrais'!A70)","v":""},{"$f":"IF('Dados Cadastrais'!B70=\"\",\"\",'Dados Cadastrais'!B70)","v":""}]
[null,{"$f":"IF('Dados Cadastrais'!A71=\"\",\"\",'Dados Cadastrais'!A71)","v":""},{"$f":"IF('Dados Cadastrais'!B71=\"\",\"\",'Dados Cadastrais'!B71)","v":""}]
[null,{"$f":"IF('Dados Cadastrais'!A72=\"\",\"\",'Dados Cadastrais'!A72)","v":""},{"$f":"IF('Dados Cadastrais'!B72=\"\",\"\",'Dados Cadastrais'!B72)","v":""}]
[null,{"$f":"IF('Dados Cadastrais'!A73=\"\",\"\",'Dados Cadastrais'!A73)","v":""},{"$f":"IF('Dados Cadastrais'!B73=\"\",\"\",'Dados Cadastrais'!B73)","v":""}]
[null,{"$f":"IF('Dados Cadastrais'!A74=\"\",\"\",'Dados Cadastrais'!A74)","v":""},{"$f":"IF('Dados Cadastrais'!B74=\"\",\"\",'Dados Cadastrais'!B74)","v":""}]
[null,{"$f":"IF('Dados Cadastrais'!A75=\"\",\"\",'Dados Cadastrais'!A75)","v":""},{"$f":"IF('Dados Cadastrais'!B75=\"\",\"\",'Dados Cadastrais'!B75)","v":""}]
[null,{"$f":"IF('Dados Cadastrais'!A76=\"\",\"\",'Dados Cadastrais'!A76)","v":""},{"$f":"IF('Dados Cadastrais'!B76=\"\",\"\",'Dados Cadastrais'!B76)","v":""}]
[null,{"$f":"IF('Dados Cadastrais'!A77=\"\",\"\",'Dados Cadastrais'!A77)","v":""},{"$f":"IF('Dados Cadastrais'!B77=\"\",\"\",'Dados Cadastrais'!B77)","v":""}]

{"sheet":"FONTE 4","index":4,"n_rows":137,"n_cols":25,"rows_kept":137,"cut":false,"hidden":true,"merged":[[6,7,7,7],[6,8,7,11],[6,12,7,14],[6,15,7,16],[6,17,7,19],[6,20,7,21],[0,0,0,5],[0,6,0,8],[2,0,2,2],[2,3,2,14],[2,17,2,21],[4,0,4,5],[4,6,4,21],[12,20,13,21],[12,4,12,6],[12,7,13,7],[12,8,13,11],[12,12,13,14],[12,15,13,16],[12,17,13,19],[8,20,9,21],[10,4,10,6],[10,7,11,7],[10,8,11,11],[10,12,11,14],[10,15,11,16],[10,17,11,19],[10,20,11,21],[8,0,8,4],[8,7,9,7],[8,8,9,11],[8,12,9,14],[8,15,9,16],[8,17,9,19],[19,0,19,3],[19,4,19,5],[19,9,19,10],[19,15,19,20],[21,0,21,4],[21,10,21,13],[14,5,15,6],[14,7,15,11],[14,12,15,14],[14,15,15,16],[14,17,15,19],[14,20,15,21],[16,0,17,21],[34,1,34,7],[34,16,34,19],[34,20,34,21],[36,1,36,7],[36,16,36,19],[36,20,36,21],[24,0,24,3],[24,4,24,6],[24,18,24,20],[26,0,26,21],[32,16,32,19],[32,20,32,21],[23,9,24,12],[41,0,41,6],[42,1,42,7],[42,16,42,19],[42,20,42,21],[45,0,45,6],[46,1,46,7],[46,15,46,16],[38,1,38,7],[38,16,38,19],[38,20,38,21],[40,1,40,7],[40,16,40,19],[40,20,40,21],[65,1,67,3],[65,4,67,6],[62,1,64,3],[62,4,64,6],[62,7,62,8],[47,0,47,6],[48,1,48,7],[48,15,48,16],[50,1,50,7],[50,15,50,16],[52,1,52,7],[52,15,52,16],[64,7,64,8],[64,10,64,11],[56,0,56,16],[62,10,62,12],[62,13,62,16],[59,0,76,0],[74,1,76,3],[74,7,74,8],[75,7,75,8],[76,7,76,8],[74,10,74,12],[75,10,75,11],[56,18,56,19],[58,0,58,2],[58,3,58,6],[59,1,61,3],[59,4,61,6],[59,7,59,8],[59,10,59,12],[59,13,59,16],[59,17,59,18],[59,19,59,20],[60,7,60,8],[60,10,60,11],[60,13,61,14],[60,15,61,16],[60,17,61,18],[60,19,61,20],[61,7,61,8],[61,10,61,11],[62,17,62,18],[65,19,65,20],[66,7,66,8],[66,10,66,11],[66,13,67,14],[66,15,67,16],[66,17,67,18],[66,19,67,20],[67,7,67,8],[67,10,67,11],[65,13,65,16],[65,17,65,18],[62,19,62,20],[63,7,63,8],[63,10,63,11],[63,13,64,14],[63,15,64,16],[63,17,64,18],[63,19,64,20],[65,7,65,8],[65,10,65,12],[81,13,81,14],[81,16,81,17],[84,2,84,3],[84,9,84,12],[84,18,84,19],[68,19,68,20],[69,7,69,8],[69,10,69,11],[69,13,70,14],[69,15,70,16],[69,17,70,18],[69,19,70,20],[70,7,70,8],[70,10,70,11],[68,1,70,3],[68,4,70,6],[68,7,68,8],[68,10,68,12],[68,13,68,16],[68,17,68,18],[80,0,82,3],[71,1,73,3],[71,4,73,6],[71,7,71,8],[107,0,110,3],[113,0,117,3],[86,16,86,17],[90,2,90,3],[90,16,90,21],[92,13,92,19],[100,2,100,3],[101,10,101,13],[101,20,101,21],[85,0,88,3],[91,0,96,3],[101,0,104,3],[114,13,114,14],[114,16,114,17],[117,4,117,6],[117,7,117,8],[106,7,106,8],[106,16,106,19],[108,13,108,14],[108,16,108,17],[113,16,113,19],[71,17,71,18],[71,19,71,20],[72,19,73,20],[72,17,73,18],[74,17,74,18],[75,17,76,18],[75,19,76,20],[74,19,74,20],[136,2,136,21],[130,2,130,21],[131,2,131,21],[132,2,132,21],[133,2,133,21],[134,2,134,21],[135,2,135,21],[124,2,124,8],[125,2,125,21],[126,2,126,21],[127,2,127,21],[128,2,128,21],[129,2,129,21],[118,2,118,3],[118,4,118,6],[118,7,118,8],[74,4,76,6],[71,10,71,12],[71,13,71,16],[72,7,72,8],[73,7,73,8],[72,10,72,11],[73,10,73,11],[72,13,73,14],[72,15,73,16],[76,10,76,11],[74,13,74,16],[75,13,76,14],[75,15,76,16]]}
["COMBUSTÍVEL:  ",null,null,null,null,null,null,null,null,null,null,null,null,null,null,null,null,null,null,null,null,null,null,null,{"$f":"'FONTE 1'!Y1","v":"FONTE 1"}]
[]
["Identificação:",null,null,"",null,null,null,null,null,null,null,null,null,null,null,null,"TAG:",null,null,null,null,null,null,null,{"$f":"'FONTE 2'!Y3","v":"FONTE 2"}]
[]
["Local  (utilidades  ou qual  setor produtivo):",null,null,null,null,null,"",null,null,null,null,null,null,null,null,null,null,null,null,null,null,null,null,null,{"$f":"'FONTE 3'!Y5","v":"FONTE 3"}]
[]
[null,null,null,null,null,null,null,null,null,null,null,null,null,null,null,null,null,null,null,null,null,null,null,null,"FONTE 4"]
[]
[null,null,null,null,null,null,null,null,""]
[]
[null,null,null,null,null,null,null,null,""]
[]
[null,null,null,null,null,null,null,null,""]
[]
[null,null,null,null,null,null,null,""]
[]
["Para as fontes de combustão sem contato direto da chama com o produto ou matéria-prima, como caldeiras para geração de vapor, preencher as Planilhas de Combustão."]
[]
[]
["Funcionamento:",null,null,null,null,null,"Dias/mês",null,null,"horas/dia"]
[]
["Produção Sazonal:"]
[]
[]
[]
[{"$f":"'Dados Cadastrais'!A65","v":"Versão 1.0"}]
[{"$f":"IF('Dados Cadastrais'!B3=\"\",\"\",(CONCATENATE(Campo_Razao_Social,\"   -   \",Campo_Endereco,\", \",Campo_Municipio,\" - SP\",\"    ||    TAG: \",Campo_TAG,\"            \")))","v":""}]
[]
[]
[]
[]
[]
[]
[]
[]
[]
[]
[]
[]
[]
[]
[]
[]
[]
[]
[]
[]
[]
[]
[]
[]
[]
[]
[]
[{"$f":"'Dados Cadastrais'!A65","v":"Versão 1.0"}]
[]
["EMISSÕES",null,null,null,null,null,null,null,null,null,null,null,null,null,null,null,null,null,"CORREÇÃO\nDE O2: "]
[]
[]
["POLUENTE","MP"]
[]
[]
[null,"NH3"]
[]
[]
[null,"NOx"]
[]
[]
[null,"Fluoreto\n"]
[]
[]
[null,"SO2"]
[]
[]
[null,"SO3"]
[]
[]
[]
[]
[]
[]
[]
[]
[]
[]
[]
[null,null,null,null,null,null,null,null,null,null,null,null,null,null,null,null,null,null,null,null,null,null,1]
[null,null,null,null,null,null,null,null,null,null,null,null,null,null,null,null,null,null,null,null,null,null,0]
[null,null,null,null,null,null,null,null,null,null,null,null,null,null,null,null,null,null,null,null,null,null,1]
[]
[null,null,null,null,null,null,null,null,null,null,null,null,null,null,null,null,null,null,null,null,null,null,0]
[null,null,null,null,null,null,null,null,null,null,null,null,null,null,null,null,null,null,null,null,null,null,0]
[null,null,null,null,null,null,null,null,null,null,null,null,null,null,null,null,null,null,null,null,null,null,0]
[]
[null,null,null,null,null,null,null,null,null,null,null,null,null,null,null,null,null,null,null,null,null,null,0]
[]
[null,null,null,null,null,null,null,null,null,null,null,null,null,null,null,null,null,null,null,null,null,null,1]
[]
[]
[]
[]
[]
[null,null,null,null,null,null,null,null,null,null,null,null,null,null,null,null,null,null,null,null,null,null,1]
[]
[]
[]
[null,null,null,null,null,null,null,null,null,null,null,null,null,null,null,null,null,null,null,null,null,null,0]
[]
[]
[]
[]
[]
[]
[]
[]
[]
[]
[]
[]
["OBSERVAÇÕES GERAIS:"]
[]
[]
["NÃO ULTRAPASSAR OS LIMITES DA CAIXA DE TEXTO."]
[]
[{"$f":"'Dados Cadastrais'!A65","v":"Versão 1.0"},null,{"$f":"'Dados Cadastrais'!B65","v":""}]
[null,{"$f":"IF('Dados Cadastrais'!A66=\"\",\"\",'Dados Cadastrais'!A66)","v":""},{"$f":"IF('Dados Cadastrais'!B66=\"\",\"\",'Dados Cadastrais'!B66)","v":""}]
[null,{"$f":"IF('Dados Cadastrais'!A67=\"\",\"\",'Dados Cadastrais'!A67)","v":""},{"$f":"IF('Dados Cadastrais'!B67=\"\",\"\",'Dados Cadastrais'!B67)","v":""}]
[null,{"$f":"IF('Dados Cadastrais'!A68=\"\",\"\",'Dados Cadastrais'!A68)","v":""},{"$f":"IF('Dados Cadastrais'!B68=\"\",\"\",'Dados Cadastrais'!B68)","v":""}]
[null,{"$f":"IF('Dados Cadastrais'!A69=\"\",\"\",'Dados Cadastrais'!A69)","v":""},{"$f":"IF('Dados Cadastrais'!B69=\"\",\"\",'Dados Cadastrais'!B69)","v":""}]
[null,{"$f":"IF('Dados Cadastrais'!A70=\"\",\"\",'Dados Cadastrais'!A70)","v":""},{"$f":"IF('Dados Cadastrais'!B70=\"\",\"\",'Dados Cadastrais'!B70)","v":""}]
[null,{"$f":"IF('Dados Cadastrais'!A71=\"\",\"\",'Dados Cadastrais'!A71)","v":""},{"$f":"IF('Dados Cadastrais'!B71=\"\",\"\",'Dados Cadastrais'!B71)","v":""}]
[null,{"$f":"IF('Dados Cadastrais'!A72=\"\",\"\",'Dados Cadastrais'!A72)","v":""},{"$f":"IF('Dados Cadastrais'!B72=\"\",\"\",'Dados Cadastrais'!B72)","v":""}]
[null,{"$f":"IF('Dados Cadastrais'!A73=\"\",\"\",'Dados Cadastrais'!A73)","v":""},{"$f":"IF('Dados Cadastrais'!B73=\"\",\"\",'Dados Cadastrais'!B73)","v":""}]
[null,{"$f":"IF('Dados Cadastrais'!A74=\"\",\"\",'Dados Cadastrais'!A74)","v":""},{"$f":"IF('Dados Cadastrais'!B74=\"\",\"\",'Dados Cadastrais'!B74)","v":""}]
[null,{"$f":"IF('Dados Cadastrais'!A75=\"\",\"\",'Dados Cadastrais'!A75)","v":""},{"$f":"IF('Dados Cadastrais'!B75=\"\",\"\",'Dados Cadastrais'!B75)","v":""}]
[null,{"$f":"IF('Dados Cadastrais'!A76=\"\",\"\",'Dados Cadastrais'!A76)","v":""},{"$f":"IF('Dados Cadastrais'!B76=\"\",\"\",'Dados Cadastrais'!B76)","v":""}]
[null,{"$f":"IF('Dados Cadastrais'!A77=\"\",\"\",'Dados Cadastrais'!A77)","v":""},{"$f":"IF('Dados Cadastrais'!B77=\"\",\"\",'Dados Cadastrais'!B77)","v":""}]