{"text_format":"1","workbook":"xlsx","n_sheets":5,"sheets":["Dados Cadastrais","FONTE 1","FONTE 2","FONTE 3","FONTE 4"],"not_rendered":{"charts":0,"images":616,"macros":1,"external_links":0,"defined_names":773,"comments":0,"pivot_tables":0},"unopened":[],"bounds":{"document_bytes":16777216,"sheet_cells":100000,"rows_first":2000,"rows_last":500,"rows_between":2000,"halvings":0,"cell_chars":16384,"cell_head_chars":4096},"cells_cut":0,"cells_raw":0,"read":"whole","date_system":"1900"}

{"sheet":"Dados Cadastrais","index":0,"n_rows":61,"n_cols":25,"rows_kept":61,"cut":false,"hidden":false,"merged":[[51,1,51,13],[52,1,52,13],[60,1,60,13],[54,1,54,13],[55,1,55,13],[56,1,56,13],[57,1,57,13],[58,1,58,13],[59,1,59,13],[53,1,53,13],[41,0,41,2],[41,11,41,12],[42,11,42,12],[44,6,44,9],[44,10,44,11],[38,9,38,12],[39,0,39,4],[39,6,39,9],[39,11,39,12],[40,11,40,12],[48,1,48,3],[49,1,49,13],[50,1,50,13],[37,0,37,13],[35,0,35,2],[35,3,35,6],[35,7,35,8],[35,9,35,10],[35,11,35,12],[36,0,36,2],[36,3,36,6],[36,7,36,8],[36,9,36,10],[36,11,36,12],[45,6,45,13],[38,0,38,1],[33,14,33,16],[34,0,34,2],[34,3,34,6],[34,7,34,8],[34,9,34,10],[34,11,34,12],[31,0,31,13],[33,0,33,2],[33,3,33,6],[33,7,33,8],[33,9,33,10],[33,11,33,12],[29,0,29,1],[29,2,29,7],[29,10,29,11],[30,0,30,1],[30,2,30,7],[30,10,30,11],[27,15,27,17],[28,0,28,1],[28,2,28,7],[28,10,28,11],[18,0,19,3],[20,0,20,1],[20,2,20,3],[21,0,21,13],[25,0,25,13],[27,0,27,1],[27,2,27,7],[27,10,27,11],[10,15,10,17],[11,0,11,13],[12,0,12,1],[14,0,14,3],[14,7,14,11],[15,10,16,12],[16,0,16,2],[7,0,7,13],[8,1,8,2],[8,7,8,13],[9,0,9,13],[10,0,10,1],[10,2,10,3],[10,7,10,8],[10,11,10,13],[6,1,6,4],[6,6,6,8],[6,9,6,13],[0,0,0,2],[2,1,2,13],[3,0,3,13],[4,1,4,13],[5,0,5,13]]}
["DADOS CADASTRAIS",null,null,null,null,null,null,null,null,null,null,null,null,null,null,null,null,null,null,null,null,null,null,null,"Dados Cadastrais"]
[]
["Razão Social:"]
[]
["Endereço:"]
[]
["Município:",null,null,null,null,"UF: SP","Nome do Responsável\npelo preenchimento:"]
[]
["Telefone:",null,null,"Ramal: ",null,null,"e-mail:"]
[]
["Número   da   Licença\nde Operação Vigente:",null,null,null,null,null,"Data do vencimento:","       /     /      ",null,null,"Processo:"]
[]
["Atividade  principal:"]
[]
["Passou por alteração no processo produtivo, incluindo ampliação nos últimos 05 anos?",null,null,null,null,null,null,"Está em período de renovação da L.O.?"]
[null,null,null,null,null,null,null,null,null,null,"\nAtividades de Pintura:"]
["Há processos de licencimento\nem andamento?"]
[null,null,null,null,null,null,null,null,null,null,null,null,""]
["Possui  Estudo  de  Dispersão  Atmosférica\njá apresentado à CETESB?"]
[]
["Data da apresentação: ",null,"        /      /    "]
[{"$f":"CONCATENATE(Campo_Razao_Social,\"   -   \",Campo_Endereco,\", \",Campo_Municipio,\" - SP   \")","v":"   -   ,  - SP   "}]
[]
[]
[]
["DADOS DE CHAMINÉ"]
[]
["Identificação da Chaminé ",null,"Fontes de poluição com emissão direcionadas a chaminé",null,null,null,null,null,"Altura (m)","Diâmetro interno (m)","Coordenada  UTM-N\n(m)",null,"Coordenada  UTM-E\n(m)","Vazão\n(Nm³/h)",null,"<< Exclui a última linha da tabela\n \n \n<< Adiciona linhas na tabela"]
[]
[]
[]
["DADOS DE ARMAZENAMENTO"]
[]
["Tanque de armazenamento",null,null,"Produto armazenado",null,null,null,"Tipo ",null,"Teto",null,"Movimentação anual\n(m³/ano)",null,null,"\n<< Exclui a última linha da tabela\n \n<< Adiciona linhas na tabela"]
[]
[]
[]
["OPERAÇÕES DE PINTURA CONTROLADAS"]
[]
["Possui captação dos efluentes gasosos no:",null,null,null,null,null,"Tipos de solvente:",null,null,null,null,{"$f":"IF(OR(Status_tinta_base_agua=1,Status_tinta_base_solvente=1,Status_utiliza_verniz=1),\"Consumo:\",\"\")","v":""}]
[null,null,null,null,null,null,null,null,null,null,null,null,null,null,0]
[null,null,null,null,null,null,null,null,null,null,null,null,null,null,0]
[null,null,null,null,null,null,null,null,null,null,null,null,null,null,0]
[]
[null,null,null,null,null,null,"Estimativa de emissão de COV:"]
[null,null,null,null,null,null,"Há aproveitamento energético dos gases residuais dos processos de pintura?"]
[]
[]
["Versão 1.0",{"$f":"IF(A49=\"Versão 1.0\",\"\",\"Alterações Realizadas:\")","v":""}]
[{"$f":"IF(B50=\"\",\"\",\"-\")","v":""}]
[{"$f":"IF(B51=\"\",\"\",\"-\")","v":""}]
[""]
[""]
[""]
[""]
[""]
[""]
[""]
[""]
[""]
[""]

{"sheet":"FONTE 1","index":1,"n_rows":132,"n_cols":25,"rows_kept":132,"cut":false,"hidden":false,"merged":[[6,7,7,7],[6,8,7,11],[6,12,7,14],[6,15,7,16],[6,17,7,19],[6,20,7,21],[0,0,0,5],[0,6,0,8],[2,0,2,2],[2,3,2,14],[2,17,2,21],[4,0,4,5],[4,6,4,21],[12,20,13,21],[12,4,12,6],[12,7,13,7],[12,8,13,11],[12,12,13,14],[12,15,13,16],[12,17,13,19],[8,20,9,21],[10,4,10,6],[10,7,11,7],[10,8,11,11],[10,12,11,14],[10,15,11,16],[10,17,11,19],[10,20,11,21],[8,0,8,4],[8,7,9,7],[8,8,9,11],[8,12,9,14],[8,15,9,16],[8,17,9,19],[19,0,19,3],[19,4,19,5],[19,9,19,10],[19,15,19,20],[21,0,21,4],[21,10,21,13],[14,5,15,6],[14,7,15,11],[14,12,15,14],[14,15,15,16],[14,17,15,19],[14,20,15,21],[16,0,17,21],[34,1,34,7],[34,16,34,19],[34,20,34,21],[36,1,36,7],[36,16,36,19],[36,20,36,21],[23,8,24,9],[24,0,24,3],[24,4,24,6],[24,18,24,20],[26,0,26,21],[32,16,32,19],[32,20,32,21],[41,0,41,6],[42,1,42,7],[42,16,42,19],[42,20,42,21],[45,0,45,6],[46,1,46,7],[46,15,46,16],[38,1,38,7],[38,16,38,19],[38,20,38,21],[40,1,40,7],[40,16,40,19],[40,20,40,21],[47,0,47,6],[48,1,48,7],[48,15,48,16],[50,1,50,7],[50,15,50,16],[52,1,52,7],[52,15,52,16],[64,7,64,8],[64,10,64,11],[56,0,56,16],[62,10,62,12],[62,13,62,16],[54,0,54,20],[56,18,56,19],[58,0,58,2],[58,3,58,6],[59,1,61,3],[59,4,61,6],[59,7,59,8],[59,10,59,12],[59,13,59,16],[59,17,59,18],[59,19,59,20],[60,7,60,8],[60,10,60,11],[60,13,61,14],[60,15,61,16],[60,17,61,18],[60,19,61,20],[61,7,61,8],[61,10,61,11],[59,0,70,0],[65,1,67,3],[65,4,67,6],[62,1,64,3],[62,4,64,6],[62,7,62,8],[62,17,62,18],[65,19,65,20],[66,7,66,8],[66,10,66,11],[66,13,67,14],[66,15,67,16],[66,17,67,18],[66,19,67,20],[67,7,67,8],[67,10,67,11],[65,13,65,16],[65,17,65,18],[62,19,62,20],[63,7,63,8],[63,10,63,11],[63,13,64,14],[63,15,64,16],[63,17,64,18],[63,19,64,20],[65,7,65,8],[65,10,65,12],[76,13,76,14],[76,16,76,17],[79,2,79,3],[79,9,79,12],[79,18,79,19],[68,19,68,20],[69,7,69,8],[69,10,69,11],[69,13,70,14],[69,15,70,16],[69,17,70,18],[69,19,70,20],[70,7,70,8],[70,10,70,11],[68,1,70,3],[68,4,70,6],[68,7,68,8],[68,10,68,12],[68,13,68,16],[68,17,68,18],[75,7,75,8],[74,13,74,20],[75,0,77,3],[101,7,101,8],[101,16,101,19],[103,13,103,14],[103,16,103,17],[108,16,108,19],[81,16,81,17],[85,2,85,3],[85,16,85,21],[87,13,87,19],[95,2,95,3],[96,19,96,20],[97,19,97,20],[95,17,95,20],[97,10,97,13],[80,0,83,3],[87,0,90,3],[96,0,99,2],[102,0,105,3],[108,0,111,3],[113,2,113,3],[113,4,113,6],[113,7,113,8],[109,13,109,14],[109,16,109,17],[112,2,112,3],[112,4,112,6],[112,7,112,8],[131,2,131,21],[125,2,125,21],[126,2,126,21],[127,2,127,21],[128,2,128,21],[129,2,129,21],[130,2,130,21],[119,2,119,8],[120,2,120,21],[121,2,121,21],[122,2,122,21],[123,2,123,21],[124,2,124,21]]}
["COMBUSTÍVEL:  ",null,null,null,null,null,null,null,null,null,null,null,null,null,null,null,null,null,null,null,null,null,null,null,"FONTE 1"]
[]
["Identificação\nda Fonte:",null,null,"",null,null,null,null,null,null,null,null,null,null,null,null,"TAG:",null,null,null,null,null,null,null,{"$f":"'FONTE 2'!Y3","v":"FONTE 2"}]
[]
["Local  (utilidades  ou qual  setor produtivo):",null,null,null,null,null,"",null,null,null,null,null,null,null,null,null,null,null,null,null,null,null,null,null,{"$f":"'FONTE 3'!Y5","v":"FONTE 3"}]
[]
[null,null,null,null,null,null,null,null,null,null,null,null,null,null,null,null,null,null,null,null,null,null,null,null,{"$f":"'FONTE 4'!Y7","v":"FONTE 4"}]
[]
[null,null,null,null,null,null,null,null,""]
[]
[null,null,null,null,null,null,null,null,""]
[]
[null,null,null,null,null,null,null,null,""]
[]
[null,null,null,null,null,null,null,""]
[]
["Para fundição de peças metálicas, utilizar a Planilha para Siderurgia e Metalurgia.\nPara as fontes Caldeira, Forno, Secador, Gerador de Energia e Aquecedor de Fluído Térmico, preencher a Planilha de Combustão."]
[]
[]
["Funcionamento:",null,null,null,null,null,"dias/mês",null,null,"horas/dia"]
[]
["Produção Sazonal:"]
[]
[]
[]
[{"$f":"'Dados Cadastrais'!A49","v":"Versão 1.0"}]
[{"$f":"IF('Dados Cadastrais'!B3=\"\",\"\",(CONCATENATE('Dados Cadastrais'!B3,\"   -   \",'Dados Cadastrais'!B5,\", \",'Dados Cadastrais'!B7,\" - SP\",\"    ||    TAG: \",Campo_TAG,\"            \")))","v":""}]
[]
[]
[]
[]
[]
[]
[]
[]
[]
[]
[]
[]
[]
[]
[]
[]
[]
[]
[]
[]
[]
[]
[]
[]
[]
[]
[]
[]
[]
["EMISSÕES",null,null,null,null,null,null,null,null,null,null,null,null,null,null,null,null,null,"CORREÇÃO\nDE O2: "]
[]
[]
["P O L U E N T E","MP"]
[]
[]
[null,"SOx"]
[]
[]
[null,"NOx"]
[]
[]
[null,"HCNM"]
[]
[]
[]
[]
[]
[]
[]
[]
[]
[]
[]
[]
[]
[]
[]
[]
[null,null,null,null,null,null,null,null,null,null,null,null,null,null,null,null,null,null,null,null,null,null,0]
[null,null,null,null,null,null,null,null,null,null,null,null,null,null,null,null,null,null,null,null,null,null,0]
[null,null,null,null,null,null,null,null,null,null,null,null,null,null,null,null,null,null,null,null,null,null,0]
[]
[null,null,null,null,null,null,null,null,null,null,null,null,null,null,null,null,null,null,null,null,null,null,0]
[]
[null,null,null,null,null,null,null,null,null,null,null,null,null,null,null,null,null,null,null,null,null,null,1]
[]
[]
[]
[]
[]
[null,null,null,null,null,null,null,null,null,null,null,null,null,null,null,null,null,null,null,null,null,null,0]
[]
[]
[]
[null,null,null,null,null,null,null,null,null,null,null,null,null,null,null,null,null,null,null,null,null,null,0]
[]
[]
[]
[]
[]
[]
[]
[]
[]
[]
[]
[]
["OBSERVAÇÕES GERAIS:"]
[]
[]
["NÃO ULTRAPASSAR OS LIMITES DA CAIXA DE TEXTO."]
[]
[{"$f":"'Dados Cadastrais'!A49","v":"Versão 1.0"},null,{"$f":"IF('Dados Cadastrais'!A49=\"Versão 1.0\",\"\",'Dados Cadastrais'!B49:D49)","v":""}]
[null,{"$f":"IF('Dados Cadastrais'!A50=\"\",\"\",'Dados Cadastrais'!A50)","v":""},{"$f":"IF('Dados Cadastrais'!B50:N50=\"\",\"\",'Dados Cadastrais'!B50:N50)","v":""}]
[null,{"$f":"IF('Dados Cadastrais'!A51=\"\",\"\",'Dados Cadastrais'!A51)","v":""},{"$f":"IF('Dados Cadastrais'!B51:N51=\"\",\"\",'Dados Cadastrais'!B51:N51)","v":""}]
[null,{"$f":"IF('Dados Cadastrais'!A52=\"\",\"\",'Dados Cadastrais'!A52)","v":""},{"$f":"IF('Dados Cadastrais'!B52:N52=\"\",\"\",'Dados Cadastrais'!B52:N52)","v":""}]
[null,{"$f":"IF('Dados Cadastrais'!A53=\"\",\"\",'Dados Cadastrais'!A53)","v":""},{"$f":"IF('Dados Cadastrais'!B53:N53=\"\",\"\",'Dados Cadastrais'!B53:N53)","v":""}]
[null,{"$f":"IF('Dados Cadastrais'!A54=\"\",\"\",'Dados Cadastrais'!A54)","v":""},{"$f":"IF('Dados Cadastrais'!B54:N54=\"\",\"\",'Dados Cadastrais'!B54:N54)","v":""}]
[null,{"$f":"IF('Dados Cadastrais'!A55=\"\",\"\",'Dados Cadastrais'!A55)","v":""},{"$f":"IF('Dados Cadastrais'!B55:N55=\"\",\"\",'Dados Cadastrais'!B55:N55)","v":""}]
[null,{"$f":"IF('Dados Cadastrais'!A56=\"\",\"\",'Dados Cadastrais'!A56)","v":""},{"$f":"IF('Dados Cadastrais'!B56:N56=\"\",\"\",'Dados Cadastrais'!B56:N56)","v":""}]
[null,{"$f":"IF('Dados Cadastrais'!A57=\"\",\"\",'Dados Cadastrais'!A57)","v":""},{"$f":"IF('Dados Cadastrais'!B57:N57=\"\",\"\",'Dados Cadastrais'!B57:N57)","v":""}]
[null,{"$f":"IF('Dados Cadastrais'!A58=\"\",\"\",'Dados Cadastrais'!A58)","v":""},{"$f":"IF('Dados Cadastrais'!B58:N58=\"\",\"\",'Dados Cadastrais'!B58:N58)","v":""}]
[null,{"$f":"IF('Dados Cadastrais'!A59=\"\",\"\",'Dados Cadastrais'!A59)","v":""},{"$f":"IF('Dados Cadastrais'!B59:N59=\"\",\"\",'Dados Cadastrais'!B59:N59)","v":""}]
[null,{"$f":"IF('Dados Cadastrais'!A60=\"\",\"\",'Dados Cadastrais'!A60)","v":""},{"$f":"IF('Dados Cadastrais'!B60:N60=\"\",\"\",'Dados Cadastrais'!B60:N60)","v":""}]
[null,{"$f":"IF('Dados Cadastrais'!A61=\"\",\"\",'Dados Cadastrais'!A61)","v":""},{"$f":"IF('Dados Cadastrais'!B61:N61=\"\",\"\",'Dados Cadastrais'!B61:N61)","v":""}]

{"sheet":"FONTE 2","index":2,"n_rows":132,"n_cols":25,"rows_kept":132,"cut":false,"hidden":true,"merged":[[96,0,99,2],[102,0,105,3],[108,0,111,3],[65,7,65,8],[68,1,70,3],[59,10,59,12],[60,7,60,8],[61,7,61,8],[69,10,69,11],[66,7,66,8],[67,7,67,8],[61,10,61,11],[75,7,75,8],[85,2,85,3],[95,2,95,3],[79,2,79,3],[130,2,130,21],[68,10,68,12],[68,13,68,16],[62,4,64,6],[69,13,70,14],[69,15,70,16],[65,1,67,3],[65,4,67,6],[65,10,65,12],[62,1,64,3],[68,4,70,6],[62,17,62,18],[68,17,68,18],[76,16,76,17],[68,19,68,20],[127,2,127,21],[128,2,128,21],[129,2,129,21],[64,10,64,11],[109,16,109,17],[101,16,101,19],[75,0,77,3],[80,0,83,3],[87,0,90,3],[131,2,131,21],[69,7,69,8],[70,7,70,8],[68,7,68,8],[119,2,119,8],[120,2,120,21],[121,2,121,21],[122,2,122,21],[123,2,123,21],[124,2,124,21],[125,2,125,21],[126,2,126,21],[103,16,103,17],[69,17,70,18],[113,2,113,3],[113,4,113,6],[113,7,113,8],[112,2,112,3],[112,4,112,6],[112,7,112,8],[101,7,101,8],[103,13,103,14],[79,9,79,12],[81,16,81,17],[79,18,79,19],[95,17,95,20],[97,10,97,13],[109,13,109,14],[63,13,64,14],[52,15,52,16],[42,16,42,19],[46,15,46,16],[76,13,76,14],[69,19,70,20],[70,10,70,11],[108,16,108,19],[56,18,56,19],[66,10,66,11],[66,13,67,14],[66,15,67,16],[66,17,67,18],[66,19,67,20],[67,10,67,11],[65,17,65,18],[65,13,65,16],[62,19,62,20],[74,13,74,20],[96,19,96,20],[97,19,97,20],[58,3,58,6],[63,10,63,11],[48,1,48,7],[63,19,64,20],[59,13,59,16],[63,15,64,16],[56,0,56,16],[48,15,48,16],[50,15,50,16],[59,1,61,3],[59,4,61,6],[62,10,62,12],[62,13,62,16],[59,7,59,8],[63,7,63,8],[64,7,64,8],[62,7,62,8],[52,1,52,7],[59,19,59,20],[85,16,85,21],[87,13,87,19],[59,17,59,18],[60,13,61,14],[60,15,61,16],[60,17,61,18],[60,19,61,20],[40,1,40,7],[40,16,40,19],[47,0,47,6],[45,0,45,6],[46,1,46,7],[50,1,50,7],[58,0,58,2],[59,0,70,0],[60,10,60,11],[63,17,64,18],[65,19,65,20],[38,20,38,21],[34,1,34,7],[23,8,24,9],[38,1,38,7],[38,16,38,19],[24,18,24,20],[41,0,41,6],[42,1,42,7],[42,20,42,21],[40,20,40,21],[36,1,36,7],[36,20,36,21],[36,16,36,19],[26,0,26,21],[34,16,34,19],[24,4,24,6],[34,20,34,21],[32,20,32,21],[24,0,24,3],[32,16,32,19],[10,12,11,14],[12,12,13,14],[14,17,15,19],[14,20,15,21],[10,15,11,16],[12,15,13,16],[8,20,9,21],[10,20,11,21],[12,17,13,19],[8,15,9,16],[0,0,0,5],[2,17,2,21],[4,0,4,5],[4,6,4,21],[6,20,7,21],[2,0,2,2],[2,3,2,14],[6,7,7,7],[0,6,0,8],[6,15,7,16],[6,8,7,11],[6,12,7,14],[6,17,7,19],[8,0,8,4],[8,8,9,11],[8,7,9,7],[10,4,10,6],[12,4,12,6],[10,7,11,7],[21,0,21,4],[21,10,21,13],[19,15,19,20],[19,4,19,5],[19,9,19,10],[14,15,15,16],[19,0,19,3],[14,5,15,6],[14,12,15,14],[14,7,15,11],[10,8,11,11],[12,8,13,11],[12,7,13,7],[16,0,17,21],[12,20,13,21],[8,12,9,14],[8,17,9,19],[10,17,11,19]]}
["COMBUSTÍVEL:  ",null,null,null,null,null,null,null,null,null,null,null,null,null,null,null,null,null,null,null,null,null,null,null,{"$f":"'FONTE 1'!Y1","v":"FONTE 1"}]
[]
["Identificação\nda Fonte:",null,null,"",null,null,null,null,null,null,null,null,null,null,null,null,"TAG:",null,null,null,null,null,null,null,"FONTE 2"]
[]
["Local  (utilidades  ou qual  setor produtivo):",null,null,null,null,null,"",null,null,null,null,null,null,null,null,null,null,null,null,null,null,null,null,null,{"$f":"'FONTE 3'!Y5","v":"FONTE 3"}]
[]
[null,null,null,null,null,null,null,null,null,null,null,null,null,null,null,null,null,null,null,null,null,null,null,null,{"$f":"'FONTE 4'!Y7","v":"FONTE 4"}]
[]
[null,null,null,null,null,null,null,null,""]
[]
[null,null,null,null,null,null,null,null,""]
[]
[null,null,null,null,null,null,null,null,""]
[]
[null,null,null,null,null,null,null,""]
[]
["Para fundição de peças metálicas, utilizar a Planilha para Siderurgia e Metalurgia.\nPara as fontes Caldeira, Forno, Secador, Gerador de Energia e Aquecedor de Fluído Térmico, preencher a Planilha de Combustão."]
[]
[]
["Funcionamento:",null,null,null,null,null,"dias/mês",null,null,"horas/dia"]
[]
["Produção Sazonal:"]
[]
[]
[]
[{"$f":"'Dados Cadastrais'!A49","v":"Versão 1.0"}]
[{"$f":"IF('Dados Cadastrais'!B3=\"\",\"\",(CONCATENATE('Dados Cadastrais'!B3,\"   -   \",'Dados Cadastrais'!B5,\", \",'Dados Cadastrais'!B7,\" - SP\",\"    ||    TAG: \",Campo_TAG,\"            \")))","v":""}]
[]
[]
[]
[]
[]
[]
[]
[]
[]
[]
[]
[]
[]
[]
[]
[]
[]
[]
[]
[]
[]
[]
[]
[]
[]
[]
[]
[{"$f":"'Dados Cadastrais'!A49","v":"Versão 1.0"}]
[]
["EMISSÕES",null,null,null,null,null,null,null,null,null,null,null,null,null,null,null,null,null,"CORREÇÃO\nDE O2: "]
[]
[]
["P O L U E N T E","MP"]
[]
[]
[null,"SOx"]
[]
[]
[null,"NOx"]
[]
[]
[null,"HCNM"]
[]
[]
[]
[]
[]
[null,null,null,null,null,null,null,null,null,null,null,null,null,null,null,null,null,null,null,null,null,null,0]
[]
[]
[]
[]
[]
[]
[]
[]
[]
[]
[null,null,null,null,null,null,null,null,null,null,null,null,null,null,null,null,null,null,null,null,null,null,0]
[null,null,null,null,null,null,null,null,null,null,null,null,null,null,null,null,null,null,null,null,null,null,0]
[null,null,null,null,null,null,null,null,null,null,null,null,null,null,null,null,null,null,null,null,null,null,0]
[]
[null,null,null,null,null,null,null,null,null,null,null,null,null,null,null,null,null,null,null,null,null,null,0]
[]
[null,null,null,null,null,null,null,null,null,null,null,null,null,null,null,null,null,null,null,null,null,null,1]
[]
[]
[]
[]
[]
[null,null,null,null,null,null,null,null,null,null,null,null,null,null,null,null,null,null,null,null,null,null,0]
[]
[]
[]
[null,null,null,null,null,null,null,null,null,null,null,null,null,null,null,null,null,null,null,null,null,null,0]
[]
[]
[]
[]
[]
[]
[]
[]
[]
[]
[]
[]
["OBSERVAÇÕES GERAIS:"]
[]
[]
["NÃO ULTRAPASSAR OS LIMITES DA CAIXA DE TEXTO."]
[]
[{"$f":"'Dados Cadastrais'!A49","v":"Versão 1.0"},null,{"$f":"IF('Dados Cadastrais'!A49=\"Versão 1.0\",\"\",'Dados Cadastrais'!B49:D49)","v":""}]
[null,{"$f":"IF('Dados Cadastrais'!A50=\"\",\"\",'Dados Cadastrais'!A50)","v":""},{"$f":"IF('Dados Cadastrais'!B50:N50=\"\",\"\",'Dados Cadastrais'!B50:N50)","v":""}]
[null,{"$f":"IF('Dados Cadastrais'!A51=\"\",\"\",'Dados Cadastrais'!A51)","v":""},{"$f":"IF('Dados Cadastrais'!B51:N51=\"\",\"\",'Dados Cadastrais'!B51:N51)","v":""}]
[null,{"$f":"IF('Dados Cadastrais'!A52=\"\",\"\",'Dados Cadastrais'!A52)","v":""},{"$f":"IF('Dados Cadastrais'!B52:N52=\"\",\"\",'Dados Cadastrais'!B52:N52)","v":""}]
[null,{"$f":"IF('Dados Cadastrais'!A53=\"\",\"\",'Dados Cadastrais'!A53)","v":""},{"$f":"IF('Dados Cadastrais'!B53:N53=\"\",\"\",'Dados Cadastrais'!B53:N53)","v":""}]
[null,{"$f":"IF('Dados Cadastrais'!A54=\"\",\"\",'Dados Cadastrais'!A54)","v":""},{"$f":"IF('Dados Cadastrais'!B54:N54=\"\",\"\",'Dados Cadastrais'!B54:N54)","v":""}]
[null,{"$f":"IF('Dados Cadastrais'!A55=\"\",\"\",'Dados Cadastrais'!A55)","v":""},{"$f":"IF('Dados Cadastrais'!B55:N55=\"\",\"\",'Dados Cadastrais'!B55:N55)","v":""}]
[null,{"$f":"IF('Dados Cadastrais'!A56=\"\",\"\",'Dados Cadastrais'!A56)","v":""},{"$f":"IF('Dados Cadastrais'!B56:N56=\"\",\"\",'Dados Cadastrais'!B56:N56)","v":""}]
[null,{"$f":"IF('Dados Cadastrais'!A57=\"\",\"\",'Dados Cadastrais'!A57)","v":""},{"$f":"IF('Dados Cadastrais'!B57:N57=\"\",\"\",'Dados Cadastrais'!B57:N57)","v":""}]
[null,{"$f":"IF('Dados Cadastrais'!A58=\"\",\"\",'Dados Cadastrais'!A58)","v":""},{"$f":"IF('Dados Cadastrais'!B58:N58=\"\",\"\",'Dados Cadastrais'!B58:N58)","v":""}]
[null,{"$f":"IF('Dados Cadastrais'!A59=\"\",\"\",'Dados Cadastrais'!A59)","v":""},{"$f":"IF('Dados Cadastrais'!B59:N59=\"\",\"\",'Dados Cadastrais'!B59:N59)","v":""}]
[null,{"$f":"IF('Dados Cadastrais'!A60=\"\",\"\",'Dados Cadastrais'!A60)","v":""},{"$f":"IF('Dados Cadastrais'!B60:N60=\"\",\"\",'Dados Cadastrais'!B60:N60)","v":""}]
[null,{"$f":"IF('Dados Cadastrais'!A61=\"\",\"\",'Dados Cadastrais'!A61)","v":""},{"$f":"IF('Dados Cadastrais'!B61:N61=\"\",\"\",'Dados Cadastrais'!B61:N61)","v":""}]

{"sheet":"FONTE 3","index":3,"n_rows":132,"n_cols":25,"rows_kept":132,"cut":false,"hidden":true,"merged":[[14,15,15,16],[6,7,7,7],[6,8,7,11],[6,12,7,14],[6,15,7,16],[6,17,7,19],[8,7,9,7],[8,8,9,11],[8,12,9,14],[8,15,9,16],[8,17,9,19],[14,17,15,19],[6,20,7,21],[0,0,0,5],[0,6,0,8],[2,0,2,2],[2,3,2,14],[2,17,2,21],[4,0,4,5],[4,6,4,21],[12,20,13,21],[12,4,12,6],[12,7,13,7],[12,8,13,11],[12,12,13,14],[12,15,13,16],[12,17,13,19],[8,20,9,21],[10,4,10,6],[10,7,11,7],[10,8,11,11],[10,12,11,14],[10,15,11,16],[10,17,11,19],[10,20,11,21],[8,0,8,4],[14,20,15,21],[16,0,17,21],[34,1,34,7],[34,16,34,19],[34,20,34,21],[36,1,36,7],[36,16,36,19],[36,20,36,21],[23,8,24,9],[24,0,24,3],[24,4,24,6],[24,18,24,20],[26,0,26,21],[32,16,32,19],[32,20,32,21],[19,0,19,3],[19,4,19,5],[19,9,19,10],[19,15,19,20],[21,0,21,4],[21,10,21,13],[14,5,15,6],[14,7,15,11],[14,12,15,14],[41,0,41,6],[42,1,42,7],[42,16,42,19],[42,20,42,21],[45,0,45,6],[46,1,46,7],[46,15,46,16],[38,1,38,7],[38,16,38,19],[38,20,38,21],[40,1,40,7],[40,16,40,19],[40,20,40,21],[47,0,47,6],[48,1,48,7],[48,15,48,16],[50,1,50,7],[50,15,50,16],[52,1,52,7],[52,15,52,16],[64,7,64,8],[64,10,64,11],[56,0,56,16],[62,10,62,12],[62,13,62,16],[59,0,70,0],[65,1,67,3],[65,4,67,6],[62,1,64,3],[62,4,64,6],[62,7,62,8],[68,1,70,3],[68,4,70,6],[68,7,68,8],[68,10,68,12],[68,13,68,16],[69,7,69,8],[56,18,56,19],[58,0,58,2],[58,3,58,6],[59,1,61,3],[59,4,61,6],[59,7,59,8],[59,10,59,12],[59,13,59,16],[59,17,59,18],[59,19,59,20],[60,7,60,8],[60,10,60,11],[60,13,61,14],[60,15,61,16],[60,17,61,18],[60,19,61,20],[61,7,61,8],[61,10,61,11],[68,17,68,18],[62,17,62,18],[65,19,65,20],[66,7,66,8],[66,10,66,11],[66,13,67,14],[66,15,67,16],[66,17,67,18],[66,19,67,20],[67,7,67,8],[67,10,67,11],[65,13,65,16],[65,17,65,18],[62,19,62,20],[63,7,63,8],[63,10,63,11],[63,13,64,14],[63,15,64,16],[63,17,64,18],[68,19,68,20],[63,19,64,20],[65,7,65,8],[65,10,65,12],[69,10,69,11],[69,13,70,14],[69,15,70,16],[69,17,70,18],[69,19,70,20],[70,7,70,8],[70,10,70,11],[81,16,81,17],[85,2,85,3],[85,16,85,21],[75,7,75,8],[74,13,74,20],[75,0,77,3],[80,0,83,3],[87,13,87,19],[95,2,95,3],[76,13,76,14],[76,16,76,17],[79,2,79,3],[79,9,79,12],[79,18,79,19],[109,13,109,14],[109,16,109,17],[95,17,95,20],[87,0,90,3],[96,0,99,2],[102,0,105,3],[108,0,111,3],[112,2,112,3],[112,4,112,6],[112,7,112,8],[101,7,101,8],[101,16,101,19],[103,13,103,14],[103,16,103,17],[108,16,108,19],[96,19,96,20],[97,19,97,20],[97,10,97,13],[113,2,113,3],[113,4,113,6],[113,7,113,8],[131,2,131,21],[125,2,125,21],[126,2,126,21],[127,2,127,21],[128,2,128,21],[129,2,129,21],[130,2,130,21],[119,2,119,8],[120,2,120,21],[121,2,121,21],[122,2,122,21],[123,2,123,21],[124,2,124,21]]}
["COMBUSTÍVEL:  ",null,null,null,null,null,null,null,null,null,null,null,null,null,null,null,null,null,null,null,null,null,null,null,{"$f":"'FONTE 1'!Y1","v":"FONTE 1"}]
[]
["Identificação\nda Fonte:",null,null,null,null,null,null,null,null,null,null,null,null,null,null,null,"TAG:",null,null,null,null,null,null,null,{"$f":"'FONTE 2'!Y3","v":"FONTE 2"}]
[]
["Local  (utilidades  ou qual  setor produtivo):",null,null,null,null,null,"",null,null,null,null,null,null,null,null,null,null,null,null,null,null,null,null,null,"FONTE 3"]
[]
[null,null,null,null,null,null,null,null,null,null,null,null,null,null,null,null,null,null,null,null,null,null,null,null,{"$f":"'FONTE 4'!Y7","v":"FONTE 4"}]
[]
[null,null,null,null,null,null,null,null,""]
[]
[null,null,null,null,null,null,null,null,""]
[]
[null,null,null,null,null,null,null,null,""]
[]
[null,null,null,null,null,null,null,""]
[]
["Para fundição de peças metálicas, utilizar a Planilha para Siderurgia e Metalurgia.\nPara as fontes Caldeira, Forno, Secador, Gerador de Energia e Aquecedor de Fluído Térmico, preencher a Planilha de Combustão."]
[]
[]
["Funcionamento:",null,null,null,null,null,"dias/mês",null,null,"horas/dia"]
[]
["Produção Sazonal:"]
[]
[]
[]
[{"$f":"'Dados Cadastrais'!A49","v":"Versão 1.0"}]
[{"$f":"IF('Dados Cadastrais'!B3=\"\",\"\",(CONCATENATE('Dados Cadastrais'!B3,\"   -   \",'Dados Cadastrais'!B5,\", \",'Dados Cadastrais'!B7,\" - SP\",\"    ||    TAG: \",Campo_TAG,\"            \")))","v":""}]
[]
[]
[]
[]
[]
[]
[]
[]
[]
[]
[]
[]
[]
[]
[]
[]
[]
[]
[]
[]
[]
[]
[]
[]
[]
[]
[]
[{"$f":"'Dados Cadastrais'!A49","v":"Versão 1.0"}]
[]
["EMISSÕES",null,null,null,null,null,null,null,null,null,null,null,null,null,null,null,null,null,"CORREÇÃO\nDE O2: "]
[]
[]
["P O L U E N T E","MP"]
[]
[]
[null,"SOx"]
[]
[]
[null,"NOx"]
[]
[]
[null,"HCNM"]
[]
[]
[]
[]
[]
[]
[]
[]
[]
[]
[]
[]
[]
[]
[]
[]
[null,null,null,null,null,null,null,null,null,null,null,null,null,null,null,null,null,null,null,null,null,null,0]
[null,null,null,null,null,null,null,null,null,null,null,null,null,null,null,null,null,null,null,null,null,null,0]
[null,null,null,null,null,null,null,null,null,null,null,null,null,null,null,null,null,null,null,null,null,null,0]
[]
[null,null,null,null,null,null,null,null,null,null,null,null,null,null,null,null,null,null,null,null,null,null,0]
[]
[null,null,null,null,null,null,null,null,null,null,null,null,null,null,null,null,null,null,null,null,null,null,1]
[]
[]
[]
[]
[]
[null,null,null,null,null,null,null,null,null,null,null,null,null,null,null,null,null,null,null,null,null,null,0]
[]
[]
[]
[null,null,null,null,null,null,null,null,null,null,null,null,null,null,null,null,null,null,null,null,null,null,0]
[]
[]
[]
[]
[]
[]
[]
[]
[]
[]
[]
[]
["OBSERVAÇÕES GERAIS:"]
[]
[]
["NÃO ULTRAPASSAR OS LIMITES DA CAIXA DE TEXTO."]
[]
[{"$f":"'Dados Cadastrais'!A49","v":"Versão 1.0"},null,{"$f":"IF('Dados Cadastrais'!A49=\"Versão 1.0\",\"\",'Dados Cadastrais'!B49:D49)","v":""}]
[null,{"$f":"IF('Dados Cadastrais'!A50=\"\",\"\",'Dados Cadastrais'!A50)","v":""},{"$f":"IF('Dados Cadastrais'!B50:N50=\"\",\"\",'Dados Cadastrais'!B50:N50)","v":""}]
[null,{"$f":"IF('Dados Cadastrais'!A51=\"\",\"\",'Dados Cadastrais'!A51)","v":""},{"$f":"IF('Dados Cadastrais'!B51:N51=\"\",\"\",'Dados Cadastrais'!B51:N51)","v":""}]
[null,{"$f":"IF('Dados Cadastrais'!A52=\"\",\"\",'Dados Cadastrais'!A52)","v":""},{"$f":"IF('Dados Cadastrais'!B52:N52=\"\",\"\",'Dados Cadastrais'!B52:N52)","v":""}]
[null,{"$f":"IF('Dados Cadastrais'!A53=\"\",\"\",'Dados Cadastrais'!A53)","v":""},{"$f":"IF('Dados Cadastrais'!B53:N53=\"\",\"\",'Dados Cadastrais'!B53:N53)","v":""}]
[null,{"$f":"IF('Dados Cadastrais'!A54=\"\",\"\",'Dados Cadastrais'!A54)","v":""},{"$f":"IF('Dados Cadastrais'!B54:N54=\"\",\"\",'Dados Cadastrais'!B54:N54)","v":""}]
[null,{"$f":"IF('Dados Cadastrais'!A55=\"\",\"\",'Dados Cadastrais'!A55)","v":""},{"$f":"IF('Dados Cadastrais'!B55:N55=\"\",\"\",'Dados Cadastrais'!B55:N55)","v":""}]
[null,{"$f":"IF('Dados Cadastrais'!A56=\"\",\"\",'Dados Cadastrais'!A56)","v":""},{"$f":"IF('Dados Cadastrais'!B56:N56=\"\",\"\",'Dados Cadastrais'!B56:N56)","v":""}]
[null,{"$f":"IF('Dados Cadastrais'!A57=\"\",\"\",'Dados Cadastrais'!A57)","v":""},{"$f":"IF('Dados Cadastrais'!B57:N57=\"\",\"\",'Dados Cadastrais'!B57:N57)","v":""}]
[null,{"$f":"IF('Dados Cadastrais'!A58=\"\",\"\",'Dados Cadastrais'!A58)","v":""},{"$f":"IF('Dados Cadastrais'!B58:N58=\"\",\"\",'Dados Cadastrais'!B58:N58)","v":""}]
[null,{"$f":"IF('Dados Cadastrais'!A59=\"\",\"\",'Dados Cadastrais'!A59)","v":""},{"$f":"IF('Dados Cadastrais'!B59:N59=\"\",\"\",'Dados Cadastrais'!B59:N59)","v":""}]
[null,{"$f":"IF('Dados Cadastrais'!A60=\"\",\"\",'Dados Cadastrais'!A60)","v":""},{"$f":"IF('Dados Cadastrais'!B60:N60=\"\",\"\",'Dados Cadastrais'!B60:N60)","v":""}]
[null,{"$f":"IF('Dados Cadastrais'!A61=\"\",\"\",'Dados Cadastrais'!A61)","v":""},{"$f":"IF('Dados Cadastrais'!B61:N61=\"\",\"\",'Dados Cadastrais'!B61:N61)","v":""}]

{"sheet":"FONTE 4","index":4,"n_rows":132,"n_cols":25,"rows_kept":132,"cut":false,"hidden":true,"merged":[[131,2,131,21],[125,2,125,21],[126,2,126,21],[127,2,127,21],[128,2,128,21],[129,2,129,21],[130,2,130,21],[119,2,119,8],[120,2,120,21],[121,2,121,21],[122,2,122,21],[123,2,123,21],[124,2,124,21],[113,2,113,3],[113,4,113,6],[113,7,113,8],[109,13,109,14],[109,16,109,17],[112,2,112,3],[112,4,112,6],[112,7,112,8],[108,0,111,3],[101,7,101,8],[101,16,101,19],[103,13,103,14],[103,16,103,17],[108,16,108,19],[81,16,81,17],[85,2,85,3],[85,16,85,21],[87,13,87,19],[95,2,95,3],[96,19,96,20],[97,19,97,20],[95,17,95,20],[97,10,97,13],[80,0,83,3],[87,0,90,3],[96,0,99,2],[102,0,105,3],[76,13,76,14],[76,16,76,17],[79,2,79,3],[79,9,79,12],[79,18,79,19],[68,19,68,20],[69,7,69,8],[69,10,69,11],[69,13,70,14],[69,15,70,16],[69,17,70,18],[69,19,70,20],[70,7,70,8],[70,10,70,11],[68,1,70,3],[68,4,70,6],[68,7,68,8],[68,10,68,12],[68,13,68,16],[68,17,68,18],[75,7,75,8],[74,13,74,20],[75,0,77,3],[62,17,62,18],[65,19,65,20],[66,7,66,8],[66,10,66,11],[66,13,67,14],[66,15,67,16],[66,17,67,18],[66,19,67,20],[67,7,67,8],[67,10,67,11],[65,13,65,16],[65,17,65,18],[62,19,62,20],[63,7,63,8],[63,10,63,11],[63,13,64,14],[63,15,64,16],[63,17,64,18],[63,19,64,20],[65,7,65,8],[65,10,65,12],[56,18,56,19],[58,0,58,2],[58,3,58,6],[59,1,61,3],[59,4,61,6],[59,7,59,8],[59,10,59,12],[59,13,59,16],[59,17,59,18],[59,19,59,20],[60,7,60,8],[60,10,60,11],[60,13,61,14],[60,15,61,16],[60,17,61,18],[60,19,61,20],[61,7,61,8],[61,10,61,11],[65,1,67,3],[65,4,67,6],[62,1,64,3],[62,4,64,6],[62,7,62,8],[47,0,47,6],[48,1,48,7],[48,15,48,16],[50,1,50,7],[50,15,50,16],[52,1,52,7],[52,15,52,16],[64,7,64,8],[64,10,64,11],[56,0,56,16],[62,10,62,12],[62,13,62,16],[59,0,70,0],[32,16,32,19],[32,20,32,21],[41,0,41,6],[42,1,42,7],[42,16,42,19],[42,20,42,21],[45,0,45,6],[46,1,46,7],[46,15,46,16],[38,1,38,7],[38,16,38,19],[38,20,38,21],[40,1,40,7],[40,16,40,19],[40,20,40,21],[19,15,19,20],[21,0,21,4],[21,10,21,13],[14,5,15,6],[14,7,15,11],[14,12,15,14],[14,15,15,16],[14,17,15,19],[14,20,15,21],[16,0,17,21],[0,0,0,5],[0,6,0,8],[2,0,2,2],[2,3,2,14],[2,17,2,21],[4,0,4,5],[4,6,4,21],[8,20,9,21],[10,4,10,6],[10,7,11,7],[10,8,11,11],[10,12,11,14],[10,15,11,16],[10,17,11,19],[10,20,11,21],[8,0,8,4],[8,7,9,7],[8,8,9,11],[8,12,9,14],[8,15,9,16],[8,17,9,19],[6,7,7,7],[6,8,7,11],[6,12,7,14],[6,15,7,16],[6,17,7,19],[6,20,7,21],[12,20,13,21],[34,1,34,7],[34,16,34,19],[34,20,34,21],[36,1,36,7],[36,16,36,19],[36,20,36,21],[23,8,24,9],[24,0,24,3],[24,4,24,6],[24,18,24,20],[26,0,26,21],[12,4,12,6],[12,7,13,7],[12,8,13,11],[12,12,13,14],[12,15,13,16],[12,17,13,19],[19,0,19,3],[19,4,19,5],[19,9,19,10]]}
["COMBUSTÍVEL:  ",null,null,null,null,null,null,null,null,null,null,null,null,null,null,null,null,null,null,null,null,null,null,null,{"$f":"'FONTE 1'!Y1","v":"FONTE 1"}]
[]
["Identificação\nda Fonte:",null,null,"",null,null,null,null,null,null,null,null,null,null,null,null,"TAG:",null,null,null,null,null,null,null,{"$f":"'FONTE 2'!Y3","v":"FONTE 2"}]
[]
["Local  (utilidades  ou qual  setor produtivo):",null,null,null,null,null,"",null,null,null,null,null,null,null,null,null,null,null,null,null,null,null,null,null,{"$f":"'FONTE 3'!Y5","v":"FONTE 3"}]
[]
[null,null,null,null,null,null,null,null,null,null,null,null,null,null,null,null,null,null,null,null,null,null,null,null,"FONTE 4"]
[]
[null,null,null,null,null,null,null,null,""]
[]
[null,null,null,null,null,null,null,null,""]
[]
[null,null,null,null,null,null,null,null,""]
[]
[null,null,null,null,null,null,null,""]
[]
["Para fundição de peças metálicas, utilizar a Planilha para Siderurgia e Metalurgia.\nPara as fontes Caldeira, Forno, Secador, Gerador de Energia e Aquecedor de Fluído Térmico, preencher a Planilha de Combustão."]
[]
[]
["Funcionamento:",null,null,null,null,null,"dias/mês",null,null,"horas/dia"]
[]
["Produção Sazonal:"]
[]
[]
[]
[{"$f":"'Dados Cadastrais'!A49","v":"Versão 1.0"}]
[{"$f":"IF('Dados Cadastrais'!B3=\"\",\"\",(CONCATENATE('Dados Cadastrais'!B3,\"   -   \",'Dados Cadastrais'!B5,\", \",'Dados Cadastrais'!B7,\" - SP\",\"    ||    TAG: \",Campo_TAG,\"            \")))","v":""}]
[]
[]
[]
[]
[]
[]
[]
[]
[]
[]
[]
[]
[]
[]
[]
[]
[]
[]
[]
[]
[]
[]
[]
[]
[]
[]
[]
[{"$f":"'Dados Cadastrais'!A49","v":"Versão 1.0"}]
[]
["EMISSÕES",null,null,null,null,null,null,null,null,null,null,null,null,null,null,null,null,null,"CORREÇÃO\nDE O2: "]
[]
[]
["P O L U E N T E","MP"]
[]
[]
[null,"SOx"]
[]
[]
[null,"NOx"]
[]
[]
[null,"HCNM"]
[]
[]
[]
[]
[]
[null,null,null,null,null,null,null,null,null,null,null,null,null,null,null,null,null,null,null,null,null,null,0]
[]
[]
[]
[]
[]
[]
[]
[]
[]
[]
[null,null,null,null,null,null,null,null,null,null,null,null,null,null,null,null,null,null,null,null,null,null,0]
[null,null,null,null,null,null,null,null,null,null,null,null,null,null,null,null,null,null,null,null,null,null,0]
[null,null,null,null,null,null,null,null,null,null,null,null,null,null,null,null,null,null,null,null,null,null,0]
[]
[null,null,null,null,null,null,null,null,null,null,null,null,null,null,null,null,null,null,null,null,null,null,0]
[]
[null,null,null,null,null,null,null,null,null,null,null,null,null,null,null,null,null,null,null,null,null,null,1]
[]
[]
[]
[]
[]
[null,null,null,null,null,null,null,null,null,null,null,null,null,null,null,null,null,null,null,null,null,null,0]
[]
[]
[]
[null,null,null,null,null,null,null,null,null,null,null,null,null,null,null,null,null,null,null,null,null,null,0]
[]
[]
[]
[]
[]
[]
[]
[]
[]
[]
[]
[]
["OBSERVAÇÕES GERAIS:"]
[]
[]
["NÃO ULTRAPASSAR OS LIMITES DA CAIXA DE TEXTO."]
[]
[{"$f":"'Dados Cadastrais'!A49","v":"Versão 1.0"},null,{"$f":"IF('Dados Cadastrais'!A49=\"Versão 1.0\",\"\",'Dados Cadastrais'!B49:D49)","v":""}]
[null,{"$f":"IF('Dados Cadastrais'!A50=\"\",\"\",'Dados Cadastrais'!A50)","v":""},{"$f":"IF('Dados Cadastrais'!B50:N50=\"\",\"\",'Dados Cadastrais'!B50:N50)","v":""}]
[null,{"$f":"IF('Dados Cadastrais'!A51=\"\",\"\",'Dados Cadastrais'!A51)","v":""},{"$f":"IF('Dados Cadastrais'!B51:N51=\"\",\"\",'Dados Cadastrais'!B51:N51)","v":""}]
[null,{"$f":"IF('Dados Cadastrais'!A52=\"\",\"\",'Dados Cadastrais'!A52)","v":""},{"$f":"IF('Dados Cadastrais'!B52:N52=\"\",\"\",'Dados Cadastrais'!B52:N52)","v":""}]
[null,{"$f":"IF('Dados Cadastrais'!A53=\"\",\"\",'Dados Cadastrais'!A53)","v":""},{"$f":"IF('Dados Cadastrais'!B53:N53=\"\",\"\",'Dados Cadastrais'!B53:N53)","v":""}]
[null,{"$f":"IF('Dados Cadastrais'!A54=\"\",\"\",'Dados Cadastrais'!A54)","v":""},{"$f":"IF('Dados Cadastrais'!B54:N54=\"\",\"\",'Dados Cadastrais'!B54:N54)","v":""}]
[null,{"$f":"IF('Dados Cadastrais'!A55=\"\",\"\",'Dados Cadastrais'!A55)","v":""},{"$f":"IF('Dados Cadastrais'!B55:N55=\"\",\"\",'Dados Cadastrais'!B55:N55)","v":""}]
[null,{"$f":"IF('Dados Cadastrais'!A56=\"\",\"\",'Dados Cadastrais'!A56)","v":""},{"$f":"IF('Dados Cadastrais'!B56:N56=\"\",\"\",'Dados Cadastrais'!B56:N56)","v":""}]
[null,{"$f":"IF('Dados Cadastrais'!A57=\"\",\"\",'Dados Cadastrais'!A57)","v":""},{"$f":"IF('Dados Cadastrais'!B57:N57=\"\",\"\",'Dados Cadastrais'!B57:N57)","v":""}]
[null,{"$f":"IF('Dados Cadastrais'!A58=\"\",\"\",'Dados Cadastrais'!A58)","v":""},{"$f":"IF('Dados Cadastrais'!B58:N58=\"\",\"\",'Dados Cadastrais'!B58:N58)","v":""}]
[null,{"$f":"IF('Dados Cadastrais'!A59=\"\",\"\",'Dados Cadastrais'!A59)","v":""},{"$f":"IF('Dados Cadastrais'!B59:N59=\"\",\"\",'Dados Cadastrais'!B59:N59)","v":""}]
[null,{"$f":"IF('Dados Cadastrais'!A60=\"\",\"\",'Dados Cadastrais'!A60)","v":""},{"$f":"IF('Dados Cadastrais'!B60:N60=\"\",\"\",'Dados Cadastrais'!B60:N60)","v":""}]
[null,{"$f":"IF('Dados Cadastrais'!A61=\"\",\"\",'Dados Cadastrais'!A61)","v":""},{"$f":"IF('Dados Cadastrais'!B61:N61=\"\",\"\",'Dados Cadastrais'!B61:N61)","v":""}]